Felt | Verdi |
AlreadyApplied | True |
Aperture | 5.6 |
ApertureValue (1) | 4.0 |
ApertureValue | 5.6 |
ApproximateFocusDistance | 9.44 |
AutoLateralCA | 1 |
AutoWhiteVersion | 134348800 |
BitsPerSample | 8 |
Blacks2012 | -21 |
BlueHue | 0 |
BlueSaturation | 0 |
CameraProfile | Camera Standard |
CFAPattern (1) |
CFAPattern | [Green,Red][Blue,Green] |
CircleOfConfusion | 0.020 mm |
Clarity2012 | 0 |
ColorComponents | 3 |
ColorNoiseReduction | 25 |
ColorNoiseReductionDetail | 50 |
ColorNoiseReductionSmoothness | 50 |
ColorSpace (1) | Unknown (Uncalibrated) |
ColorSpace | Uncalibrated |
ColorTemperature | 5500 |
Contrast (1) | Unknown (Normal) |
Contrast | Normal |
Contrast2012 | 0 |
ConvertToGrayscale | False |
CreateDate (1) | 2014:04:14 11:54:42.87 |
CreateDate | 2014:04:14 11:54:42 |
CreatorTool | Adobe Photoshop Lightroom 5.4 (Windows) |
CropAngle | 0 |
CropBottom | 0.999986 |
CropConstrainToWarp | 1 |
CropLeft | 0.000013 |
CropRight | 0.999987 |
CropTop | 0.109768 |
CustomRendered (1) | Unknown (Normal process) |
CustomRendered | Normal |
DateCreated | 2014:04:14 11:54:42.87 |
DateTime | 2014:04:18 23:21:35 |
DateTimeDigitized | 2014:04:14 11:54:42 |
DateTimeOriginal | 2014:04:14 11:54:42 |
DefringeGreenAmount | 0 |
DefringeGreenHueHi | 60 |
DefringeGreenHueLo | 40 |
DefringePurpleAmount | 0 |
DefringePurpleHueHi | 70 |
DefringePurpleHueLo | 30 |
DerivedFrom |
DigitalZoomRatio | 1 |
DOF | 0.22 m (9.33 - 9.55 m) |
Exposure2012 | +0.95 |
ExposureCompensation | 0 |
ExposureMode (1) | Unknown (Auto exposure) |
ExposureMode | Auto |
ExposureProgram (1) | Unknown (Aperture priority) |
ExposureProgram | Aperture-priority AE |
ExposureTime (1) | 1 |
ExposureTime | 1/1500 |
Flash (1) |
Flash | No Flash |
FNumber (1) | f/5,6 |
FNumber | 5.6 |
FocalLength | 300.0 mm |
FocalLength35efl | 300.0 mm (35 mm equivalent: 450.0 mm) |
FocalLengthIn35mmFormat | 450 mm |
Format | image/jpeg |
FOV | 4.6 deg |
GainControl (1) | Unknown (Low gain up) |
GainControl | Low gain up |
GrainAmount | 0 |
GreenHue | 0 |
GreenSaturation | 0 |
HasCrop | True |
HasSettings | True |
Highlights2012 | -100 |
HueAdjustmentAqua | 0 |
HueAdjustmentBlue | 0 |
HueAdjustmentGreen | 0 |
HueAdjustmentMagenta | 0 |
HueAdjustmentOrange | 0 |
HueAdjustmentPurple | 0 |
HueAdjustmentRed | 0 |
HueAdjustmentYellow | 0 |
HyperfocalDistance | 802.33 m |
ImageHeight | 2086 |
ImageNumber | 68944 |
ImageSize | 3500x2086 |
ImageWidth | 3500 |
ISO | 400 |
Label | Yellow |
Lens | 70.0-300.0 mm f/4.5-5.6 |
LensID (1) | 141 |
LensID | AF-S VR Zoom-Nikkor 70-300mm f/4.5-5.6G IF-ED |
LensInfo | 70-300mm f/4.5-5.6 |
LensManualDistortionAmount | 0 |
LensProfileChromaticAberrationScale | 100 |
LensProfileDistortionScale | 100 |
LensProfileEnable | 1 |
LensProfileFilename | NIKON D700 (Nikon FX 70-300mm f4.5-5.6 G IF-ED VR) - RAW.lcp |
LensProfileName | Adobe (Nikon AF-S VR Zoom-Nikkor 70-300mm f/4.5-5.6G IF-ED) |
LensProfileSetup | Custom |
LensProfileVignettingScale | 100 |
LightSource (1) | Unknown (Fine weather) |
LightSource | Fine Weather |
LightValue | 13.5 |
LuminanceAdjustmentAqua | 0 |
LuminanceAdjustmentBlue | 0 |
LuminanceAdjustmentGreen | 0 |
LuminanceAdjustmentMagenta | 0 |
LuminanceAdjustmentOrange | 0 |
LuminanceAdjustmentPurple | 0 |
LuminanceAdjustmentRed | 0 |
LuminanceAdjustmentYellow | 0 |
LuminanceNoiseReductionContrast | 0 |
LuminanceNoiseReductionDetail | 50 |
LuminanceSmoothing | 70 |
Make | NIKON CORPORATION |
MaxApertureValue | 5.7 |
Megapixels | 7.3 |
MeteringMode (1) | Unknown (Pattern) |
MeteringMode | Multi-segment |
Model | NIKON D200 |
ModifyDate (1) | 2014:04:18 23:21:35+02:00 |
ModifyDate | 2014:04:18 23:23:04 |
ParametricDarks | 0 |
ParametricHighlights | 0 |
ParametricHighlightSplit | 75 |
ParametricLights | 0 |
ParametricMidtoneSplit | 50 |
ParametricShadows | 0 |
ParametricShadowSplit | 25 |
PerspectiveAspect | 0 |
PerspectiveHorizontal | 0 |
PerspectiveRotate | 0.0 |
PerspectiveScale | 100 |
PerspectiveUpright | 1 |
PerspectiveVertical | 0 |
PostCropVignetteAmount | 0 |
ProcessVersion | 6.7 |
ProfileDescription | sRGB IEC61966-2.1 |
Rating | 1 |
RedHue | 0 |
RedSaturation | 0 |
Saturation (1) | 0 |
Saturation (2) | Unknown (Normal) |
Saturation | Normal |
SaturationAdjustmentAqua | 0 |
SaturationAdjustmentBlue | 0 |
SaturationAdjustmentGreen | 0 |
SaturationAdjustmentMagenta | 0 |
SaturationAdjustmentOrange | 0 |
SaturationAdjustmentPurple | 0 |
SaturationAdjustmentRed | 0 |
SaturationAdjustmentYellow | 0 |
ScaleFactor35efl | 1.5 |
SceneCaptureType (1) | Unknown (Standard) |
SceneCaptureType | Standard |
SceneType (1) | Unknown (Directly photographed) |
SceneType | Directly photographed |
SensingMethod (1) | Unknown (One-chip color area sensor) |
SensingMethod | One-chip color area |
Shadows2012 | +100 |
ShadowTint | 0 |
SharpenDetail | 20 |
SharpenEdgeMasking | 60 |
SharpenRadius | +1.0 |
Sharpness (1) | 100 |
Sharpness (2) | Unknown (Normal) |
Sharpness | Normal |
ShutterSpeed | 1/1500 |
ShutterSpeedValue (1) | 1/1024 |
ShutterSpeedValue | 1/1500 |
Software (1) | Adobe Photoshop Lightroom 5.4 (Windows) |
Software | GIMP 2.8.2 |
SplitToningBalance | 0 |
SplitToningHighlightHue | 0 |
SplitToningHighlightSaturation | 0 |
SplitToningShadowHue | 0 |
SplitToningShadowSaturation | 0 |
Subject | 70-300mm, D200, Dyr, Dyrepark, Dyreparken, Kristiansand, Nikon, Nikon D200, Øyvind, Øyvind Andersen |
SubjectDistanceRange (1) | Unknown (Unknown) |
SubjectDistanceRange | Unknown |
Tint | +10 |
ToneCurve | 0, 0, 255, 255 |
ToneCurveBlue | 0, 0, 255, 255 |
ToneCurveGreen | 0, 0, 255, 255 |
ToneCurveName | Linear |
ToneCurveName2012 | Linear |
ToneCurvePV2012 | 0, 0, 255, 255 |
ToneCurvePV2012Blue | 0, 0, 255, 255 |
ToneCurvePV2012Green | 0, 0, 255, 255 |
ToneCurvePV2012Red | 0, 0, 255, 255 |
ToneCurveRed | 0, 0, 255, 255 |
Version | 8.4 |
Vibrance | 0 |
VignetteAmount | 0 |
WhiteBalance (1) | Daylight |
WhiteBalance (2) | Unknown (Manual white balance) |
WhiteBalance | Manual |
Whites2012 | +40 |