Felt | Verdi |
AlreadyApplied | True |
AutoLateralCA | 0 |
AutoWhiteVersion | 134348800 |
BitsPerSample | 8 |
Blacks2012 | -60 |
BlueHue | 0 |
BlueSaturation | 0 |
CameraProfile | Adobe Standard |
Clarity2012 | +73 |
ColorComponents | 3 |
ColorNoiseReduction | 25 |
ColorNoiseReductionDetail | 50 |
ColorNoiseReductionSmoothness | 50 |
ColorTemperature | 7000 |
Contrast | Normal |
Contrast2012 | +47 |
ConvertToGrayscale | True |
Copyright | B.Scheele |
CopyrightFlag | True |
CopyrightNotice | B.Scheele |
CreateDate | 2015:01:25 13:46:05.80 |
CreatorTool | Google Silver Efex Pro 2 2.2.20.456 |
CropAngle | 0.247962 |
CropBottom | 0.6291 |
CropConstrainToWarp | 0 |
CropLeft | 0.098679 |
CropRight | 0.972354 |
CropTop | 0.000629 |
DateCreated (1) | 2015:01:25 13:46:05.80 |
DateCreated | 2015:01:25 |
DateTimeOriginal | 2015:01:25 13:46:05 |
DigitalZoomRatio | 1 |
ExifImageHeight | 3059 |
ExifImageWidth | 6443 |
Exposure2012 | 0.00 |
ExposureCompensation | 0 |
ExposureMode | Manual |
ExposureProgram | Manual |
ExposureTime | 1/125 |
Flash | Off, Did not fire |
Format | image/jpeg |
GainControl | None |
GradientBasedCorrections | Correction, 1.000000, true, 0.315809, 0.000000, 0.000000, 247.000000, 0.000000, -0.342096, -0.012684, 0.000000, 0.000000, 0.599081, 0.000000, 0.000000, 0.000000, 0.023438, 0.000000, Mask/Gradient, 1.000000, 0.491825, 0.738927, 0.498558, 0.005480, Correction, 1.000000, true, -0.035294, 0.000000, 0.000000, 247.000000, 0.000000, -0.106801, 0.000000, 0.000000, 0.000000, 0.000000, 0.000000, 0.000000, 0.000000, 0.000000, 0.000000, Mask/Gradient, 1.000000, 0.502035, 0.520187, 0.503474, 0.022029 |
GrainAmount | 0 |
GrayMixerAqua | -18 |
GrayMixerBlue | +11 |
GrayMixerGreen | -27 |
GrayMixerMagenta | +4 |
GrayMixerOrange | +4 |
GrayMixerPurple | +17 |
GrayMixerRed | -4 |
GrayMixerYellow | +71 |
GreenHue | 0 |
GreenSaturation | 0 |
HasCrop | True |
HasSettings | True |
Highlights2012 | 0 |
ImageHeight | 3059 |
ImageNumber | 1388 |
ImageSize | 6443x3059 |
ImageWidth | 6443 |
ISO | 100 |
Lens | 0.0 mm f/0.0 |
LensInfo | 0mm f/0 |
LensManualDistortionAmount | 0 |
LensModel | 0.0 mm f/0.0 |
LensProfileEnable | 0 |
LensProfileSetup | LensDefaults |
LightSource | Unknown |
LuminanceSmoothing | 0 |
Make | NIKON CORPORATION |
Marked | True |
MaxApertureValue | 1.0 |
Megapixels | 19.7 |
MeteringMode | Center-weighted average |
Model | NIKON D800 |
ModifyDate (1) | 2015:01:28 17:24:33+01:00 |
ModifyDate | 2015:01:28 17:24:33 |
Orientation | Horizontal (normal) |
ParametricDarks | -13 |
ParametricHighlights | 0 |
ParametricHighlightSplit | 75 |
ParametricLights | 0 |
ParametricMidtoneSplit | 50 |
ParametricShadows | 0 |
ParametricShadowSplit | 25 |
PerspectiveAspect | 0 |
PerspectiveHorizontal | 0 |
PerspectiveRotate | 0.0 |
PerspectiveScale | 100 |
PerspectiveUpright | 0 |
PerspectiveVertical | 0 |
PhotographicSensitivity | 100 |
PostCropVignetteAmount | 0 |
ProcessVersion | 6.7 |
ProfileDescription | sRGB IEC61966-2.1 |
RedHue | 0 |
RedSaturation | 0 |
Rights | B.Scheele |
Saturation | Normal |
SceneCaptureType | Standard |
SceneType | Directly photographed |
SensingMethod | One-chip color area |
SerialNumber | 6092626 |
Shadows2012 | 0 |
ShadowTint | 0 |
SharpenDetail | 63 |
SharpenEdgeMasking | 23 |
SharpenRadius | +1.7 |
Sharpness (1) | 63 |
Sharpness | Normal |
ShutterSpeed | 1/125 |
ShutterSpeedValue | 1/125 |
Software | Google Silver Efex Pro 2 2.2.20.456 |
SplitToningBalance | 0 |
SplitToningHighlightHue | 0 |
SplitToningHighlightSaturation | 0 |
SplitToningShadowHue | 0 |
SplitToningShadowSaturation | 0 |
SubjectDistanceRange | Unknown |
Tint | +10 |
ToneCurve | 0, 0, 255, 255 |
ToneCurveBlue | 0, 0, 255, 255 |
ToneCurveGreen | 0, 0, 255, 255 |
ToneCurveName | Linear |
ToneCurveName2012 | Linear |
ToneCurvePV2012 | 0, 0, 255, 255 |
ToneCurvePV2012Blue | 0, 0, 255, 255 |
ToneCurvePV2012Green | 0, 0, 255, 255 |
ToneCurvePV2012Red | 0, 0, 255, 255 |
ToneCurveRed | 0, 0, 255, 255 |
Version | 8.7 |
VignetteAmount | 0 |
WhiteBalance (1) | As Shot |
WhiteBalance | Auto |
Whites2012 | 0 |