Felt | Verdi |
AlreadyApplied | True |
Aperture | 10.0 |
ApertureValue | 10.0 |
ApproximateFocusDistance | 1 |
AutoLateralCA | 0 |
BitsPerSample | 8 |
Blacks2012 | -49 |
BlueHue | 0 |
BlueSaturation | 0 |
CameraProfile | Adobe Standard |
CFAPattern | [Red,Green][Green,Blue] |
CircleOfConfusion | 0.030 mm |
Clarity2012 | +24 |
ColorComponents | 3 |
ColorNoiseReduction | 25 |
ColorNoiseReductionDetail | 50 |
ColorTemperature | 8800 |
ColorTransform | YCbCr |
Contrast | High |
Contrast2012 | +70 |
ConvertToGrayscale | False |
CreateDate (1) | 2014:03:10 00:53:10.60 |
CreateDate | 2014:03:10 00:53:10 |
CreatorTool | Adobe Photoshop Lightroom 4.3 (Macintosh) |
CropAngle | 0.494505 |
CropBottom | 1 |
CropConstrainToWarp | 0 |
CropHeight | 3894 |
CropLeft | 0.005586 |
CropRight | 0.994414 |
CropTop | 0.017627 |
CropUnit | pixels |
CropWidth | 5982 |
CustomRendered | Normal |
DateCreated (1) | 2014:03:10 |
DateCreated | 2014:03:10 00:53:10.60 |
DateTimeOriginal | 2014:03:10 00:53:10 |
DefringeGreenAmount | 0 |
DefringeGreenHueHi | 60 |
DefringeGreenHueLo | 40 |
DefringePurpleAmount | 0 |
DefringePurpleHueHi | 70 |
DefringePurpleHueLo | 30 |
DigitalZoomRatio | 1 |
DOF | inf (0.46 m - inf) |
Exposure2012 | -0.70 |
ExposureCompensation | 0 |
ExposureMode | Manual |
ExposureProgram | Manual |
ExposureTime | 1/6 |
Flash | Off, Did not fire |
FNumber | 10.0 |
FocalLength | 16.0 mm |
FocalLength35efl | 16.0 mm (35 mm equivalent: 16.0 mm) |
FocalLengthIn35mmFormat | 16 mm |
Format | image/jpeg |
FOV | 96.7 deg |
GainControl | None |
GradientBasedCorrActive | true |
GradientBasedCorrAmount | 1.000000 |
GradientBasedCorrBrightness | 0.000000 |
GradientBasedCorrClarity2012 | 0.000000 |
GradientBasedCorrContrast2012 | 0.303371 |
GradientBasedCorrDefringe | 0.000000 |
GradientBasedCorrExposure2012 | -0.011236 |
GradientBasedCorrHighlights2012 | -0.325843 |
GradientBasedCorrHue | 0.000000 |
GradientBasedCorrLuminanceNoise | 0.000000 |
GradientBasedCorrMaskFullX | 0.533413 |
GradientBasedCorrMaskFullY | 0.195017 |
GradientBasedCorrMaskValue | 1.000000 |
GradientBasedCorrMaskWhat | Mask/Gradient |
GradientBasedCorrMaskZeroX | 0.533528 |
GradientBasedCorrMaskZeroY | 0.306104 |
GradientBasedCorrMoire | 0.000000 |
GradientBasedCorrSaturation (1) | 0.250000 |
GradientBasedCorrSaturation | 0.000000 |
GradientBasedCorrShadows2012 | -0.213483 |
GradientBasedCorrSharpness | 0.000000 |
GradientBasedCorrTemperature | 0.056180 |
GradientBasedCorrTint | 0.000000 |
GradientBasedCorrWhat | Correction |
GrainAmount | 0 |
GreenHue | 0 |
GreenSaturation | 0 |
HasCrop | True |
HasSettings | True |
Highlights2012 | -47 |
HueAdjustmentAqua | 0 |
HueAdjustmentBlue | 0 |
HueAdjustmentGreen | 0 |
HueAdjustmentMagenta | 0 |
HueAdjustmentOrange | 0 |
HueAdjustmentPurple | 0 |
HueAdjustmentRed | 0 |
HueAdjustmentYellow | 0 |
HyperfocalDistance | 0.85 m |
ImageHeight | 3894 |
ImageNumber | 3685 |
ImageSize | 5982x3894 |
ImageWidth | 5982 |
ISO | 320 |
Lens | 16.0-35.0 mm f/4.0 |
LensID (1) | 163 |
LensID | AF-S Nikkor 16-35mm f/4G ED VR |
LensInfo | 16-35mm f/4 |
LensManualDistortionAmount | 0 |
LensModel | 16.0-35.0 mm f/4.0 |
LensProfileChromaticAberrationScale | 100 |
LensProfileDistortionScale | 100 |
LensProfileEnable | 1 |
LensProfileFilename | NIKON D3X (Nikon AF-S NIKKOR 16-35mm f4G ED VR) - RAW.lcp |
LensProfileName | Adobe (Nikon AF-S NIKKOR 16-35mm f/4G ED VR) |
LensProfileSetup | Custom |
LensProfileVignettingScale | 100 |
LightSource | Unknown |
LightValue | 7.6 |
LuminanceAdjustmentAqua | 0 |
LuminanceAdjustmentBlue | 0 |
LuminanceAdjustmentGreen | 0 |
LuminanceAdjustmentMagenta | 0 |
LuminanceAdjustmentOrange | 0 |
LuminanceAdjustmentPurple | 0 |
LuminanceAdjustmentRed | 0 |
LuminanceAdjustmentYellow | 0 |
LuminanceSmoothing | 0 |
Make | NIKON CORPORATION |
MaxApertureValue | 4.0 |
Megapixels | 23.3 |
MeteringMode | Center-weighted average |
Model | NIKON D600 |
ModifyDate (1) | 2013:03:10 22:59:29+01:00 |
ModifyDate | 2013:03:10 22:59:29 |
PaintCorrectionActive | true |
PaintCorrectionAmount | 1.000000 |
PaintCorrectionBrightness | 0.000000 |
PaintCorrectionClarity2012 (1) | 0.101124 |
PaintCorrectionClarity2012 | 0.000000 |
PaintCorrectionContrast2012 (1) | 0.146067 |
PaintCorrectionContrast2012 (4) | 0.000000 |
PaintCorrectionContrast2012 | 0.191011 |
PaintCorrectionDefringe | 0.000000 |
PaintCorrectionExposure2012 (1) | 0.000000 |
PaintCorrectionExposure2012 | 0.078652 |
PaintCorrectionHighlights2012 (1) | 0.325843 |
PaintCorrectionHighlights2012 (3) | 0.000000 |
PaintCorrectionHighlights2012 | -0.101124 |
PaintCorrectionHue | 0.000000 |
PaintCorrectionLuminanceNoise (3) | 0.573034 |
PaintCorrectionLuminanceNoise (4) | 0.528090 |
PaintCorrectionLuminanceNoise | 0.000000 |
PaintCorrectionMaskCenterWeight | 0.224934 |
PaintCorrectionMaskFlow | 0.858571 |
PaintCorrectionMaskRadius (1) | 0.204444 |
PaintCorrectionMaskRadius (2) | 0.209127 |
PaintCorrectionMaskRadius (3) | 0.027528 |
PaintCorrectionMaskRadius (4) | 0.027436 |
PaintCorrectionMaskRadius | 0.206905 |
PaintCorrectionMaskValue (1) | 0.703297 |
PaintCorrectionMaskValue | 0.725275 |
PaintCorrectionMaskWhat | Mask/Paint |
PaintCorrectionMoire | 0.000000 |
PaintCorrectionSaturation (1) | 0.101124 |
PaintCorrectionSaturation | 0.000000 |
PaintCorrectionShadows2012 (1) | 0.640449 |
PaintCorrectionShadows2012 (2) | 0.000000 |
PaintCorrectionShadows2012 | 0.123596 |
PaintCorrectionSharpness (1) | 0.123596 |
PaintCorrectionSharpness (2) | 0.415730 |
PaintCorrectionSharpness | 0.000000 |
PaintCorrectionTemperature | 0.000000 |
PaintCorrectionTint | 0.000000 |
PaintCorrectionWhat | Correction |
ParametricDarks | 0 |
ParametricHighlights | 0 |
ParametricHighlightSplit | 75 |
ParametricLights | 0 |
ParametricMidtoneSplit | 50 |
ParametricShadows | 0 |
ParametricShadowSplit | 25 |
PerspectiveHorizontal | 0 |
PerspectiveRotate | 0.0 |
PerspectiveScale | 100 |
PerspectiveVertical | 0 |
PostCropVignetteAmount | 0 |
ProcessVersion | 6.7 |
ProfileDescription | sRGB IEC61966-2.1 |
RedHue | 0 |
RedSaturation | 0 |
Saturation (1) | +11 |
Saturation | Normal |
SaturationAdjustmentAqua | 0 |
SaturationAdjustmentBlue | 0 |
SaturationAdjustmentGreen | 0 |
SaturationAdjustmentMagenta | 0 |
SaturationAdjustmentOrange | 0 |
SaturationAdjustmentPurple | 0 |
SaturationAdjustmentRed | 0 |
SaturationAdjustmentYellow | 0 |
ScaleFactor35efl | 1.0 |
SceneCaptureType | Landscape |
SceneType | Directly photographed |
SensingMethod | One-chip color area |
SensitivityType | Recommended Exposure Index |
SerialNumber | 6092303 |
Shadows2012 | +84 |
ShadowTint | 0 |
SharpenDetail | 0 |
SharpenEdgeMasking | 0 |
SharpenRadius | +0.5 |
Sharpness (1) | 72 |
Sharpness | Normal |
ShutterSpeed | 1/6 |
ShutterSpeedValue | 1/6 |
Software | Adobe Photoshop Lightroom 4.3 (Macintosh) |
SplitToningBalance | 0 |
SplitToningHighlightHue | 240 |
SplitToningHighlightSaturation | 16 |
SplitToningShadowHue | 147 |
SplitToningShadowSaturation | 0 |
SubjectDistanceRange | Unknown |
Tint | 0 |
ToneCurveName2012 | Linear |
ToneCurvePV2012 | 0, 0, 255, 255 |
ToneCurvePV2012Blue | 0, 0, 255, 255 |
ToneCurvePV2012Green | 0, 0, 255, 255 |
ToneCurvePV2012Red | 0, 0, 255, 255 |
Version | 7.3 |
Vibrance | +9 |
VignetteAmount | 0 |
WhiteBalance (1) | Custom |
WhiteBalance | Auto |
Whites2012 | +35 |