Felt | Verdi |
AlreadyApplied | True |
Aperture | 2.5 |
ApertureValue | 2.5 |
ApproximateFocusDistance | 0.6 |
AutoLateralCA | 1 |
AutoWhiteVersion | 134348800 |
BitsPerSample | 8 |
Blacks2012 | +21 |
BlueHue | -5 |
BlueSaturation | +25 |
CameraProfile | Adobe Standard |
CFAPattern | [Red,Green][Green,Blue] |
CircleOfConfusion | 0.020 mm |
Clarity2012 | +43 |
ColorComponents | 3 |
ColorNoiseReduction | 20 |
ColorNoiseReductionDetail | 73 |
ColorNoiseReductionSmoothness | 50 |
ColorTemperature | 5450 |
ColorTransform | YCbCr |
Contrast | Normal |
Contrast2012 | -52 |
ConvertToGrayscale | False |
CreateDate (1) | 2015:05:18 00:23:22.65 |
CreateDate | 2015:05:18 00:23:22 |
CreatorTool | Adobe Photoshop Lightroom 6.0 (Windows) |
CropAngle | 0.437936 |
CropBottom | 0.816885 |
CropConstrainToWarp | 0 |
CropLeft | 0.083888 |
CropRight | 0.869529 |
CropTop | 0.216353 |
CustomRendered | Normal |
DateCreated (1) | 2015:05:18 00:23:22.65 |
DateCreated | 2015:05:18 |
DateTimeOriginal | 2015:05:18 00:23:22 |
DefringeGreenAmount | 0 |
DefringeGreenHueHi | 60 |
DefringeGreenHueLo | 40 |
DefringePurpleAmount | 0 |
DefringePurpleHueHi | 70 |
DefringePurpleHueLo | 30 |
DigitalZoomRatio | 1 |
DOF | 0.03 m (0.59 - 0.61 m) |
Exposure2012 | -0.09 |
ExposureCompensation | 0 |
ExposureMode | Auto |
ExposureProgram | Aperture-priority AE |
ExposureTime | 1/2500 |
Flash | Off, Did not fire |
FNumber | 2.5 |
FocalLength | 35.0 mm |
FocalLength35efl | 35.0 mm (35 mm equivalent: 52.0 mm) |
FocalLengthIn35mmFormat | 52 mm |
Format | image/jpeg |
FOV | 38.2 deg |
GainControl | None |
GrainAmount | 10 |
GrainFrequency | 30 |
GrainSize | 30 |
GreenHue | +10 |
GreenSaturation | -10 |
HasCrop | True |
HasExtendedXMP | 6C683CF25724B0E7F6BBD5E825415DAB |
HasSettings | True |
Highlights2012 | -17 |
HueAdjustmentAqua | +10 |
HueAdjustmentBlue | +20 |
HueAdjustmentGreen | +10 |
HueAdjustmentMagenta | +71 |
HueAdjustmentOrange | -17 |
HueAdjustmentPurple | +20 |
HueAdjustmentRed | -20 |
HueAdjustmentYellow | -9 |
HyperfocalDistance | 24.23 m |
ImageHeight | 1280 |
ImageNumber | 4505 |
ImageSize | 640x1280 |
ImageWidth | 640 |
ISO | 100 |
Keywords | 17. mai, Cider, Country, Event, FB, Flag, FlickrHerindur, Geographic location, Glass, Misc, Norway, Translucent |
Lens | 18.0-35.0 mm f/1.8 |
LensID (1) | 139 |
LensID | Sigma 18-35mm F1.8 DC HSM |
LensInfo | 18-35mm f/1.8 |
LensManualDistortionAmount | 0 |
LensModel | 18.0-35.0 mm f/1.8 |
LensProfileChromaticAberrationScale | 100 |
LensProfileDistortionScale | 100 |
LensProfileEnable | 1 |
LensProfileFilename | NIKON CORPORATION (SIGMA 18-35mm F1.8 DC HSM A013) - RAW.lcp |
LensProfileName | Adobe (SIGMA 18-35mm F1.8 DC HSM A013, NIKON CORPORATION) |
LensProfileSetup | LensDefaults |
LensProfileVignettingScale | 100 |
LightSource | Unknown |
LightValue | 13.9 |
LuminanceAdjustmentAqua | +56 |
LuminanceAdjustmentBlue | +51 |
LuminanceAdjustmentGreen | -2 |
LuminanceAdjustmentMagenta | -15 |
LuminanceAdjustmentOrange | -18 |
LuminanceAdjustmentPurple | +22 |
LuminanceAdjustmentRed | -47 |
LuminanceAdjustmentYellow | 0 |
LuminanceSmoothing | 0 |
Make | NIKON CORPORATION |
MaxApertureValue | 1.7 |
Megapixels | 0.819 |
MeteringMode | Spot |
Model | NIKON D5500 |
ModifyDate (1) | 2015:05:18 21:14:01+02:00 |
ModifyDate | 2015:05:18 21:14:01 |
Orientation | Horizontal (normal) |
PaintCorrectionActive | true |
PaintCorrectionAmount | 1.000000 |
PaintCorrectionBrightness | 0.000000 |
PaintCorrectionClarity2012 (1) | 0.000000 |
PaintCorrectionClarity2012 (2) | 0.036315 |
PaintCorrectionClarity2012 | -0.020000 |
PaintCorrectionContrast2012 (1) | 0.023810 |
PaintCorrectionContrast2012 (2) | 0.199727 |
PaintCorrectionContrast2012 | -0.690480 |
PaintCorrectionDefringe | 0.000000 |
PaintCorrectionExposure2012 | 0.000000 |
PaintCorrectionHighlights2012 (2) | -0.417620 |
PaintCorrectionHighlights2012 | 0.000000 |
PaintCorrectionHue | 0.000000 |
PaintCorrectionLuminanceNoise | 0.000000 |
PaintCorrectionMaskCenterWeight (40) | 0.410441 |
PaintCorrectionMaskCenterWeight (9) | 0.022470 |
PaintCorrectionMaskCenterWeight | 0.280097 |
PaintCorrectionMaskFlow | 1.000000 |
PaintCorrectionMaskRadius (10) | 0.031294 |
PaintCorrectionMaskRadius (11) | 0.050320 |
PaintCorrectionMaskRadius (18) | 0.008890 |
PaintCorrectionMaskRadius (19) | 0.006068 |
PaintCorrectionMaskRadius (20) | 0.031351 |
PaintCorrectionMaskRadius (21) | 0.050596 |
PaintCorrectionMaskRadius (22) | 0.050923 |
PaintCorrectionMaskRadius (23) | 0.050881 |
PaintCorrectionMaskRadius (24) | 0.051119 |
PaintCorrectionMaskRadius (25) | 0.050509 |
PaintCorrectionMaskRadius (26) | 0.050714 |
PaintCorrectionMaskRadius (27) | 0.050603 |
PaintCorrectionMaskRadius (28) | 0.050659 |
PaintCorrectionMaskRadius (29) | 0.050693 |
PaintCorrectionMaskRadius (3) | 0.008858 |
PaintCorrectionMaskRadius (31) | 0.011019 |
PaintCorrectionMaskRadius (32) | 0.011011 |
PaintCorrectionMaskRadius (34) | 0.011016 |
PaintCorrectionMaskRadius (35) | 0.011015 |
PaintCorrectionMaskRadius (37) | 0.011040 |
PaintCorrectionMaskRadius (38) | 0.011037 |
PaintCorrectionMaskRadius (39) | 0.011072 |
PaintCorrectionMaskRadius (40) | 0.011073 |
PaintCorrectionMaskRadius (41) | 0.011070 |
PaintCorrectionMaskRadius (43) | 0.011056 |
PaintCorrectionMaskRadius (44) | 0.012082 |
PaintCorrectionMaskRadius (45) | 0.012086 |
PaintCorrectionMaskRadius (46) | 0.017698 |
PaintCorrectionMaskRadius (47) | 0.017707 |
PaintCorrectionMaskRadius (48) | 0.017704 |
PaintCorrectionMaskRadius (5) | 0.005520 |
PaintCorrectionMaskRadius (51) | 0.011012 |
PaintCorrectionMaskRadius (53) | 0.011013 |
PaintCorrectionMaskRadius (54) | 0.017765 |
PaintCorrectionMaskRadius (55) | 0.017703 |
PaintCorrectionMaskRadius (56) | 0.008851 |
PaintCorrectionMaskRadius (59) | 0.008885 |
PaintCorrectionMaskRadius (6) | 0.005519 |
PaintCorrectionMaskRadius (60) | 0.005552 |
PaintCorrectionMaskRadius (61) | 0.008889 |
PaintCorrectionMaskRadius (62) | 0.008913 |
PaintCorrectionMaskRadius (63) | 0.008908 |
PaintCorrectionMaskRadius (64) | 0.050331 |
PaintCorrectionMaskRadius (65) | 0.051316 |
PaintCorrectionMaskRadius (66) | 0.051041 |
PaintCorrectionMaskRadius (67) | 0.008876 |
PaintCorrectionMaskRadius (68) | 0.008871 |
PaintCorrectionMaskRadius (7) | 0.008872 |
PaintCorrectionMaskRadius | 0.008852 |
PaintCorrectionMaskValue (37) | 0.000000 |
PaintCorrectionMaskValue | 1.000000 |
PaintCorrectionMaskWhat | Mask/Paint |
PaintCorrectionMoire | 0.000000 |
PaintCorrectionSaturation (3) | -0.072631 |
PaintCorrectionSaturation | 0.000000 |
PaintCorrectionShadows2012 (1) | 0.738100 |
PaintCorrectionShadows2012 (2) | 0.163420 |
PaintCorrectionShadows2012 | 0.000000 |
PaintCorrectionSharpness | 0.000000 |
PaintCorrectionTemperature (1) | -0.071430 |
PaintCorrectionTemperature | 0.000000 |
PaintCorrectionTint | 0.000000 |
PaintCorrectionWhat | Correction |
ParametricDarks | 0 |
ParametricHighlights | 0 |
ParametricHighlightSplit | 75 |
ParametricLights | 0 |
ParametricMidtoneSplit | 60 |
ParametricShadows | 0 |
ParametricShadowSplit | 14 |
PerspectiveAspect | 0 |
PerspectiveHorizontal | 0 |
PerspectiveRotate | 0.0 |
PerspectiveScale | 100 |
PerspectiveUpright | 3 |
PerspectiveVertical | 0 |
PostCropVignetteAmount | 0 |
ProcessVersion | 6.7 |
ProfileDescription | sRGB IEC61966-2.1 |
RawFileName | 20150518-_DSC4337.jpg |
RedHue | +10 |
RedSaturation | +10 |
Saturation (1) | -36 |
Saturation | Normal |
SaturationAdjustmentAqua | +2 |
SaturationAdjustmentBlue | +24 |
SaturationAdjustmentGreen | +51 |
SaturationAdjustmentMagenta | -15 |
SaturationAdjustmentOrange | +49 |
SaturationAdjustmentPurple | -11 |
SaturationAdjustmentRed | +36 |
SaturationAdjustmentYellow | +69 |
ScaleFactor35efl | 1.5 |
SceneCaptureType | Standard |
SceneType | Directly photographed |
SensingMethod | One-chip color area |
SensitivityType | Recommended Exposure Index |
SerialNumber | 2005605 |
Shadows2012 | +76 |
ShadowTint | 0 |
SharpenDetail | 50 |
SharpenEdgeMasking | 25 |
SharpenRadius | +0.5 |
Sharpness (1) | 45 |
Sharpness | Normal |
ShutterSpeed | 1/2500 |
ShutterSpeedValue | 1/2500 |
Software | Adobe Photoshop Lightroom 6.0 (Windows) |
SplitToningBalance | 0 |
SplitToningHighlightHue | 275 |
SplitToningHighlightSaturation | 0 |
SplitToningShadowHue | 0 |
SplitToningShadowSaturation | 0 |
Subject | 17. mai, Cider, Country, Event, FB, Flag, FlickrHerindur, Geographic location, Glass, Misc, Norway, Translucent |
SubjectDistanceRange | Unknown |
Tint | 0 |
ToneCurve | 0, 0, 255, 255 |
ToneCurveBlue | 0, 0, 255, 255 |
ToneCurveGreen | 0, 0, 255, 255 |
ToneCurveName | Linear |
ToneCurveName2012 | Custom |
ToneCurvePV2012 | 0, 0, 28, 37, 164, 179, 255, 255 |
ToneCurvePV2012Blue | 0, 0, 48, 23, 111, 123, 172, 207, 255, 255 |
ToneCurvePV2012Green | 0, 0, 49, 22, 113, 122, 174, 200, 255, 255 |
ToneCurvePV2012Red | 0, 0, 47, 21, 114, 122, 178, 203, 255, 255 |
ToneCurveRed | 0, 0, 255, 255 |
Version | 9.0 |
Vibrance | -12 |
VignetteAmount | 0 |
WhiteBalance (1) | Custom |
WhiteBalance | Auto |
Whites2012 | +35 |