Felt | Verdi |
AlreadyApplied | True |
Aperture | 11.0 |
ApertureValue | 11.0 |
AutoLateralCA | 1 |
AutoWhiteVersion | 134348800 |
BitsPerSample (1) | 8 8 8 |
BitsPerSample | 8 |
Blacks2012 | +43 |
BlueHue | 0 |
BlueSaturation | 0 |
BrightnessValue | 10.2515625 |
CameraProfile | Adobe Standard |
CircleOfConfusion | 0.020 mm |
Clarity2012 | +33 |
ColorComponents | 3 |
ColorMode | RGB |
ColorNoiseReduction | 56 |
ColorNoiseReductionDetail | 55 |
ColorNoiseReductionSmoothness | 50 |
ColorSpace | sRGB |
ColorTemperature | 5350 |
ColorTransform | YCbCr |
Contrast | Normal |
Contrast2012 | +33 |
ConvertToGrayscale | False |
CreateDate (1) | 2015:07:09 13:20:54+02:00 |
CreateDate | 2015:07:09 13:20:54 |
CreatorTool | Adobe Photoshop Elements 12.0 Windows |
CustomRendered | Normal |
DateCreated (1) | 2015:07:09 |
DateCreated | 2015:07:09 13:20:54 |
DateTimeOriginal | 2015:07:09 13:20:54 |
DefringeGreenAmount | 0 |
DefringeGreenHueHi | 60 |
DefringeGreenHueLo | 40 |
DefringePurpleAmount | 0 |
DefringePurpleHueHi | 70 |
DefringePurpleHueLo | 30 |
ExifImageHeight | 750 |
ExifImageWidth | 1379 |
Exposure2012 | 0.00 |
ExposureCompensation | -0.3 |
ExposureMode | Auto |
ExposureProgram | Aperture-priority AE |
ExposureTime | 1/320 |
Flash | Off, Did not fire |
FNumber | 11.0 |
FocalLength | 24.0 mm |
FocalLength35efl | 24.0 mm (35 mm equivalent: 36.0 mm) |
FocalLengthIn35mmFormat | 36 mm |
Format | image/jpeg |
FOV | 53.1 deg |
GPSAltitude (1) | 40.303 m |
GPSAltitude | 40.3 m Below Sea Level |
GPSAltitudeRef | Below Sea Level |
GPSDateStamp | 2015:07:09 |
GPSDateTime | 2015:07:09 11:20:55Z |
GPSDifferential | No Correction |
GPSDOP | 1.6047 |
GPSLatitude (1) | 56 deg 48' 35.83" |
GPSLatitude | 56 deg 48' 35.83" N |
GPSLatitudeRef | North |
GPSLongitude (1) | 8 deg 52' 0.98" |
GPSLongitude | 8 deg 52' 0.98" E |
GPSLongitudeRef | East |
GPSMapDatum | WGS-84 |
GPSMeasureMode | 3-Dimensional Measurement |
GPSPosition | 56 deg 48' 35.83" N, 8 deg 52' 0.98" E |
GPSSpeed | 0.574 |
GPSSpeedRef | km/h |
GPSStatus | Measurement Active |
GPSTimeStamp | 11:20:55 |
GPSTrack | 60.85 |
GPSTrackRef | True North |
GPSVersionID | 2.3.0.0 |
GrainAmount | 0 |
GreenHue | 0 |
GreenSaturation | 0 |
HasCrop | False |
HasSettings | True |
Highlights2012 | 0 |
HueAdjustmentAqua | 0 |
HueAdjustmentBlue | 0 |
HueAdjustmentGreen | 0 |
HueAdjustmentMagenta | 0 |
HueAdjustmentOrange | 0 |
HueAdjustmentPurple | 0 |
HueAdjustmentRed | 0 |
HueAdjustmentYellow | 0 |
HyperfocalDistance | 2.61 m |
ICCProfileName | sRGB IEC61966-2.1 |
ImageHeight (1) | 3376 |
ImageHeight | 750 |
ImageSize | 1379x750 |
ImageWidth (1) | 6000 |
ImageWidth | 1379 |
ISO | 100 |
Label | Red |
Lens | DT 16-80mm F3.5-4.5 ZA |
LensDistortInfo | 1069663048/1073741824 -15271657/1073741824 21875862/1073741824 -2552830/1073741824 |
LensID (1) | 46 |
LensID | Carl Zeiss Vario-Sonnar T* DT 16-80mm F3.5-4.5 ZA (SAL1680Z) |
LensInfo | 16-80mm f/3.5-4.5 |
LensManualDistortionAmount | 0 |
LensModel | DT 16-80mm F3.5-4.5 ZA |
LensProfileChromaticAberrationScale | 100 |
LensProfileDistortionScale | 100 |
LensProfileEnable | 1 |
LensProfileFilename | SONY (Sony DT 16-80mm F3.5-4.5 ZA) - RAW.lcp |
LensProfileName | Adobe (Sony DT 16-80mm F3.5-4.5 ZA) |
LensProfileSetup | Custom |
LensProfileVignettingScale | 100 |
LightSource | Unknown |
LightValue | 15.2 |
LuminanceAdjustmentAqua | 0 |
LuminanceAdjustmentBlue | 0 |
LuminanceAdjustmentGreen | 0 |
LuminanceAdjustmentMagenta | 0 |
LuminanceAdjustmentOrange | 0 |
LuminanceAdjustmentPurple | 0 |
LuminanceAdjustmentRed | 0 |
LuminanceAdjustmentYellow | 0 |
LuminanceNoiseReductionContrast | 0 |
LuminanceNoiseReductionDetail | 57 |
LuminanceSmoothing | 46 |
Make | SONY |
MaxApertureValue | 4.0 |
Megapixels | 1.0 |
MeteringMode | Multi-segment |
Model | SLT-A77V |
ModifyDate (1) | 2015:07:09 15:18:46+02:00 |
ModifyDate | 2015:07:09 15:18:46 |
Orientation | Horizontal (normal) |
ParametricDarks | 0 |
ParametricHighlights | 0 |
ParametricHighlightSplit | 75 |
ParametricLights | 0 |
ParametricMidtoneSplit | 50 |
ParametricShadows | 0 |
ParametricShadowSplit | 25 |
PerspectiveAspect | 0 |
PerspectiveHorizontal | 0 |
PerspectiveRotate | 0.0 |
PerspectiveScale | 100 |
PerspectiveUpright | 1 |
PerspectiveVertical | 0 |
PhotometricInterpretation | RGB |
PostCropVignetteAmount | 0 |
ProcessVersion | 6.7 |
ProfileDescription | sRGB IEC61966-2.1 |
RecommendedExposureIndex | 100 |
RedHue | 0 |
RedSaturation | 0 |
SamplesPerPixel | 3 |
Saturation (1) | 0 |
Saturation | Normal |
SaturationAdjustmentAqua | 0 |
SaturationAdjustmentBlue | 0 |
SaturationAdjustmentGreen | +24 |
SaturationAdjustmentMagenta | 0 |
SaturationAdjustmentOrange | 0 |
SaturationAdjustmentPurple | 0 |
SaturationAdjustmentRed | 0 |
SaturationAdjustmentYellow | 0 |
ScaleFactor35efl | 1.5 |
SceneCaptureType | Standard |
SceneType | Directly photographed |
SensitivityType | Recommended Exposure Index |
Shadows2012 | +31 |
ShadowTint | 0 |
SharpenDetail | 25 |
SharpenEdgeMasking | 54 |
SharpenRadius | +1.3 |
Sharpness (1) | 66 |
Sharpness | Normal |
ShutterSpeed | 1/320 |
ShutterSpeedValue | 1/320 |
Software | Adobe Photoshop Elements 12.0 Windows |
SplitToningBalance | 0 |
SplitToningHighlightHue | 0 |
SplitToningHighlightSaturation | 0 |
SplitToningShadowHue | 0 |
SplitToningShadowSaturation | 0 |
Tint | +3 |
ToneCurve | 0, 0, 255, 255 |
ToneCurveBlue | 0, 0, 255, 255 |
ToneCurveGreen | 0, 0, 255, 255 |
ToneCurveName | Linear |
ToneCurveName2012 | Linear |
ToneCurvePV2012 | 0, 0, 255, 255 |
ToneCurvePV2012Blue | 0, 0, 255, 255 |
ToneCurvePV2012Green | 0, 0, 255, 255 |
ToneCurvePV2012Red | 0, 0, 255, 255 |
ToneCurveRed | 0, 0, 255, 255 |
URL_List | |
Version | 8.7 |
Vibrance | +10 |
VignetteAmount | 0 |
WhiteBalance (1) | As Shot |
WhiteBalance | Auto |
Whites2012 | 0 |