Felt | Verdi |
AlreadyApplied | True |
AngleAdj | 0 |
Aperture | 4.0 |
ApertureValue | 4.0 |
ApproximateFocusDistance | 19.1 |
Artist | TNJohansen |
AutoLateralCA | 0 |
AutoLightingOptimizer | n/a |
AutoLightingOptimizerOn | No |
AutoWhiteVersion | 134348800 |
BitsPerSample | 8 |
Blacks2012 | +20 |
BlueCurveLimits | 255 0 255 0 |
BlueCurvePoints | (0,0) (255,255) |
BlueHue | 0 |
BlueSaturation | 0 |
BrightnessAdj | 16 |
By-line | TNJohansen |
CameraProfile | Adobe Standard |
CameraRawColorTone | 0 |
CheckMark | Clear |
CheckMark2 | Clear |
ChromaticAberration | 100% |
ChromaticAberrationBlue | 0 |
ChromaticAberrationOn | No |
ChromaticAberrationRed | 0 |
ChrominanceNoiseReduction | 0 |
ChrominanceNR_TIFF_JPEG | 0 |
CircleOfConfusion | 0.019 mm |
Clarity2012 | +15 |
ColorBlur | No |
ColorComponents | 3 |
ColorNoiseReduction | 34 |
ColorNoiseReductionDetail | 50 |
ColorNoiseReductionSmoothness | 50 |
ColorSpace | sRGB |
ColorTemperature | 4800 |
ColorToneAdj | 3 |
ColorTransform | YCbCr |
ConstrainedCropHeight | 0 |
ConstrainedCropWidth | 0 |
Contrast2012 | +60 |
ContrastAdj | 10 |
ConvertToGrayscale | False |
Copyright | TNJohansen |
CopyrightNotice | TNJohansen |
CreateDate (1) | 2015:07:12 09:47:21.38 |
CreateDate | 2015:07:12 09:47:21 |
Creator | TNJohansen |
CreatorTool | Adobe Photoshop Lightroom 5.7 (Windows) |
CropActive | No |
CropAngle | 0 |
CropAspectRatio | Free |
CropBottom | 0.629192 |
CropCircleActive | No |
CropCircleRadius | 0 |
CropCircleX | 0 |
CropCircleY | 0 |
CropConstrainToWarp | 0 |
CropHeight | 0 |
CropLeft (1) | 0.35 |
CropLeft | 0 |
CropRight | 0.657894 |
CropTop (1) | 0.27219 |
CropTop | 0 |
CropWidth | 0 |
CustomColorTone | 0 |
CustomContrast | 0 |
CustomDefaultUnsharpFineness | 7 |
CustomDefaultUnsharpStrength | 0 |
CustomDefaultUnsharpThreshold | 1 |
CustomLinear | No |
CustomOutputHighlightPoint | 0 |
CustomOutputShadowPoint | 0 |
CustomRawHighlight | 0 |
CustomRawHighlightPoint | 0 |
CustomRawShadow | 0 |
CustomRawShadowPoint | 0 |
CustomRendered | Normal |
CustomSaturation | 0 |
CustomSharpness | 0 |
CustomUnsharpMaskFineness | 7 |
CustomUnsharpMaskStrength | 0 |
CustomUnsharpMaskThreshold | 1 |
DateCreated (1) | 2015:07:12 |
DateCreated | 2015:07:12 09:47:21.38 |
DateTimeOriginal | 2015:07:12 09:47:21 |
DefringeGreenAmount | 0 |
DefringeGreenHueHi | 60 |
DefringeGreenHueLo | 40 |
DefringePurpleAmount | 0 |
DefringePurpleHueHi | 70 |
DefringePurpleHueLo | 30 |
DistortionCorrection | 100% |
DistortionCorrectionOn | No |
DLODataLength | 0 |
DLOOn | No |
DLOSetting | 50 |
DOF | 1.38 m (18.43 - 19.82 m) |
DynamicRangeMax | 4095 |
DynamicRangeMin | 0 |
Exposure2012 | +0.30 |
ExposureCompensation | 0 |
ExposureMode | Auto |
ExposureProgram | Aperture-priority AE |
ExposureTime | 1/250 |
FaithfulOutputHighlightPoint | 0 |
FaithfulOutputShadowPoint | 0 |
FaithfulRawColorTone | 0 |
FaithfulRawContrast | 0 |
FaithfulRawHighlight | 0 |
FaithfulRawHighlightPoint | 0 |
FaithfulRawLinear | No |
FaithfulRawSaturation | 0 |
FaithfulRawShadow | 0 |
FaithfulRawShadowPoint | 0 |
FaithfulRawSharpness | 0 |
FaithfulUnsharpMaskFineness | 7 |
FaithfulUnsharpMaskStrength | 0 |
FaithfulUnsharpMaskThreshold | 1 |
Firmware | 2.0.0 |
Flash | Off, Did not fire |
FlashCompensation | 0 |
FNumber | 4.0 |
FocalLength | 200.0 mm |
FocalLength35efl | 200.0 mm (35 mm equivalent: 314.1 mm) |
Format | image/jpeg |
FOV | 6.6 deg |
GrainAmount | 0 |
GreenCurveLimits | 255 0 255 0 |
GreenCurvePoints | (0,0) (255,255) |
GreenHue | 0 |
GreenSaturation | 0 |
HasCrop | True |
HasSettings | True |
Highlights2012 | +20 |
HueAdjustmentAqua | 0 |
HueAdjustmentBlue | 0 |
HueAdjustmentGreen | 0 |
HueAdjustmentMagenta | 0 |
HueAdjustmentOrange | 0 |
HueAdjustmentPurple | 0 |
HueAdjustmentRed | 0 |
HueAdjustmentYellow | 0 |
HyperfocalDistance | 522.64 m |
ImageHeight | 1234 |
ImageNumber | 0 |
ImageSize | 1596x1234 |
ImageWidth | 1596 |
IsCustomPictureStyle | No |
ISO | 200 |
LandscapeOutputHighlightPoint | 0 |
LandscapeOutputShadowPoint | 0 |
LandscapeRawColorTone | 0 |
LandscapeRawContrast | 0 |
LandscapeRawHighlight | 0 |
LandscapeRawHighlightPoint | 0 |
LandscapeRawLinear | No |
LandscapeRawSaturation | 0 |
LandscapeRawShadow | 0 |
LandscapeRawShadowPoint | 0 |
LandscapeRawSharpness | 0 |
LandscapeUnsharpMaskFineness | 7 |
LandscapeUnsharpMaskStrength | 0 |
LandscapeUnsharpMaskThreshold | 1 |
Lens | EF70-200mm f/4L USM |
LensID (1) | 186 |
LensID | Canon EF 70-200mm f/4L USM |
LensInfo | 70-200mm f/? |
LensManualDistortionAmount | 0 |
LensModel | EF70-200mm f/4L USM |
LensProfileEnable | 0 |
LensProfileSetup | LensDefaults |
LightValue | 11.0 |
LuminanceAdjustmentAqua | 0 |
LuminanceAdjustmentBlue | 0 |
LuminanceAdjustmentGreen | 0 |
LuminanceAdjustmentMagenta | 0 |
LuminanceAdjustmentOrange | 0 |
LuminanceAdjustmentPurple | 0 |
LuminanceAdjustmentRed | 0 |
LuminanceAdjustmentYellow | 0 |
LuminanceCurveLimits | 255 0 255 0 |
LuminanceCurvePoints | (0,0) (255,255) |
LuminanceNoiseReduction | 2 |
LuminanceNoiseReductionContrast | 23 |
LuminanceNoiseReductionDetail | 50 |
LuminanceNR_TIFF_JPEG | 0 |
LuminanceSmoothing | 32 |
Make | Canon |
MaxApertureValue | 4.0 |
Megapixels | 2.0 |
MeteringMode | Multi-segment |
Model | Canon EOS 7D |
ModifyDate (1) | 2015:07:12 10:11:53+02:00 |
ModifyDate | 2015:07:12 10:11:53 |
MonochromeContrast | 0 |
MonochromeFilterEffect | None |
MonochromeLinear | No |
MonochromeOutputHighlightPoint | 0 |
MonochromeOutputShadowPoint | 0 |
MonochromeRawHighlight | 0 |
MonochromeRawHighlightPoint | 0 |
MonochromeRawShadow | 0 |
MonochromeRawShadowPoint | 0 |
MonochromeSharpness | 0 |
MonochromeToningEffect | None |
MonochromeUnsharpMaskFineness | 7 |
MonochromeUnsharpMaskStrength | 0 |
MonochromeUnsharpMaskThreshold | 1 |
NeutralOutputHighlightPoint | 0 |
NeutralOutputShadowPoint | 0 |
NeutralRawColorTone | 0 |
NeutralRawContrast | 0 |
NeutralRawHighlight | 0 |
NeutralRawHighlightPoint | 0 |
NeutralRawLinear | No |
NeutralRawSaturation | 0 |
NeutralRawShadow | 0 |
NeutralRawShadowPoint | 0 |
NeutralRawSharpness | 0 |
NeutralUnsharpMaskFineness | 7 |
NeutralUnsharpMaskThreshold | 1 |
NeutraUnsharpMaskStrength | 0 |
ParametricDarks | 0 |
ParametricHighlights | 0 |
ParametricHighlightSplit | 75 |
ParametricLights | 0 |
ParametricMidtoneSplit | 50 |
ParametricShadows | 0 |
ParametricShadowSplit | 25 |
PeripheralIllumination | 100% |
PeripheralIlluminationOn | No |
PerspectiveAspect | 0 |
PerspectiveHorizontal | 0 |
PerspectiveRotate | 0.0 |
PerspectiveScale | 100 |
PerspectiveUpright | 0 |
PerspectiveVertical | 0 |
PictureStyle | Standard |
PortraitOutputHighlightPoint | 0 |
PortraitOutputShadowPoint | 0 |
PortraitRawColorTone | 0 |
PortraitRawContrast | 0 |
PortraitRawHighlight | 0 |
PortraitRawHighlightPoint | 0 |
PortraitRawLinear | No |
PortraitRawSaturation | 0 |
PortraitRawShadow | 0 |
PortraitRawShadowPoint | 0 |
PortraitRawSharpness | 0 |
PortraitUnsharpMaskFineness | 7 |
PortraitUnsharpMaskStrength | 0 |
PortraitUnsharpMaskThreshold | 1 |
PostCropVignetteAmount | 0 |
ProcessVersion | 6.7 |
ProfileDescription | sRGB IEC61966-2.1 |
RawBrightnessAdj | 0.00 |
RawColorAdj | Shot Settings |
RawCustomSaturation | 0 |
RawCustomTone | 0 |
RecommendedExposureIndex | 200 |
RedCurveLimits | 255 0 255 0 |
RedCurvePoints | (0,0) (255,255) |
RedHue | 0 |
RedSaturation | 0 |
RGBCurveLimits | 220 1 255 0 |
RGBCurvePoints | (1,0) (62,47) (165,208) (220,255) |
Rights | TNJohansen |
Rotation | 0 |
Saturation | +10 |
SaturationAdj | 116 |
SaturationAdjustmentAqua | 0 |
SaturationAdjustmentBlue | 0 |
SaturationAdjustmentGreen | 0 |
SaturationAdjustmentMagenta | 0 |
SaturationAdjustmentOrange | 0 |
SaturationAdjustmentPurple | 0 |
SaturationAdjustmentRed | 0 |
SaturationAdjustmentYellow | 0 |
ScaleFactor35efl | 1.6 |
SceneCaptureType | Standard |
SensitivityType | Recommended Exposure Index |
SerialNumber | 3681501320 |
Shadows2012 | +20 |
ShadowTint | 0 |
SharpenDetail | 25 |
SharpenEdgeMasking | 32 |
SharpenRadius | +1.0 |
Sharpness | 49 |
SharpnessAdj | 110 |
ShutterSpeed | 1/250 |
ShutterSpeedValue | 1/250 |
Software | Adobe Photoshop Lightroom 5.7 (Windows) |
SplitToningBalance | 0 |
SplitToningHighlightHue | 0 |
SplitToningHighlightSaturation | 0 |
SplitToningShadowHue | 0 |
SplitToningShadowSaturation | 0 |
StandardOutputHighlightPoint | 0 |
StandardOutputShadowPoint | 0 |
StandardRawColorTone | 0 |
StandardRawContrast | 0 |
StandardRawHighlight | 0 |
StandardRawHighlightPoint | 0 |
StandardRawLinear | No |
StandardRawSaturation | 0 |
StandardRawShadow | 0 |
StandardRawShadowPoint | 0 |
StandardRawSharpness | 0 |
StandardUnsharpMaskFineness | 7 |
StandardUnsharpMaskStrength | 0 |
StandardUnsharpMaskThreshold | 1 |
Tint | +19 |
ToneCurve | 0, 0, 255, 255 |
ToneCurveActive | Yes |
ToneCurveBlue | 0, 0, 255, 255 |
ToneCurveGreen | 0, 0, 255, 255 |
ToneCurveInterpolation | Curve |
ToneCurveMode | RGB |
ToneCurveName | Linear |
ToneCurveName2012 | Linear |
ToneCurveProperty | Shot Settings |
ToneCurvePV2012 | 0, 0, 255, 255 |
ToneCurvePV2012Blue | 0, 0, 255, 255 |
ToneCurvePV2012Green | 0, 0, 255, 255 |
ToneCurvePV2012Red | 0, 0, 255, 255 |
ToneCurveRed | 0, 0, 255, 255 |
UnsharpMask | Off |
Version | 8.7 |
Vibrance | +10 |
VignetteAmount | 0 |
VRDVersion | 3.11.2 |
WBAdjColorTemp | 5200 |
WBAdjRGGBLevels | 0 0 0 0 |
WBFineTuneActive | No |
WBFineTuneSaturation | 0 |
WBFineTuneTone | 0 |
WhiteBalance (1) | As Shot |
WhiteBalance | Auto |
WhiteBalanceAdj | Shot Settings |
Whites2012 | -35 |
WorkColorSpace | sRGB |