Felt | Verdi |
2016-02-21T10:56:26+01:00 Filen C:\Users\Bruker\Pictures\raw\2016-0220-20 Februar-Fotoworkshop Håholmen\tiff\03CO0849.tif er lagret
2016-02-23T22:58:53+01:00 Fil 03CO0849.tif åpnet
2016-02-23T23:01:29+01:00 Filen C:\Users\Bruker\Pictures\jpg\03CO0849.jpg er lagret
AlreadyApplied | True |
Aperture | 2.8 |
ApertureValue | 2.8 |
ApproximateFocusDistance | 1.02 |
Artist | @christerolsen_/ Christer Olsen |
AutoLateralCA | 1 |
AutoWhiteVersion | 134348800 |
BitsPerSample (1) | 8 8 8 |
BitsPerSample | 8 |
Blacks2012 | 0 |
BlueHue | 0 |
BlueSaturation | 0 |
By-line | @christerolsen_/ Christer Olsen |
CameraProfile | Adobe Standard |
CircleOfConfusion | 0.007 mm |
Clarity2012 | 0 |
ColorComponents | 3 |
ColorMode | RGB |
ColorNoiseReduction | 25 |
ColorNoiseReductionDetail | 50 |
ColorNoiseReductionSmoothness | 50 |
ColorSpace | Uncalibrated |
ColorTemperature | 6750 |
ColorTransform | YCbCr |
Contrast2012 | +23 |
ConvertToGrayscale | False |
CreateDate | 2016:02:20 11:58:06 |
Creator | @christerolsen_/ Christer Olsen |
CreatorTool | Adobe Photoshop CC 2015 (Windows) |
CustomRendered | Normal |
DateCreated (1) | 2016:02:20 |
DateCreated | 2016:02:20 11:58:06.001 |
DateTimeOriginal | 2016:02:20 11:58:06 |
DefringeGreenAmount | 0 |
DefringeGreenHueHi | 60 |
DefringeGreenHueLo | 40 |
DefringePurpleAmount | 0 |
DefringePurpleHueHi | 70 |
DefringePurpleHueLo | 30 |
Dehaze | 0 |
DistortionCorrectionAlreadyApplied | True |
DOF | 0.14 m (0.96 - 1.09 m) |
ExifImageHeight | 1333 |
ExifImageWidth | 2000 |
Exposure2012 | -0.15 |
ExposureCompensation | 0 |
ExposureMode | Manual |
ExposureProgram | Manual |
ExposureTime | 1/1000 |
Firmware | 1.0.2 |
Flash | Off, Did not fire |
FlashCompensation | 0 |
FNumber | 2.8 |
FocalLength | 17.0 mm |
FocalLength35efl | 17.0 mm (35 mm equivalent: 74.7 mm) |
Format | image/jpeg |
FOV | 27.1 deg |
GPSAltitude (1) | 126 m |
GPSAltitude | 126 m Below Sea Level |
GPSAltitudeRef | Below Sea Level |
GPSDateStamp | 2016:02:20 |
GPSDateTime | 2016:02:20 09:57:11.604Z |
GPSDOP | 7.1 |
GPSImgDirection | 359 |
GPSImgDirectionRef | Magnetic North |
GPSLatitude (1) | 63 deg 0' 38.72" |
GPSLatitude | 63 deg 0' 38.72" N |
GPSLatitudeRef | North |
GPSLongitude (1) | 7 deg 20' 0.74" |
GPSLongitude | 7 deg 20' 0.74" E |
GPSLongitudeRef | East |
GPSMapDatum | WGS-84 |
GPSMeasureMode | 3-Dimensional Measurement |
GPSPosition | 63 deg 0' 38.72" N, 7 deg 20' 0.74" E |
GPSSatellites | 20 |
GPSStatus | Measurement Active |
GPSTimeStamp | 09:57:11.604 |
GPSVersionID | 2.3.0.0 |
GrainAmount | 0 |
GreenHue | 0 |
GreenSaturation | 0 |
HasCrop | False |
HasExtendedXMP | 42C1141FE92E540F686F1209C1125146 |
HasSettings | True |
Highlights2012 | -44 |
HueAdjustmentAqua | 0 |
HueAdjustmentBlue | 0 |
HueAdjustmentGreen | 0 |
HueAdjustmentMagenta | 0 |
HueAdjustmentOrange | 0 |
HueAdjustmentPurple | 0 |
HueAdjustmentRed | 0 |
HueAdjustmentYellow | 0 |
HyperfocalDistance | 15.09 m |
ICCProfileName | Adobe RGB (1998) |
ImageHeight (1) | 3648 |
ImageHeight | 1333 |
ImageNumber | 0 |
ImageSize | 2000x1333 |
ImageWidth (1) | 5472 |
ImageWidth | 2000 |
ISO | 100 |
LateralChromaticAberrationCorrectionAlreadyApplied | True |
Lens | EF-S17-55mm f/2.8 IS USM |
LensID (1) | 240 |
LensID | Canon EF-S 17-55mm f/2.8 IS USM |
LensInfo | 17-55mm f/? |
LensManualDistortionAmount | 0 |
LensModel | EF-S17-55mm f/2.8 IS USM |
LensProfileChromaticAberrationScale | 100 |
LensProfileDistortionScale | 100 |
LensProfileEnable | 1 |
LensProfileFilename | Canon EOS 50D (Canon EF-S 17-55mm f2.8 IS USM) - RAW.lcp |
LensProfileName | Adobe (Canon EF-S 17-55mm f/2.8 IS USM) |
LensProfileSetup | LensDefaults |
LensProfileVignettingScale | 100 |
LensSerialNumber | 00000004bb |
LightValue | 12.9 |
LuminanceAdjustmentAqua | 0 |
LuminanceAdjustmentBlue | 0 |
LuminanceAdjustmentGreen | 0 |
LuminanceAdjustmentMagenta | 0 |
LuminanceAdjustmentOrange | 0 |
LuminanceAdjustmentPurple | 0 |
LuminanceAdjustmentRed | 0 |
LuminanceAdjustmentYellow | 0 |
LuminanceSmoothing | 0 |
Make | Canon |
MaxApertureValue | 2.8 |
Megapixels | 2.7 |
MeteringMode | Spot |
Model | Canon EOS 7D Mark II |
ModifyDate (1) | 2016:02:23 23:01:29+01:00 |
ModifyDate | 2016:02:23 23:01:29 |
Orientation | Horizontal (normal) |
PaintCorrectionActive | true |
PaintCorrectionAmount | 1.000000 |
PaintCorrectionBrightness | 0.000000 |
PaintCorrectionClarity | 0.000000 |
PaintCorrectionClarity2012 | 0.000000 |
PaintCorrectionContrast | 0.000000 |
PaintCorrectionContrast2012 | 0.000000 |
PaintCorrectionDefringe | 0.000000 |
PaintCorrectionExposure | 0.000000 |
PaintCorrectionExposure2012 | 0.300000 |
PaintCorrectionHighlights2012 | 0.100000 |
PaintCorrectionHue | 8.000000 |
PaintCorrectionLocalBlacks2012 | 0.000000 |
PaintCorrectionLocalDehaze | 0.000000 |
PaintCorrectionLocalWhites2012 | 0.000000 |
PaintCorrectionLuminanceNoise | 0.000000 |
PaintCorrectionMaskCenterWeight (37) | 0.038361 |
PaintCorrectionMaskCenterWeight (42) | 0.096428 |
PaintCorrectionMaskCenterWeight | 0.337240 |
PaintCorrectionMaskFlow (27) | 0.888889 |
PaintCorrectionMaskFlow | 0.470588 |
PaintCorrectionMaskRadius (1) | 0.240709 |
PaintCorrectionMaskRadius (10) | 0.082638 |
PaintCorrectionMaskRadius (11) | 0.082615 |
PaintCorrectionMaskRadius (12) | 0.082415 |
PaintCorrectionMaskRadius (13) | 0.082560 |
PaintCorrectionMaskRadius (14) | 0.082092 |
PaintCorrectionMaskRadius (15) | 0.082068 |
PaintCorrectionMaskRadius (16) | 0.082144 |
PaintCorrectionMaskRadius (17) | 0.082146 |
PaintCorrectionMaskRadius (18) | 0.082257 |
PaintCorrectionMaskRadius (19) | 0.082057 |
PaintCorrectionMaskRadius (2) | 0.243104 |
PaintCorrectionMaskRadius (20) | 0.082032 |
PaintCorrectionMaskRadius (21) | 0.082089 |
PaintCorrectionMaskRadius (22) | 0.083352 |
PaintCorrectionMaskRadius (23) | 0.082429 |
PaintCorrectionMaskRadius (24) | 0.082906 |
PaintCorrectionMaskRadius (25) | 0.083979 |
PaintCorrectionMaskRadius (26) | 0.082515 |
PaintCorrectionMaskRadius (27) | 0.082574 |
PaintCorrectionMaskRadius (28) | 0.082651 |
PaintCorrectionMaskRadius (29) | 0.082177 |
PaintCorrectionMaskRadius (3) | 0.241308 |
PaintCorrectionMaskRadius (30) | 0.026391 |
PaintCorrectionMaskRadius (31) | 0.026342 |
PaintCorrectionMaskRadius (32) | 0.026399 |
PaintCorrectionMaskRadius (33) | 0.026395 |
PaintCorrectionMaskRadius (34) | 0.026393 |
PaintCorrectionMaskRadius (35) | 0.026408 |
PaintCorrectionMaskRadius (37) | 0.026331 |
PaintCorrectionMaskRadius (38) | 0.026421 |
PaintCorrectionMaskRadius (39) | 0.026345 |
PaintCorrectionMaskRadius (4) | 0.238859 |
PaintCorrectionMaskRadius (40) | 0.026332 |
PaintCorrectionMaskRadius (41) | 0.026372 |
PaintCorrectionMaskRadius (42) | 0.024687 |
PaintCorrectionMaskRadius (43) | 0.024696 |
PaintCorrectionMaskRadius (44) | 0.024678 |
PaintCorrectionMaskRadius (47) | 0.015369 |
PaintCorrectionMaskRadius (48) | 0.015385 |
PaintCorrectionMaskRadius (49) | 0.015372 |
PaintCorrectionMaskRadius (5) | 0.240611 |
PaintCorrectionMaskRadius (50) | 0.015387 |
PaintCorrectionMaskRadius (52) | 0.015382 |
PaintCorrectionMaskRadius (53) | 0.015420 |
PaintCorrectionMaskRadius (54) | 0.015451 |
PaintCorrectionMaskRadius (56) | 0.015376 |
PaintCorrectionMaskRadius (57) | 0.015365 |
PaintCorrectionMaskRadius (58) | 0.015366 |
PaintCorrectionMaskRadius (59) | 0.015391 |
PaintCorrectionMaskRadius (6) | 0.238458 |
PaintCorrectionMaskRadius (60) | 0.015428 |
PaintCorrectionMaskRadius (61) | 0.015444 |
PaintCorrectionMaskRadius (62) | 0.015446 |
PaintCorrectionMaskRadius (63) | 0.015436 |
PaintCorrectionMaskRadius (65) | 0.015399 |
PaintCorrectionMaskRadius (66) | 0.015422 |
PaintCorrectionMaskRadius (67) | 0.015442 |
PaintCorrectionMaskRadius (68) | 0.015437 |
PaintCorrectionMaskRadius (69) | 0.015438 |
PaintCorrectionMaskRadius (7) | 0.237896 |
PaintCorrectionMaskRadius (71) | 0.016694 |
PaintCorrectionMaskRadius (72) | 0.016721 |
PaintCorrectionMaskRadius (73) | 0.016714 |
PaintCorrectionMaskRadius (74) | 0.016703 |
PaintCorrectionMaskRadius (75) | 0.016718 |
PaintCorrectionMaskRadius (76) | 0.007652 |
PaintCorrectionMaskRadius (77) | 0.007624 |
PaintCorrectionMaskRadius (79) | 0.007633 |
PaintCorrectionMaskRadius (8) | 0.238263 |
PaintCorrectionMaskRadius (80) | 0.007627 |
PaintCorrectionMaskRadius (81) | 0.007625 |
PaintCorrectionMaskRadius (82) | 0.007636 |
PaintCorrectionMaskRadius (83) | 0.007626 |
PaintCorrectionMaskRadius (84) | 0.007656 |
PaintCorrectionMaskRadius (85) | 0.007655 |
PaintCorrectionMaskRadius (86) | 0.007648 |
PaintCorrectionMaskRadius (87) | 0.007643 |
PaintCorrectionMaskRadius (88) | 0.007649 |
PaintCorrectionMaskRadius (89) | 0.009448 |
PaintCorrectionMaskRadius (9) | 0.053971 |
PaintCorrectionMaskRadius (90) | 0.009455 |
PaintCorrectionMaskRadius | 0.037430 |
PaintCorrectionMaskValue (27) | 1.000000 |
PaintCorrectionMaskValue | 0.000000 |
PaintCorrectionMaskWhat | Mask/Paint |
PaintCorrectionMoire | 0.000000 |
PaintCorrectionSaturation | 0.000000 |
PaintCorrectionShadows2012 | 0.000000 |
PaintCorrectionSharpness | 0.000000 |
PaintCorrectionTemperature | 0.090000 |
PaintCorrectionTint | 0.000000 |
PaintCorrectionWhat | Correction |
ParametricDarks | 0 |
ParametricHighlights | 0 |
ParametricHighlightSplit | 75 |
ParametricLights | 0 |
ParametricMidtoneSplit | 50 |
ParametricShadows | 0 |
ParametricShadowSplit | 25 |
PerspectiveAspect | 0 |
PerspectiveHorizontal | 0 |
PerspectiveRotate | 0.0 |
PerspectiveScale | 100 |
PerspectiveUpright | 0 |
PerspectiveVertical | 0 |
PhotometricInterpretation | RGB |
PlanarConfiguration | Chunky |
PostCropVignetteAmount | 0 |
ProcessVersion | 6.7 |
ProfileDescription | Adobe RGB (1998) |
Rating | 1 |
RawFileName | 03CO0849.CR2 |
RecommendedExposureIndex | 100 |
RedHue | 0 |
RedSaturation | 0 |
SamplesPerPixel | 3 |
Saturation | 0 |
SaturationAdjustmentAqua | 0 |
SaturationAdjustmentBlue | 0 |
SaturationAdjustmentGreen | 0 |
SaturationAdjustmentMagenta | 0 |
SaturationAdjustmentOrange | 0 |
SaturationAdjustmentPurple | 0 |
SaturationAdjustmentRed | 0 |
SaturationAdjustmentYellow | 0 |
ScaleFactor35efl | 4.4 |
SceneCaptureType | Standard |
SensitivityType | Recommended Exposure Index |
SerialNumber | 063021006477 |
Shadows2012 | +35 |
ShadowTint | 0 |
SharpenDetail | 25 |
SharpenEdgeMasking | 0 |
SharpenRadius | +1.0 |
Sharpness | 25 |
ShutterSpeed | 1/1000 |
ShutterSpeedValue | 1/1000 |
Software | Adobe Photoshop CC 2015 (Windows) |
SplitToningBalance | 0 |
SplitToningHighlightHue | 0 |
SplitToningHighlightSaturation | 0 |
SplitToningShadowHue | 0 |
SplitToningShadowSaturation | 0 |
Tint | +10 |
ToneCurve | 0, 0, 32, 22, 64, 56, 128, 128, 192, 196, 255, 255 |
ToneCurveBlue | 0, 0, 255, 255 |
ToneCurveGreen | 0, 0, 255, 255 |
ToneCurveName | Medium Contrast |
ToneCurveName2012 | Linear |
ToneCurvePV2012 | 0, 0, 255, 255 |
ToneCurvePV2012Blue | 0, 0, 255, 255 |
ToneCurvePV2012Green | 0, 0, 255, 255 |
ToneCurvePV2012Red | 0, 0, 255, 255 |
ToneCurveRed | 0, 0, 255, 255 |
ToneMapStrength | 0 |
URL_List | |
Version | 9.4 |
Vibrance | 0 |
VignetteAmount | 0 |
VignetteCorrectionAlreadyApplied | True |
WhiteBalance (1) | As Shot |
WhiteBalance | Auto |
Whites2012 | 0 |