Felt | Verdi |
AlreadyApplied | True |
Aperture | 5.0 |
ApertureValue | 5.0 |
ApproximateFocusDistance | 4294967295 |
AutoLateralCA | 1 |
AutoWhiteVersion | 134348800 |
BitsPerSample | 8 |
Blacks2012 | 0 |
BlueHue | 0 |
BlueSaturation | 0 |
CameraProfile | Adobe Standard |
CFAPattern | [Red,Green][Green,Blue] |
CircleOfConfusion | 0.030 mm |
Clarity2012 | 0 |
ColorComponents | 3 |
ColorMode | RGB |
ColorNoiseReduction | 25 |
ColorNoiseReductionDetail | 50 |
ColorNoiseReductionSmoothness | 50 |
ColorSpace | Uncalibrated |
ColorTemperature | 6450 |
ColorTransform | YCbCr |
Contrast | Normal |
Contrast2012 | 0 |
ConvertToGrayscale | False |
CreateDate | 2016:11:26 12:30:51 |
CreatorTool | NIKON D750 Ver.1.10 |
CropAngle | 0 |
CropBottom | 0.997667 |
CropConstrainToWarp | 1 |
CropLeft | 0.003568 |
CropRight | 0.989055 |
CropTop | 0.170804 |
CustomRendered | Normal |
DateCreated (1) | 2016:11:26 |
DateCreated | 2016:11:26 12:30:51.051 |
DateTimeOriginal | 2016:11:26 12:30:51 |
DefringeGreenAmount | 0 |
DefringeGreenHueHi | 60 |
DefringeGreenHueLo | 40 |
DefringePurpleAmount | 0 |
DefringePurpleHueHi | 70 |
DefringePurpleHueLo | 30 |
Dehaze | 0 |
DigitalZoomRatio | 1 |
DistortionCorrectionAlreadyApplied | True |
DOF | inf (1.30 m - inf) |
ExifImageHeight | 1120 |
ExifImageWidth | 1999 |
Exposure2012 | +0.15 |
ExposureCompensation | 0 |
ExposureMode | Auto |
ExposureProgram | Aperture-priority AE |
ExposureTime | 1/100 |
Flash | Off, Did not fire |
FNumber | 5.0 |
FocalLength | 14.0 mm |
FocalLength35efl | 14.0 mm (35 mm equivalent: 14.0 mm) |
FocalLengthIn35mmFormat | 14 mm |
Format | image/jpeg |
FOV | 104.3 deg |
GainControl | Low gain up |
GrainAmount | 0 |
GreenHue | 0 |
GreenSaturation | 0 |
HasCrop | True |
HasSettings | True |
Highlights2012 | 0 |
HueAdjustmentAqua | 0 |
HueAdjustmentBlue | 0 |
HueAdjustmentGreen | 0 |
HueAdjustmentMagenta | 0 |
HueAdjustmentOrange | 0 |
HueAdjustmentPurple | 0 |
HueAdjustmentRed | 0 |
HueAdjustmentYellow | 0 |
HyperfocalDistance | 1.30 m |
ICCProfileName | Adobe RGB (1998) |
ImageHeight | 1120 |
ImageNumber | 1958 |
ImageSize | 1999x1120 |
ImageWidth | 1999 |
ISO | 500 |
LateralChromaticAberrationCorrectionAlreadyApplied | True |
Lens | 14.0 mm f/2.8 |
LensID (1) | 74 |
LensID | Samyang AE 14mm f/2.8 ED AS IF UMC |
LensInfo | 14mm f/2.8-1.4 |
LensManualDistortionAmount | 0 |
LensModel | 14.0 mm f/2.8 |
LensProfileChromaticAberrationScale | 100 |
LensProfileDistortionScale | 100 |
LensProfileEnable | 1 |
LensProfileFilename | NIKON CORPORATION (Samyang 14mm f2.8 ED AS IF UMC) - RAW.lcp |
LensProfileName | Adobe (Samyang 14mm f/2.8 ED AS IF UMC, NIKON CORPORATION) |
LensProfileSetup | Custom |
LensProfileVignettingScale | 100 |
LightSource | Unknown |
LightValue | 9.0 |
LuminanceAdjustmentAqua | 0 |
LuminanceAdjustmentBlue | 0 |
LuminanceAdjustmentGreen | 0 |
LuminanceAdjustmentMagenta | 0 |
LuminanceAdjustmentOrange | 0 |
LuminanceAdjustmentPurple | 0 |
LuminanceAdjustmentRed | 0 |
LuminanceAdjustmentYellow | 0 |
LuminanceSmoothing | 0 |
Make | NIKON CORPORATION |
MaxApertureValue | 2.8 |
Megapixels | 2.2 |
MeteringMode | Multi-segment |
Model | NIKON D750 |
ModifyDate (1) | 2016:11:26 13:48:21+01:00 |
ModifyDate | 2016:11:26 13:48:21 |
Orientation | Horizontal (normal) |
ParametricDarks | 0 |
ParametricHighlights | 0 |
ParametricHighlightSplit | 75 |
ParametricLights | 0 |
ParametricMidtoneSplit | 50 |
ParametricShadows | 0 |
ParametricShadowSplit | 25 |
PerspectiveAspect | 0 |
PerspectiveHorizontal | 0 |
PerspectiveRotate | 0.0 |
PerspectiveScale | 100 |
PerspectiveUpright | 0 |
PerspectiveVertical | 0 |
PerspectiveX | 0.00 |
PerspectiveY | 0.00 |
PostCropVignetteAmount | 0 |
ProcessVersion | 6.7 |
ProfileDescription | Adobe RGB (1998) |
Rating | 0 |
RawFileName | _DSC1905.NEF |
RedHue | 0 |
RedSaturation | 0 |
Saturation (1) | 0 |
Saturation | Normal |
SaturationAdjustmentAqua | 0 |
SaturationAdjustmentBlue | 0 |
SaturationAdjustmentGreen | 0 |
SaturationAdjustmentMagenta | 0 |
SaturationAdjustmentOrange | 0 |
SaturationAdjustmentPurple | 0 |
SaturationAdjustmentRed | 0 |
SaturationAdjustmentYellow | 0 |
ScaleFactor35efl | 1.0 |
SceneCaptureType | Standard |
SceneType | Directly photographed |
SensingMethod | One-chip color area |
SensitivityType | Recommended Exposure Index |
SerialNumber | 5508516 |
Shadows2012 | 0 |
ShadowTint | 0 |
SharpenDetail | 25 |
SharpenEdgeMasking | 0 |
SharpenRadius | +1.0 |
Sharpness (1) | 25 |
Sharpness | Normal |
ShutterSpeed | 1/100 |
ShutterSpeedValue | 1/100 |
Software | Adobe Photoshop CC 2015.5 (Macintosh) |
SplitToningBalance | 0 |
SplitToningHighlightHue | 0 |
SplitToningHighlightSaturation | 0 |
SplitToningShadowHue | 0 |
SplitToningShadowSaturation | 0 |
SubjectDistanceRange | Unknown |
Tint | +11 |
ToneCurve | 0, 0, 32, 22, 64, 56, 128, 128, 192, 196, 255, 255 |
ToneCurveBlue | 0, 0, 255, 255 |
ToneCurveGreen | 0, 0, 255, 255 |
ToneCurveName | Medium Contrast |
ToneCurveName2012 | Linear |
ToneCurvePV2012 | 0, 0, 255, 255 |
ToneCurvePV2012Blue | 0, 0, 255, 255 |
ToneCurvePV2012Green | 0, 0, 255, 255 |
ToneCurvePV2012Red | 0, 0, 255, 255 |
ToneCurveRed | 0, 0, 255, 255 |
ToneMapStrength | 0 |
URL_List | |
Version | 9.7 |
Vibrance | 0 |
VignetteAmount | 0 |
VignetteCorrectionAlreadyApplied | True |
WhiteBalance (1) | Custom |
WhiteBalance | Auto |
Whites2012 | 0 |