Felt | Verdi |
AlreadyApplied | True |
Aperture | 6.3 |
ApertureValue | 6.3 |
ApproximateFocusDistance | 4294967295 |
AutoLateralCA | 0 |
AutoWhiteVersion | 134348800 |
BitsPerSample | 8 |
Blacks2012 | +45 |
BlueHue | 0 |
BlueSaturation | 0 |
CameraProfile | Adobe Standard |
CFAPattern | [Red,Green][Green,Blue] |
CircGradBasedCorrActive | true |
CircGradBasedCorrAmount | 1.000000 |
CircGradBasedCorrBrightness | 0.000000 |
CircGradBasedCorrClarity2012 | 0.000000 |
CircGradBasedCorrContrast2012 | 0.000000 |
CircGradBasedCorrDefringe | 0.000000 |
CircGradBasedCorrExposure2012 | 0.145000 |
CircGradBasedCorrHighlights2012 | 0.000000 |
CircGradBasedCorrHue | 0.000000 |
CircGradBasedCorrLocalBlacks2012 | 0.000000 |
CircGradBasedCorrLocalDehaze | 0.000000 |
CircGradBasedCorrLocalWhites2012 | 0.000000 |
CircGradBasedCorrLuminanceNoise | 0.000000 |
CircGradBasedCorrMaskAngle | -39.865900 |
CircGradBasedCorrMaskBottom | 0.102406 |
CircGradBasedCorrMaskFeather | +33 |
CircGradBasedCorrMaskFlipped | true |
CircGradBasedCorrMaskLeft | 0.357207 |
CircGradBasedCorrMaskMidpoint | +50 |
CircGradBasedCorrMaskRight | 0.978202 |
CircGradBasedCorrMaskRoundness | 0 |
CircGradBasedCorrMaskTop | 0.451893 |
CircGradBasedCorrMaskValue | 1.000000 |
CircGradBasedCorrMaskVersion | +2 |
CircGradBasedCorrMaskWhat | Mask/CircularGradient |
CircGradBasedCorrMoire | 0.000000 |
CircGradBasedCorrSaturation | 0.000000 |
CircGradBasedCorrShadows2012 | 0.000000 |
CircGradBasedCorrSharpness | 0.000000 |
CircGradBasedCorrTemperature | 0.000000 |
CircGradBasedCorrTint | 0.000000 |
CircGradBasedCorrWhat | Correction |
CircleOfConfusion | 0.030 mm |
Clarity2012 | -10 |
ColorComponents | 3 |
ColorNoiseReduction | 25 |
ColorNoiseReductionDetail | 50 |
ColorNoiseReductionSmoothness | 50 |
ColorSpace | sRGB |
ColorTemperature | 6191 |
ColorTransform | YCbCr |
Contrast | Normal |
Contrast2012 | +71 |
ConvertToGrayscale | False |
CreateDate (1) | 2017:04:24 09:03:27.22 |
CreateDate | 2017:04:24 09:03:27 |
CreatorTool | Adobe Photoshop Lightroom 6.6 (Windows) |
CropAngle | 2.771 |
CropBottom | 0.686044 |
CropConstrainToWarp | 0 |
CropLeft | 0.227468 |
CropRight | 0.740867 |
CropTop | 0.031539 |
CustomRendered | Normal |
DateCreated (1) | 2017:04:24 |
DateCreated | 2017:04:24 09:03:27.22 |
DateTimeOriginal | 2017:04:24 09:03:27 |
DefringeGreenAmount | 0 |
DefringeGreenHueHi | 60 |
DefringeGreenHueLo | 40 |
DefringePurpleAmount | 0 |
DefringePurpleHueHi | 70 |
DefringePurpleHueLo | 30 |
Dehaze | +15 |
DigitalZoomRatio | 1 |
DOF | inf (845.26 m - inf) |
Exposure2012 | -0.12 |
ExposureCompensation | 0 |
ExposureMode | Auto |
ExposureProgram | Aperture-priority AE |
ExposureTime | 1/2500 |
Flash | No Flash |
FNumber | 6.3 |
FocalLength | 400.0 mm |
FocalLength35efl | 400.0 mm (35 mm equivalent: 400.0 mm) |
FocalLengthIn35mmFormat | 400 mm |
Format | image/jpeg |
FOV | 5.2 deg |
GainControl | Low gain up |
GradientBasedCorrActive | true |
GradientBasedCorrAmount | 1.000000 |
GradientBasedCorrBrightness | 0.000000 |
GradientBasedCorrClarity2012 | 0.165049 |
GradientBasedCorrContrast2012 | 0.038835 |
GradientBasedCorrDefringe | 0.000000 |
GradientBasedCorrExposure2012 | -0.100000 |
GradientBasedCorrHighlights2012 | -0.252427 |
GradientBasedCorrHue | 240.000000 |
GradientBasedCorrLocalBlacks2012 | 0.000000 |
GradientBasedCorrLocalDehaze | 0.020000 |
GradientBasedCorrLocalWhites2012 | 0.029126 |
GradientBasedCorrLuminanceNoise | 0.000000 |
GradientBasedCorrMaskFullX | 0.518241 |
GradientBasedCorrMaskFullY | 0.263021 |
GradientBasedCorrMaskValue | 1.000000 |
GradientBasedCorrMaskWhat | Mask/Gradient |
GradientBasedCorrMaskZeroX | 0.518241 |
GradientBasedCorrMaskZeroY | 0.375146 |
GradientBasedCorrMoire | 0.000000 |
GradientBasedCorrSaturation (1) | 0.140739 |
GradientBasedCorrSaturation | 0.000000 |
GradientBasedCorrShadows2012 | 0.077670 |
GradientBasedCorrSharpness | 0.000000 |
GradientBasedCorrTemperature | 0.000000 |
GradientBasedCorrTint | 0.000000 |
GradientBasedCorrWhat | Correction |
GrainAmount | 9 |
GrainFrequency | 50 |
GrainSize | 25 |
GreenHue | -5 |
GreenSaturation | 0 |
HasCrop | True |
HasSettings | True |
Highlights2012 | -55 |
HueAdjustmentAqua | 0 |
HueAdjustmentBlue | +6 |
HueAdjustmentGreen | +6 |
HueAdjustmentMagenta | 0 |
HueAdjustmentOrange | 0 |
HueAdjustmentPurple | 0 |
HueAdjustmentRed | +5 |
HueAdjustmentYellow | -8 |
HyperfocalDistance | 845.26 m |
ImageHeight | 1080 |
ImageNumber | 59444 |
ImageSize | 1406x1080 |
ImageWidth | 1406 |
ISO | 500 |
Lens | 80.0-400.0 mm f/4.5-5.6 |
LensID (1) | 183 |
LensID | AF-S Nikkor 80-400mm f/4.5-5.6G ED VR |
LensInfo | 80-400mm f/4.5-5.6 |
LensManualDistortionAmount | 0 |
LensModel | 80.0-400.0 mm f/4.5-5.6 |
LensProfileEnable | 0 |
LensProfileSetup | LensDefaults |
LightSource | Unknown |
LightValue | 14.3 |
LuminanceAdjustmentAqua | 0 |
LuminanceAdjustmentBlue | -21 |
LuminanceAdjustmentGreen | -15 |
LuminanceAdjustmentMagenta | 0 |
LuminanceAdjustmentOrange | +5 |
LuminanceAdjustmentPurple | 0 |
LuminanceAdjustmentRed | +12 |
LuminanceAdjustmentYellow | +3 |
LuminanceNoiseReductionContrast | 0 |
LuminanceNoiseReductionDetail | 50 |
LuminanceSmoothing | 23 |
Make | NIKON CORPORATION |
MaxApertureValue | 5.7 |
Megapixels | 1.5 |
MeteringMode | Multi-segment |
Model | NIKON D3S |
ModifyDate (1) | 2017:05:18 21:55:38+02:00 |
ModifyDate | 2017:05:18 21:55:38 |
ParametricDarks | -9 |
ParametricHighlights | -9 |
ParametricHighlightSplit | 75 |
ParametricLights | +28 |
ParametricMidtoneSplit | 50 |
ParametricShadows | -5 |
ParametricShadowSplit | 25 |
PerspectiveAspect | 0 |
PerspectiveHorizontal | 0 |
PerspectiveRotate | 0.0 |
PerspectiveScale | 100 |
PerspectiveUpright | 0 |
PerspectiveVertical | 0 |
PerspectiveX | 0.00 |
PerspectiveY | 0.00 |
PostCropVignetteAmount | -25 |
PostCropVignetteFeather | 100 |
PostCropVignetteHighlightContrast | 17 |
PostCropVignetteMidpoint | 28 |
PostCropVignetteRoundness | -1 |
PostCropVignetteStyle | 2 |
ProcessVersion | 6.7 |
ProfileDescription | sRGB IEC61966-2.1 |
RedHue | +8 |
RedSaturation | -15 |
Saturation (1) | -3 |
Saturation | Normal |
SaturationAdjustmentAqua | 0 |
SaturationAdjustmentBlue | +20 |
SaturationAdjustmentGreen | +8 |
SaturationAdjustmentMagenta | 0 |
SaturationAdjustmentOrange | 0 |
SaturationAdjustmentPurple | 0 |
SaturationAdjustmentRed | -7 |
SaturationAdjustmentYellow | -29 |
ScaleFactor35efl | 1.0 |
SceneCaptureType | Standard |
SceneType | Directly photographed |
SensingMethod | One-chip color area |
SerialNumber | 2017903 |
Shadows2012 | +83 |
ShadowTint | 0 |
SharpenDetail | 25 |
SharpenEdgeMasking | 100 |
SharpenRadius | +1.0 |
Sharpness (1) | 25 |
Sharpness | Normal |
ShutterSpeed | 1/2500 |
ShutterSpeedValue | 1/2500 |
Software | Adobe Photoshop Lightroom 6.6 (Windows) |
SplitToningBalance | 0 |
SplitToningHighlightHue | 44 |
SplitToningHighlightSaturation | 15 |
SplitToningShadowHue | 235 |
SplitToningShadowSaturation | 15 |
SubjectDistanceRange | Unknown |
Tint | +10 |
ToneCurve | 0, 0, 255, 255 |
ToneCurveBlue | 0, 0, 255, 255 |
ToneCurveGreen | 0, 0, 255, 255 |
ToneCurveName | Linear |
ToneCurveName2012 | Linear |
ToneCurvePV2012 | 0, 0, 255, 255 |
ToneCurvePV2012Blue | 0, 0, 255, 255 |
ToneCurvePV2012Green | 0, 0, 255, 255 |
ToneCurvePV2012Red | 0, 0, 255, 255 |
ToneCurveRed | 0, 0, 255, 255 |
ToneMapStrength | 0 |
Version | 9.6 |
Vibrance | +3 |
VignetteAmount | 0 |
WhiteBalance (1) | Custom |
WhiteBalance | Auto |
Whites2012 | -46 |