Felt | Verdi |
AlreadyApplied | True |
Aperture | 13.0 |
ApertureValue | 13.0 |
Artist | Øyvind Samdal Steinskog |
AutoLateralCA | 0 |
AutoWhiteVersion | 134348800 |
BitsPerSample | 8 |
Blacks2012 | +20 |
BlueHue | -12 |
BlueSaturation | -15 |
BrightnessValue | 3.65 |
By-line | Øyvind Samdal Steinskog |
CameraProfile | Portra 160⁺¹ - F |
CircGradBasedCorrActive | true |
CircGradBasedCorrAmount | 1.000000 |
CircGradBasedCorrBrightness | 0.000000 |
CircGradBasedCorrClarity2012 | 0.000000 |
CircGradBasedCorrContrast2012 | 0.000000 |
CircGradBasedCorrDefringe | 0.000000 |
CircGradBasedCorrExposure2012 (1) | 0.166921 |
CircGradBasedCorrExposure2012 (2) | 0.107470 |
CircGradBasedCorrExposure2012 (3) | 0.090130 |
CircGradBasedCorrExposure2012 | 0.122237 |
CircGradBasedCorrHighlights2012 | 0.000000 |
CircGradBasedCorrHue | 240.000000 |
CircGradBasedCorrLocalBlacks2012 | 0.000000 |
CircGradBasedCorrLocalDehaze | 0.000000 |
CircGradBasedCorrLocalWhites2012 | 0.000000 |
CircGradBasedCorrLuminanceNoise | 0.000000 |
CircGradBasedCorrMaskAngle (1) | -6.159950 |
CircGradBasedCorrMaskAngle (2) | 0.000000 |
CircGradBasedCorrMaskAngle (3) | 17.497400 |
CircGradBasedCorrMaskAngle | -7.168330 |
CircGradBasedCorrMaskBottom (1) | 0.765035 |
CircGradBasedCorrMaskBottom (2) | 0.683470 |
CircGradBasedCorrMaskBottom (3) | 1.021690 |
CircGradBasedCorrMaskBottom | 0.648470 |
CircGradBasedCorrMaskFeather | +100 |
CircGradBasedCorrMaskFlipped | true |
CircGradBasedCorrMaskLeft (1) | 0.374128 |
CircGradBasedCorrMaskLeft (2) | -0.004953 |
CircGradBasedCorrMaskLeft (3) | 0.071296 |
CircGradBasedCorrMaskLeft | 0.544526 |
CircGradBasedCorrMaskMidpoint | +50 |
CircGradBasedCorrMaskRight (1) | 1.120870 |
CircGradBasedCorrMaskRight (2) | 0.543693 |
CircGradBasedCorrMaskRight (3) | 0.446716 |
CircGradBasedCorrMaskRight | 1.021270 |
CircGradBasedCorrMaskRoundness | 0 |
CircGradBasedCorrMaskTop (1) | 0.644632 |
CircGradBasedCorrMaskTop (2) | 0.499695 |
CircGradBasedCorrMaskTop (3) | 0.603641 |
CircGradBasedCorrMaskTop | 0.604293 |
CircGradBasedCorrMaskValue | 1.000000 |
CircGradBasedCorrMaskVersion | +2 |
CircGradBasedCorrMaskWhat | Mask/CircularGradient |
CircGradBasedCorrMoire | 0.000000 |
CircGradBasedCorrSaturation | 0.000000 |
CircGradBasedCorrShadows2012 | 0.000000 |
CircGradBasedCorrSharpness | 0.000000 |
CircGradBasedCorrTemperature | 0.000000 |
CircGradBasedCorrTint | 0.000000 |
CircGradBasedCorrWhat | Correction |
CircleOfConfusion | 0.020 mm |
Clarity2012 | 0 |
ColorComponents | 3 |
ColorNoiseReduction | 0 |
ColorSpace | Uncalibrated |
ColorTransform | YCbCr |
Contrast2012 | 0 |
ConvertToGrayscale | False |
Copyright | Copyright Samdal Steinskog |
CopyrightFlag | True |
CopyrightNotice | Copyright Samdal Steinskog |
CreateDate | 2017:07:20 21:36:25 |
Creator | Øyvind Samdal Steinskog |
CreatorAddress | Nattlandsli 5 |
CreatorCity | Bergen |
CreatorCountry | Norway |
CreatorPostalCode | 5231 |
CreatorTool | Adobe Photoshop Lightroom 6.10.1 (Macintosh) |
CreatorWorkEmail | steinskog@gmail.com |
CreatorWorkTelephone | 47623566 |
CustomRendered | Normal |
DateCreated (1) | 2017:07:20 |
DateCreated | 2017:07:20 21:36:25 |
DateTimeOriginal | 2017:07:20 21:36:25 |
DefringeGreenAmount | 0 |
DefringeGreenHueHi | 60 |
DefringeGreenHueLo | 40 |
DefringePurpleAmount | 0 |
DefringePurpleHueHi | 70 |
DefringePurpleHueLo | 30 |
Dehaze | 0 |
Exposure2012 | 0.00 |
ExposureCompensation | 0 |
ExposureMode | Auto |
ExposureProgram | Aperture-priority AE |
ExposureTime | 0.5 |
Flash | No Flash |
FNumber | 13.0 |
FocalLength | 115.0 mm |
FocalLength35efl | 115.0 mm (35 mm equivalent: 173.0 mm) |
FocalLengthIn35mmFormat | 173 mm |
Format | image/jpeg |
FOV | 11.9 deg |
GradientBasedCorrActive | true |
GradientBasedCorrAmount | 1.000000 |
GradientBasedCorrBrightness | 0.000000 |
GradientBasedCorrClarity2012 | 0.000000 |
GradientBasedCorrContrast2012 | 0.000000 |
GradientBasedCorrDefringe | 0.000000 |
GradientBasedCorrExposure2012 (1) | -0.172447 |
GradientBasedCorrExposure2012 | -0.268197 |
GradientBasedCorrHighlights2012 | 0.000000 |
GradientBasedCorrHue | 240.000000 |
GradientBasedCorrLocalBlacks2012 | 0.000000 |
GradientBasedCorrLocalDehaze | 0.000000 |
GradientBasedCorrLocalWhites2012 | 0.000000 |
GradientBasedCorrLuminanceNoise | 0.000000 |
GradientBasedCorrMaskFullX (1) | 0.456092 |
GradientBasedCorrMaskFullX | 0.493590 |
GradientBasedCorrMaskFullY (1) | 0.060732 |
GradientBasedCorrMaskFullY | 0.977752 |
GradientBasedCorrMaskValue | 1.000000 |
GradientBasedCorrMaskWhat | Mask/Gradient |
GradientBasedCorrMaskZeroX (1) | 0.457753 |
GradientBasedCorrMaskZeroX | 0.498029 |
GradientBasedCorrMaskZeroY (1) | 0.478999 |
GradientBasedCorrMaskZeroY | 0.892715 |
GradientBasedCorrMoire | 0.000000 |
GradientBasedCorrSaturation | 0.000000 |
GradientBasedCorrShadows2012 | 0.000000 |
GradientBasedCorrSharpness | 0.000000 |
GradientBasedCorrTemperature | 0.000000 |
GradientBasedCorrTint | 0.000000 |
GradientBasedCorrWhat | Correction |
GrainAmount | 0 |
GreenHue | +50 |
GreenSaturation | -10 |
HasCrop | False |
HasExtendedXMP | 68291AAE09186AF5C31E5EE311D65029 |
HasSettings | True |
Highlights2012 | -29 |
HueAdjustmentAqua | +5 |
HueAdjustmentBlue | -4 |
HueAdjustmentGreen | +15 |
HueAdjustmentMagenta | +25 |
HueAdjustmentOrange | +12 |
HueAdjustmentPurple | +10 |
HueAdjustmentRed | +8 |
HueAdjustmentYellow | +10 |
HyperfocalDistance | 50.93 m |
ImageHeight | 4000 |
ImageSize | 6000x4000 |
ImageWidth | 6000 |
IncrementalTemperature | 0 |
IncrementalTint | 0 |
ISO | 100 |
Keywords | Sommer |
Lens | XF50-140mmF2.8 R LM OIS WR |
LensInfo | 50-140mm f/2.8 |
LensMake | FUJIFILM |
LensManualDistortionAmount | 0 |
LensModel | XF50-140mmF2.8 R LM OIS WR |
LensProfileEnable | 0 |
LensProfileSetup | LensDefaults |
LensSerialNumber | 56A10606 |
LightSource | Unknown |
LightValue | 8.4 |
LuminanceAdjustmentAqua | 0 |
LuminanceAdjustmentBlue | -10 |
LuminanceAdjustmentGreen | 0 |
LuminanceAdjustmentMagenta | 0 |
LuminanceAdjustmentOrange | 0 |
LuminanceAdjustmentPurple | 0 |
LuminanceAdjustmentRed | -20 |
LuminanceAdjustmentYellow | 0 |
LuminanceSmoothing | 0 |
Make | FUJIFILM |
Marked | True |
MaxApertureValue | 2.8 |
Megapixels | 24.0 |
MeteringMode | Average |
Model | X-T2 |
ModifyDate (1) | 2017:08:23 21:09:28+02:00 |
ModifyDate | 2017:08:23 21:09:28 |
PaintCorrectionActive | true |
PaintCorrectionAmount | 1.000000 |
PaintCorrectionBrightness | 0.000000 |
PaintCorrectionClarity2012 (10) | 0.149295 |
PaintCorrectionClarity2012 | 0.000000 |
PaintCorrectionContrast2012 | 0.000000 |
PaintCorrectionDefringe | 0.000000 |
PaintCorrectionExposure2012 (1) | 0.150915 |
PaintCorrectionExposure2012 (2) | 0.052591 |
PaintCorrectionExposure2012 (3) | -0.124714 |
PaintCorrectionExposure2012 (5) | 0.127954 |
PaintCorrectionExposure2012 (7) | -0.109566 |
PaintCorrectionExposure2012 (8) | 0.070217 |
PaintCorrectionExposure2012 (9) | -0.077744 |
PaintCorrectionExposure2012 | 0.000000 |
PaintCorrectionHighlights2012 (6) | 0.000000 |
PaintCorrectionHighlights2012 | 1.000000 |
PaintCorrectionHue | 240.000000 |
PaintCorrectionLocalBlacks2012 | 0.000000 |
PaintCorrectionLocalDehaze (9) | 0.233232 |
PaintCorrectionLocalDehaze | 0.000000 |
PaintCorrectionLocalWhites2012 (10) | 0.260194 |
PaintCorrectionLocalWhites2012 | 0.000000 |
PaintCorrectionLuminanceNoise | 0.000000 |
PaintCorrectionMaskCenterWeight | 0.094931 |
PaintCorrectionMaskFlow | 0.714979 |
PaintCorrectionMaskRadius (15) | 0.065362 |
PaintCorrectionMaskRadius (183) | 0.103146 |
PaintCorrectionMaskRadius (31) | 0.028934 |
PaintCorrectionMaskRadius (51) | 0.019158 |
PaintCorrectionMaskRadius | 0.072497 |
PaintCorrectionMaskValue | 0.711589 |
PaintCorrectionMaskWhat | Mask/Paint |
PaintCorrectionMoire | 0.000000 |
PaintCorrectionSaturation | 0.000000 |
PaintCorrectionShadows2012 | 0.000000 |
PaintCorrectionSharpness | 0.000000 |
PaintCorrectionTemperature | 0.000000 |
PaintCorrectionTint | 0.000000 |
PaintCorrectionWhat | Correction |
ParametricDarks | 0 |
ParametricHighlights | 0 |
ParametricHighlightSplit | 75 |
ParametricLights | 0 |
ParametricMidtoneSplit | 60 |
ParametricShadows | 0 |
ParametricShadowSplit | 14 |
PerspectiveAspect | 0 |
PerspectiveHorizontal | 0 |
PerspectiveRotate | 0.0 |
PerspectiveScale | 100 |
PerspectiveUpright | 0 |
PerspectiveVertical | 0 |
PerspectiveX | 0.00 |
PerspectiveY | 0.00 |
PostCropVignetteAmount | 0 |
ProcessVersion | 6.7 |
ProfileDescription | Adobe RGB (1998) |
Rating | 4 |
RedHue | +30 |
RedSaturation | -10 |
Rights | Copyright Samdal Steinskog |
Saturation | 0 |
SaturationAdjustmentAqua | -10 |
SaturationAdjustmentBlue | -10 |
SaturationAdjustmentGreen | -20 |
SaturationAdjustmentMagenta | -20 |
SaturationAdjustmentOrange | -5 |
SaturationAdjustmentPurple | 0 |
SaturationAdjustmentRed | -20 |
SaturationAdjustmentYellow | -5 |
ScaleFactor35efl | 1.5 |
SceneCaptureType | Standard |
SceneType | Directly photographed |
SensingMethod | One-chip color area |
SensitivityType | Standard Output Sensitivity |
SerialNumber | 63M64859 |
Shadows2012 | +25 |
ShadowTint | 0 |
SharpenDetail | 25 |
SharpenEdgeMasking | 0 |
SharpenRadius | +1.0 |
Sharpness (1) | 0 |
Sharpness | Hard |
ShutterSpeed | 0.5 |
ShutterSpeedValue | 0.5 |
Software | Adobe Photoshop Lightroom 6.10.1 (Macintosh) |
SplitToningBalance | 0 |
SplitToningHighlightHue | 0 |
SplitToningHighlightSaturation | 0 |
SplitToningShadowHue | 0 |
SplitToningShadowSaturation | 0 |
Subject | Sommer |
SubjectDistanceRange | Unknown |
ToneCurve | 0, 0, 255, 255 |
ToneCurveBlue | 0, 0, 255, 255 |
ToneCurveGreen | 0, 0, 255, 255 |
ToneCurveName | Linear |
ToneCurveName2012 | Portra 160+1 +++ |
ToneCurvePV2012 | 0, 56, 46, 66, 96, 96, 176, 173, 255, 255 |
ToneCurvePV2012Blue | 0, 0, 45, 15, 82, 61, 117, 122, 179, 200, 255, 255 |
ToneCurvePV2012Green | 0, 0, 48, 19, 117, 122, 179, 200, 255, 255 |
ToneCurvePV2012Red | 0, 0, 45, 20, 117, 122, 179, 200, 255, 255 |
ToneCurveRed | 0, 0, 255, 255 |
ToneMapStrength | 0 |
UsageTerms | No reproduction of any kind without prior written consent |
Version | 9.10.1 |
Vibrance | 0 |
VignetteAmount | 0 |
WhiteBalance (1) | As Shot |
WhiteBalance | Auto |
Whites2012 | -25 |