Felt | Verdi |
AlreadyApplied | True |
Aperture | 7.1 |
ApertureValue | 7.1 |
ApproximateFocusDistance | 0.8 |
AutoLateralCA | 1 |
BitsPerSample | 8 |
Blacks2012 | -8 |
BlueHue | 0 |
BlueSaturation | 0 |
CameraProfile | Adobe Standard |
CircGradBasedCorrActive | true |
CircGradBasedCorrAmount | 1.000000 |
CircGradBasedCorrBrightness | 0.000000 |
CircGradBasedCorrClarity | 0.000000 |
CircGradBasedCorrClarity2012 | 0.000000 |
CircGradBasedCorrContrast | 0.000000 |
CircGradBasedCorrContrast2012 | 0.000000 |
CircGradBasedCorrCorrectionRangeMaskColorAmount | 0.500000 |
CircGradBasedCorrCorrectionRangeMaskLumFeather | 0.500000 |
CircGradBasedCorrCorrectionRangeMaskLumMax | 1.000000 |
CircGradBasedCorrCorrectionRangeMaskLumMin | 0.000000 |
CircGradBasedCorrCorrectionRangeMaskType | 0 |
CircGradBasedCorrCorrectionRangeMaskVersion | +2 |
CircGradBasedCorrDefringe | 0.000000 |
CircGradBasedCorrExposure | 0.000000 |
CircGradBasedCorrExposure2012 | 0.000000 |
CircGradBasedCorrHighlights2012 | -0.250000 |
CircGradBasedCorrHue | 0.000000 |
CircGradBasedCorrLocalBlacks2012 | 0.000000 |
CircGradBasedCorrLocalDehaze | 0.000000 |
CircGradBasedCorrLocalWhites2012 | 0.000000 |
CircGradBasedCorrLuminanceNoise | 0.000000 |
CircGradBasedCorrMaskAngle | 0.000000 |
CircGradBasedCorrMaskBottom | 0.895339 |
CircGradBasedCorrMaskFeather | +52 |
CircGradBasedCorrMaskFlipped | true |
CircGradBasedCorrMaskLeft | -0.020406 |
CircGradBasedCorrMaskMidpoint | +50 |
CircGradBasedCorrMaskRight | 0.698775 |
CircGradBasedCorrMaskRoundness | 0 |
CircGradBasedCorrMaskTop | 0.156588 |
CircGradBasedCorrMaskValue | 1.000000 |
CircGradBasedCorrMaskVersion | +2 |
CircGradBasedCorrMaskWhat | Mask/CircularGradient |
CircGradBasedCorrMoire | 0.000000 |
CircGradBasedCorrSaturation (1) | 0.480000 |
CircGradBasedCorrSaturation | 0.000000 |
CircGradBasedCorrShadows2012 | 0.000000 |
CircGradBasedCorrSharpness | 0.000000 |
CircGradBasedCorrTemperature | 0.000000 |
CircGradBasedCorrTint | 0.000000 |
CircGradBasedCorrWhat | Correction |
CircleOfConfusion | 0.030 mm |
Clarity2012 | 0 |
ColorComponents | 3 |
ColorMode | RGB |
ColorNoiseReduction | 25 |
ColorNoiseReductionDetail | 50 |
ColorNoiseReductionSmoothness | 50 |
ColorSpace | sRGB |
ColorTemperature | 5800 |
ColorTransform | YCbCr |
Contrast2012 | -26 |
ConvertToGrayscale | False |
CreateDate | 2016:06:08 19:40:33 |
CustomRendered | Normal |
DateCreated (1) | 2016:06:08 |
DateCreated | 2016:06:08 19:40:33.063 |
DateTimeOriginal | 2016:06:08 19:40:33 |
DefringeGreenAmount | 0 |
DefringeGreenHueHi | 60 |
DefringeGreenHueLo | 40 |
DefringePurpleAmount | 0 |
DefringePurpleHueHi | 70 |
DefringePurpleHueLo | 30 |
Dehaze | 0 |
DistortionCorrectionAlreadyApplied | True |
DOF | 0.16 m (0.73 - 0.89 m) |
ExifImageHeight | 3744 |
ExifImageWidth | 5616 |
Exposure2012 | 0.00 |
ExposureCompensation | 0 |
ExposureMode | Manual |
ExposureProgram | Manual |
ExposureTime | 1/250 |
Firmware | 1.2.2 |
Flash | Off, Did not fire |
FlashCompensation | 0 |
FNumber | 7.1 |
FocalLength | 40.0 mm |
FocalLength35efl | 40.0 mm (35 mm equivalent: 40.0 mm) |
Format | image/jpeg |
FOV | 48.5 deg |
GradientBasedCorrActive | true |
GradientBasedCorrAmount | 1.000000 |
GradientBasedCorrBrightness | 0.000000 |
GradientBasedCorrClarity | 0.000000 |
GradientBasedCorrClarity2012 | 0.000000 |
GradientBasedCorrContrast | 0.000000 |
GradientBasedCorrContrast2012 | 0.000000 |
GradientBasedCorrCorrectionRangeMaskColorAmount | 0.500000 |
GradientBasedCorrCorrectionRangeMaskLumFeather | 0.500000 |
GradientBasedCorrCorrectionRangeMaskLumMax | 1.000000 |
GradientBasedCorrCorrectionRangeMaskLumMin | 0.000000 |
GradientBasedCorrCorrectionRangeMaskType | 0 |
GradientBasedCorrCorrectionRangeMaskVersion | +2 |
GradientBasedCorrDefringe | 0.000000 |
GradientBasedCorrExposure | 0.000000 |
GradientBasedCorrExposure2012 | -0.125000 |
GradientBasedCorrHighlights2012 | 0.000000 |
GradientBasedCorrHue | 0.000000 |
GradientBasedCorrLocalBlacks2012 | 0.000000 |
GradientBasedCorrLocalDehaze | 0.000000 |
GradientBasedCorrLocalWhites2012 | 0.000000 |
GradientBasedCorrLuminanceNoise | 0.000000 |
GradientBasedCorrMaskFullX | 0.568577 |
GradientBasedCorrMaskFullY | 0.826934 |
GradientBasedCorrMaskValue | 1.000000 |
GradientBasedCorrMaskWhat | Mask/Gradient |
GradientBasedCorrMaskZeroX | 0.567440 |
GradientBasedCorrMaskZeroY | 0.679014 |
GradientBasedCorrMoire | 0.000000 |
GradientBasedCorrSaturation | 0.000000 |
GradientBasedCorrShadows2012 | 0.000000 |
GradientBasedCorrSharpness | 0.000000 |
GradientBasedCorrTemperature | 0.000000 |
GradientBasedCorrTint | 0.000000 |
GradientBasedCorrWhat | Correction |
GrainAmount | 0 |
GreenHue | 0 |
GreenSaturation | 0 |
HasCrop | False |
HasSettings | True |
Highlights2012 | -65 |
HueAdjustmentAqua | 0 |
HueAdjustmentBlue | 0 |
HueAdjustmentGreen | 0 |
HueAdjustmentMagenta | 0 |
HueAdjustmentOrange | 0 |
HueAdjustmentPurple | 0 |
HueAdjustmentRed | 0 |
HueAdjustmentYellow | 0 |
HyperfocalDistance | 7.49 m |
ICCProfileName | sRGB IEC61966-2.1 |
ImageHeight | 3744 |
ImageNumber | 0 |
ImageSize | 5616x3744 |
ImageWidth | 5616 |
ISO | 400 |
LateralChromaticAberrationCorrectionAlreadyApplied | True |
Lens | EF40mm f/2.8 STM |
LensID (1) | 4144 |
LensID | Canon EF 40mm f/2.8 STM |
LensInfo | 40mm f/? |
LensManualDistortionAmount | 0 |
LensModel | EF40mm f/2.8 STM |
LensProfileChromaticAberrationScale | 100 |
LensProfileDistortionScale | 100 |
LensProfileEnable | 1 |
LensProfileFilename | Canon EOS 5D Mark II (Canon EF 40mm f2.8 STM) - RAW.lcp |
LensProfileName | Adobe (Canon EF 40mm f/2.8 STM) |
LensProfileSetup | LensDefaults |
LensProfileVignettingScale | 100 |
LightValue | 11.6 |
LookAmount | 1.000000 |
LookCopyright | © 2018 Adobe Systems, Inc. |
LookGroup | Profiles |
LookName | Adobe Vivid |
LookParametersCameraProfile | Adobe Standard |
LookParametersClarity2012 | +10 |
LookParametersConvertToGrayscale | False |
LookParametersLookTable | 2FE663AB0D3CE5DA7B9F657BBCD66DFE |
LookParametersProcessVersion | 10.0 |
LookParametersToneCurvePV2012 | 0, 0, 32, 22, 64, 56, 128, 128, 224, 232, 240, 246, 255, 255 |
LookParametersVersion | 10.3 |
LookSupportsAmount | false |
LookSupportsMonochrome | false |
LookSupportsOutputReferred | false |
LuminanceAdjustmentAqua | 0 |
LuminanceAdjustmentBlue | 0 |
LuminanceAdjustmentGreen | 0 |
LuminanceAdjustmentMagenta | 0 |
LuminanceAdjustmentOrange | 0 |
LuminanceAdjustmentPurple | 0 |
LuminanceAdjustmentRed | 0 |
LuminanceAdjustmentYellow | 0 |
LuminanceSmoothing | 0 |
Make | Canon |
MaxApertureValue | 2.8 |
Megapixels | 21.0 |
MeteringMode | Multi-segment |
Model | Canon EOS-1Ds Mark III |
ModifyDate (1) | 2018:05:15 21:56:20+02:00 |
ModifyDate | 2018:05:15 21:56:20 |
Orientation | Horizontal (normal) |
OverrideLookVignette | False |
ParametricDarks | 0 |
ParametricHighlights | 0 |
ParametricHighlightSplit | 75 |
ParametricLights | 0 |
ParametricMidtoneSplit | 50 |
ParametricShadows | 0 |
ParametricShadowSplit | 25 |
PerspectiveAspect | 0 |
PerspectiveHorizontal | 0 |
PerspectiveRotate | 0.0 |
PerspectiveScale | 100 |
PerspectiveUpright | 0 |
PerspectiveVertical | 0 |
PerspectiveX | 0.00 |
PerspectiveY | 0.00 |
PostCropVignetteAmount | 0 |
ProcessVersion | 10.0 |
ProfileDescription | sRGB IEC61966-2.1 |
Rating | 0 |
RawFileName | 210Q6512.CR2 |
RedHue | 0 |
RedSaturation | 0 |
Saturation | -2 |
SaturationAdjustmentAqua | 0 |
SaturationAdjustmentBlue | 0 |
SaturationAdjustmentGreen | 0 |
SaturationAdjustmentMagenta | 0 |
SaturationAdjustmentOrange | 0 |
SaturationAdjustmentPurple | 0 |
SaturationAdjustmentRed | 0 |
SaturationAdjustmentYellow | 0 |
ScaleFactor35efl | 1.0 |
SceneCaptureType | Standard |
SerialNumber | 620530 |
Shadows2012 | +49 |
ShadowTint | 0 |
SharpenDetail | 25 |
SharpenEdgeMasking | 0 |
SharpenRadius | +1.0 |
Sharpness | 40 |
ShutterSpeed | 1/250 |
ShutterSpeedValue | 1/250 |
Software | Adobe Photoshop CC 2018 (Windows) |
SplitToningBalance | 0 |
SplitToningHighlightHue | 0 |
SplitToningHighlightSaturation | 0 |
SplitToningShadowHue | 0 |
SplitToningShadowSaturation | 0 |
Tint | -2 |
ToneCurve | 0, 0, 32, 22, 64, 56, 128, 128, 192, 196, 255, 255 |
ToneCurveBlue | 0, 0, 255, 255 |
ToneCurveGreen | 0, 0, 255, 255 |
ToneCurveName | Medium Contrast |
ToneCurveName2012 | Linear |
ToneCurvePV2012 | 0, 0, 255, 255 |
ToneCurvePV2012Blue | 0, 0, 255, 255 |
ToneCurvePV2012Green | 0, 0, 255, 255 |
ToneCurvePV2012Red | 0, 0, 255, 255 |
ToneCurveRed | 0, 0, 255, 255 |
ToneMapStrength | 0 |
URL_List | |
Version | 10.3 |
Vibrance | +13 |
VignetteAmount | 0 |
VignetteCorrectionAlreadyApplied | True |
WhiteBalance (1) | As Shot |
WhiteBalance | Manual |
Whites2012 | +10 |