Felt | Verdi |
AlreadyApplied | True |
Aperture | 13.0 |
ApertureValue | 13.0 |
ApproximateFocusDistance | 4294967295 |
AutoLateralCA | 0 |
BitsPerSample | 16 16 16 |
Blacks2012 | 0 |
BlueHue | 0 |
BlueSaturation | 0 |
CameraProfile | Adobe Standard |
CircGradBasedCorrActive | true |
CircGradBasedCorrAmount | 1.000000 |
CircGradBasedCorrBrightness | 0.000000 |
CircGradBasedCorrClarity2012 | 0.000000 |
CircGradBasedCorrContrast2012 | 0.000000 |
CircGradBasedCorrCorrectionRangeMaskColorAmount | 0.500000 |
CircGradBasedCorrCorrectionRangeMaskLumFeather | 0.500000 |
CircGradBasedCorrCorrectionRangeMaskLumMax | 1.000000 |
CircGradBasedCorrCorrectionRangeMaskLumMin | 0.000000 |
CircGradBasedCorrCorrectionRangeMaskType | 0 |
CircGradBasedCorrDefringe | 0.374260 |
CircGradBasedCorrExposure2012 | -0.171998 |
CircGradBasedCorrHighlights2012 | -0.011225 |
CircGradBasedCorrHue | 245.164001 |
CircGradBasedCorrLocalBlacks2012 | -0.759128 |
CircGradBasedCorrLocalDehaze | 0.000000 |
CircGradBasedCorrLocalWhites2012 | 0.000000 |
CircGradBasedCorrLuminanceNoise | 0.000000 |
CircGradBasedCorrMaskAngle | 0.000000 |
CircGradBasedCorrMaskBottom | 1.072140 |
CircGradBasedCorrMaskFeather | +24 |
CircGradBasedCorrMaskFlipped | false |
CircGradBasedCorrMaskLeft | 0.123092 |
CircGradBasedCorrMaskMidpoint | +50 |
CircGradBasedCorrMaskRight | 0.925503 |
CircGradBasedCorrMaskRoundness | 0 |
CircGradBasedCorrMaskTop | 0.140277 |
CircGradBasedCorrMaskValue | 1.000000 |
CircGradBasedCorrMaskVersion | +2 |
CircGradBasedCorrMaskWhat | Mask/CircularGradient |
CircGradBasedCorrMoire | 0.000000 |
CircGradBasedCorrSaturation (1) | 0.022985 |
CircGradBasedCorrSaturation | 0.000000 |
CircGradBasedCorrShadows2012 | 0.000000 |
CircGradBasedCorrSharpness | 0.000000 |
CircGradBasedCorrTemperature | -0.020313 |
CircGradBasedCorrTint | 0.000000 |
CircGradBasedCorrWhat | Correction |
CircleOfConfusion | 0.031 mm |
Clarity2012 | +100 |
ColorMode | RGB |
ColorNoiseReduction | 25 |
ColorNoiseReductionDetail | 50 |
ColorNoiseReductionSmoothness | 50 |
ColorSpace | Uncalibrated |
ColorTemperature | 3803 |
Contrast2012 | 0 |
ConvertToGrayscale | False |
CreateDate | 2016:10:07 14:39:54 |
CreatorTool | Adobe Photoshop Lightroom Classic 7.0 (Macintosh) |
CropAngle | 1.35407 |
CropBottom | 0.946038 |
CropConstrainToWarp | 0 |
CropLeft | 0.102806 |
CropRight | 0.831118 |
CropTop | 0.061872 |
CustomRendered | Normal |
DateCreated (1) | 2016:10:07 14:39:54.055 |
DateCreated | 2016:10:07 |
DateTimeOriginal | 2016:10:07 14:39:54 |
DefringeGreenAmount | 0 |
DefringeGreenHueHi | 60 |
DefringeGreenHueLo | 40 |
DefringePurpleAmount | 0 |
DefringePurpleHueHi | 70 |
DefringePurpleHueLo | 30 |
Dehaze | 0 |
DOF | inf (0.90 m - inf) |
ExifImageHeight | 925 |
ExifImageWidth | 1200 |
Exposure2012 | +0.95 |
ExposureCompensation | -2 |
ExposureMode | Auto |
ExposureProgram | Aperture-priority AE |
ExposureTime | 1/25 |
Firmware | 1.0.6 |
Flash | Off, Did not fire |
FlashCompensation | 0 |
FNumber | 13.0 |
FocalLength | 19.0 mm |
FocalLength35efl | 19.0 mm (35 mm equivalent: 18.5 mm) |
Format | image/tiff |
FOV | 88.3 deg |
GrainAmount | 0 |
GreenHue | 0 |
GreenSaturation | 0 |
HasCrop | True |
HasSettings | True |
Highlights2012 | -77 |
HueAdjustmentAqua | 0 |
HueAdjustmentBlue | 0 |
HueAdjustmentGreen | 0 |
HueAdjustmentMagenta | 0 |
HueAdjustmentOrange | +1 |
HueAdjustmentPurple | 0 |
HueAdjustmentRed | +1 |
HueAdjustmentYellow | +2 |
HyperfocalDistance | 0.90 m |
ICCProfileName | ProPhoto RGB |
ImageHeight | 925 |
ImageNumber | 0 |
ImageSize | 1200x925 |
ImageWidth | 1200 |
ISO | 1000 |
Keywords | bnarn, ivanson, skrot, vrak |
Lens | 12-24mm |
LensID (1) | 137 |
LensID | Sigma 12-24mm f/4.5-5.6 DG HSM II |
LensInfo | 12-24mm f/? |
LensManualDistortionAmount | 0 |
LensModel | 12-24mm |
LensProfileEnable | 0 |
LensProfileSetup | LensDefaults |
LightValue | 8.7 |
LuminanceAdjustmentAqua | 0 |
LuminanceAdjustmentBlue | 0 |
LuminanceAdjustmentGreen | 0 |
LuminanceAdjustmentMagenta | 0 |
LuminanceAdjustmentOrange | +68 |
LuminanceAdjustmentPurple | 0 |
LuminanceAdjustmentRed | 0 |
LuminanceAdjustmentYellow | +68 |
LuminanceNoiseReductionContrast | 0 |
LuminanceNoiseReductionDetail | 50 |
LuminanceSmoothing | 36 |
Make | Canon |
MaxApertureValue | 5.4 |
Megapixels | 1.1 |
MeteringMode | Multi-segment |
Model | Canon EOS 5D Mark II |
ModifyDate (1) | 2018:06:01 12:09:55+02:00 |
ModifyDate | 2018:06:01 12:09:55 |
Orientation | Horizontal (normal) |
PaintCorrectionActive | true |
PaintCorrectionAmount | 1.000000 |
PaintCorrectionBrightness | 0.000000 |
PaintCorrectionClarity2012 | 0.000000 |
PaintCorrectionContrast2012 (6) | 0.003454 |
PaintCorrectionContrast2012 (9) | 0.035937 |
PaintCorrectionContrast2012 | 0.000000 |
PaintCorrectionCorrectionRangeMaskColorAmount | 0.500000 |
PaintCorrectionCorrectionRangeMaskLumFeather | 0.500000 |
PaintCorrectionCorrectionRangeMaskLumMax | 1.000000 |
PaintCorrectionCorrectionRangeMaskLumMin | 0.000000 |
PaintCorrectionCorrectionRangeMaskType | 0 |
PaintCorrectionDefringe | 0.374260 |
PaintCorrectionExposure2012 (1) | 1.000000 |
PaintCorrectionExposure2012 (10) | 0.470189 |
PaintCorrectionExposure2012 (11) | 0.497081 |
PaintCorrectionExposure2012 (12) | 0.776645 |
PaintCorrectionExposure2012 (13) | 0.870230 |
PaintCorrectionExposure2012 (14) | 0.783306 |
PaintCorrectionExposure2012 (15) | 0.789885 |
PaintCorrectionExposure2012 (2) | 0.934169 |
PaintCorrectionExposure2012 (3) | 0.766488 |
PaintCorrectionExposure2012 (4) | 0.928289 |
PaintCorrectionExposure2012 (5) | 0.890872 |
PaintCorrectionExposure2012 (6) | 0.856579 |
PaintCorrectionExposure2012 (7) | 0.641365 |
PaintCorrectionExposure2012 (8) | 0.865954 |
PaintCorrectionExposure2012 (9) | 0.212952 |
PaintCorrectionExposure2012 | 0.477961 |
PaintCorrectionHighlights2012 (7) | -0.011225 |
PaintCorrectionHighlights2012 | -0.517475 |
PaintCorrectionHue | 245.164001 |
PaintCorrectionLocalBlacks2012 | -0.759128 |
PaintCorrectionLocalDehaze | 0.000000 |
PaintCorrectionLocalWhites2012 | 0.000000 |
PaintCorrectionLuminanceNoise | 0.000000 |
PaintCorrectionMaskCenterWeight | 0.183877 |
PaintCorrectionMaskFlow | 0.500000 |
PaintCorrectionMaskRadius (1) | 0.037789 |
PaintCorrectionMaskRadius (10) | 0.027084 |
PaintCorrectionMaskRadius (13) | 0.010441 |
PaintCorrectionMaskRadius (7) | 0.030592 |
PaintCorrectionMaskRadius (9) | 0.013649 |
PaintCorrectionMaskRadius | 0.016918 |
PaintCorrectionMaskValue | 0.513875 |
PaintCorrectionMaskWhat | Mask/Paint |
PaintCorrectionMoire | 0.000000 |
PaintCorrectionSaturation (29) | 0.022985 |
PaintCorrectionSaturation | 0.000000 |
PaintCorrectionShadows2012 | 0.000000 |
PaintCorrectionSharpness | 0.000000 |
PaintCorrectionTemperature | -0.020313 |
PaintCorrectionTint | 0.000000 |
PaintCorrectionWhat | Correction |
ParametricDarks | 0 |
ParametricHighlights | 0 |
ParametricHighlightSplit | 75 |
ParametricLights | 0 |
ParametricMidtoneSplit | 50 |
ParametricShadows | 0 |
ParametricShadowSplit | 25 |
PerspectiveAspect | 0 |
PerspectiveHorizontal | 0 |
PerspectiveRotate | 0.0 |
PerspectiveScale | 100 |
PerspectiveUpright | 0 |
PerspectiveVertical | 0 |
PerspectiveX | 0.00 |
PerspectiveY | 0.00 |
PhotometricInterpretation | RGB |
PlanarConfiguration | Chunky |
PostCropVignetteAmount | 0 |
ProcessVersion | 10.0 |
ProfileDescription | ProPhoto RGB |
RedHue | 0 |
RedSaturation | 0 |
RowsPerStrip | 925 |
SamplesPerPixel | 3 |
Saturation | +4 |
SaturationAdjustmentAqua | 0 |
SaturationAdjustmentBlue | 0 |
SaturationAdjustmentGreen | 0 |
SaturationAdjustmentMagenta | 0 |
SaturationAdjustmentOrange | +91 |
SaturationAdjustmentPurple | 0 |
SaturationAdjustmentRed | 0 |
SaturationAdjustmentYellow | +92 |
ScaleFactor35efl | 1.0 |
SceneCaptureType | Standard |
SerialNumber | 130101597 |
Shadows2012 | +95 |
ShadowTint | 0 |
SharpenDetail | 25 |
SharpenEdgeMasking | 0 |
SharpenRadius | +1.0 |
Sharpness | 25 |
ShutterSpeed | 1/25 |
ShutterSpeedValue | 1/25 |
Software | Adobe Photoshop CC (Macintosh) |
SplitToningBalance | 0 |
SplitToningHighlightHue | 0 |
SplitToningHighlightSaturation | 0 |
SplitToningShadowHue | 0 |
SplitToningShadowSaturation | 0 |
StripByteCounts | 6660000 |
StripOffsets | 356922 |
SubfileType | Full-resolution Image |
Subject | bnarn, ivanson, skrot, vrak |
Tint | +1 |
ToneCurve | 0, 0, 255, 255 |
ToneCurveBlue | 0, 0, 255, 255 |
ToneCurveGreen | 0, 0, 255, 255 |
ToneCurveName | Linear |
ToneCurveName2012 | Linear |
ToneCurvePV2012 | 0, 0, 255, 255 |
ToneCurvePV2012Blue | 0, 0, 255, 255 |
ToneCurvePV2012Green | 0, 0, 255, 255 |
ToneCurvePV2012Red | 0, 0, 255, 255 |
ToneCurveRed | 0, 0, 255, 255 |
URL_List | |
Version | 10.0 |
Vibrance | -100 |
VignetteAmount | 0 |
WhiteBalance (1) | Auto |
WhiteBalance | Custom |
Whites2012 | 0 |