Felt | Verdi |
AlreadyApplied | True |
Aperture | 4.0 |
ApertureValue | 4.0 |
AutoLateralCA | 0 |
BitsPerSample | 8 |
Blacks2012 | -43 |
BlueHue | 0 |
BlueSaturation | 0 |
BrightnessValue | 9.38 |
CameraProfile | Adobe Standard |
CircleOfConfusion | 0.020 mm |
Clarity2012 | +44 |
ColorComponents | 3 |
ColorNoiseReduction | 25 |
ColorNoiseReductionDetail | 50 |
ColorNoiseReductionSmoothness | 50 |
ColorSpace | sRGB |
ColorTemperature | 5150 |
ColorTransform | YCbCr |
Contrast2012 | 0 |
ConvertToGrayscale | True |
CreateDate | 2018:10:06 10:50:02 |
CreatorTool | Adobe Photoshop Lightroom Classic 7.5 (Windows) |
CropAngle | -1.93059 |
CropBottom | 0.955883 |
CropConstrainToWarp | 0 |
CropLeft | 0.092691 |
CropRight | 0.907309 |
CropTop | 0.044117 |
CustomRendered | Normal |
DateCreated (1) | 2018:10:06 |
DateCreated | 2018:10:06 10:50:02 |
DateTimeOriginal | 2018:10:06 10:50:02 |
Dehaze | +14 |
DistortionCorrectionAlreadyApplied | True |
Exposure2012 | 0.00 |
ExposureCompensation | 0 |
ExposureMode | Auto |
ExposureProgram | Aperture-priority AE |
ExposureTime | 1/2000 |
Flash | No Flash |
FNumber | 4.0 |
FocalLength | 55.0 mm |
FocalLength35efl | 55.0 mm (35 mm equivalent: 83.0 mm) |
FocalLengthIn35mmFormat | 83 mm |
Format | image/jpeg |
FOV | 24.5 deg |
GrainAmount | 51 |
GrainFrequency | 57 |
GrainSize | 21 |
GrayMixerAqua | -15 |
GrayMixerBlue | -10 |
GrayMixerGreen | -25 |
GrayMixerMagenta | -27 |
GrayMixerOrange | -13 |
GrayMixerPurple | +3 |
GrayMixerRed | -13 |
GrayMixerYellow | -16 |
GreenHue | 0 |
GreenSaturation | 0 |
HasCrop | True |
HasSettings | True |
Highlights2012 | -69 |
HyperfocalDistance | 37.98 m |
ImageHeight | 3810 |
ImageSize | 4762x3810 |
ImageWidth | 4762 |
ISO | 200 |
LateralChromaticAberrationCorrectionAlreadyApplied | True |
Lens | XF18-55mmF2.8-4 R LM OIS |
LensInfo | 18-55mm f/2.8-4 |
LensMake | FUJIFILM |
LensManualDistortionAmount | 0 |
LensModel | XF18-55mmF2.8-4 R LM OIS |
LensProfileEnable | 0 |
LensProfileSetup | LensDefaults |
LensSerialNumber | 7AA13556 |
LightSource | Unknown |
LightValue | 14.0 |
LookName | |
LuminanceSmoothing | 0 |
Make | FUJIFILM |
MaxApertureValue | 2.8 |
Megapixels | 18.1 |
MeteringMode | Multi-segment |
MissingCameraProfile | // Replichrome B+W |
Model | X-T20 |
ModifyDate (1) | 2018:10:07 22:27:42+02:00 |
ModifyDate | 2018:10:07 22:27:42 |
OverrideLookVignette | False |
ParametricDarks | +21 |
ParametricHighlights | -46 |
ParametricHighlightSplit | 88 |
ParametricLights | +7 |
ParametricMidtoneSplit | 46 |
ParametricShadows | -24 |
ParametricShadowSplit | 18 |
PerspectiveAspect | 0 |
PerspectiveHorizontal | 0 |
PerspectiveRotate | 0.0 |
PerspectiveScale | 100 |
PerspectiveUpright | 0 |
PerspectiveVertical | 0 |
PerspectiveX | 0.00 |
PerspectiveY | 0.00 |
PostCropVignetteAmount | 0 |
ProcessVersion | 10.0 |
ProfileDescription | sRGB IEC61966-2.1 |
Rating | 5 |
RawFileName | DSCF9279.RAF |
RedHue | 0 |
RedSaturation | 0 |
ScaleFactor35efl | 1.5 |
SceneCaptureType | Standard |
SceneType | Directly photographed |
SensingMethod | One-chip color area |
SensitivityType | Standard Output Sensitivity |
SerialNumber | 7AQ26013 |
Shadows2012 | +32 |
ShadowTint | 0 |
SharpenDetail | 25 |
SharpenEdgeMasking | 0 |
SharpenRadius | +1.0 |
Sharpness (1) | 25 |
Sharpness | Normal |
ShutterSpeed | 1/2000 |
ShutterSpeedValue | 1/2000 |
Software | Adobe Photoshop Lightroom Classic 7.5 (Windows) |
SplitToningBalance | 0 |
SplitToningHighlightHue | 0 |
SplitToningHighlightSaturation | 0 |
SplitToningShadowHue | 0 |
SplitToningShadowSaturation | 0 |
SubjectDistanceRange | Unknown |
Tint | +18 |
ToneCurve | 0, 0, 255, 255 |
ToneCurveBlue | 0, 0, 255, 255 |
ToneCurveGreen | 0, 0, 255, 255 |
ToneCurveName | Linear |
ToneCurveName2012 | Custom |
ToneCurvePV2012 | 0, 0, 255, 255 |
ToneCurvePV2012Blue | 0, 38, 75, 76, 113, 134, 204, 228, 255, 255 |
ToneCurvePV2012Green | 0, 38, 75, 76, 113, 134, 204, 228, 255, 255 |
ToneCurvePV2012Red | 0, 38, 75, 76, 113, 134, 204, 228, 255, 255 |
ToneCurveRed | 0, 0, 255, 255 |
ToneMapStrength | 0 |
Version | 10.5 |
VignetteAmount | 0 |
VignetteCorrectionAlreadyApplied | True |
WhiteBalance (1) | As Shot |
WhiteBalance | Auto |
Whites2012 | -43 |