Felt | Verdi |
AlreadyApplied | True |
Aperture | 5.6 |
ApertureValue | 5.6 |
Artist | Samdal Steinskog |
AutoLateralCA | 1 |
BitsPerSample | 8 |
Blacks2012 | +82 |
BlueHue | 0 |
BlueSaturation | 0 |
BrightnessValue | 7.65 |
By-line | Samdal Steinskog |
CameraProfile | Adobe Standard |
CircGradBasedCorrActive | true |
CircGradBasedCorrAmount | 1.000000 |
CircGradBasedCorrBrightness | 0.000000 |
CircGradBasedCorrClarity2012 | 0.000000 |
CircGradBasedCorrContrast2012 | 0.000000 |
CircGradBasedCorrCorrectionRangeMaskColorAmount | 0.500000 |
CircGradBasedCorrCorrectionRangeMaskLumFeather | 0.500000 |
CircGradBasedCorrCorrectionRangeMaskLumMax | 1.000000 |
CircGradBasedCorrCorrectionRangeMaskLumMin | 0.000000 |
CircGradBasedCorrCorrectionRangeMaskType | 0 |
CircGradBasedCorrCorrectionRangeMaskVersion | +2 |
CircGradBasedCorrDefringe | 0.000000 |
CircGradBasedCorrExposure2012 (1) | 0.116250 |
CircGradBasedCorrExposure2012 | 0.069750 |
CircGradBasedCorrHighlights2012 | 0.000000 |
CircGradBasedCorrHue | 0.000000 |
CircGradBasedCorrLocalBlacks2012 | 0.000000 |
CircGradBasedCorrLocalDehaze | 0.000000 |
CircGradBasedCorrLocalWhites2012 | 0.000000 |
CircGradBasedCorrLuminanceNoise | 0.000000 |
CircGradBasedCorrMaskAngle | 0.000000 |
CircGradBasedCorrMaskBottom (1) | 0.500807 |
CircGradBasedCorrMaskBottom (2) | 0.905645 |
CircGradBasedCorrMaskBottom | 0.866129 |
CircGradBasedCorrMaskFeather | +100 |
CircGradBasedCorrMaskFlipped | true |
CircGradBasedCorrMaskLeft (1) | 0.375268 |
CircGradBasedCorrMaskLeft (2) | 0.487097 |
CircGradBasedCorrMaskLeft | 0.098925 |
CircGradBasedCorrMaskMidpoint | +50 |
CircGradBasedCorrMaskRight (1) | 0.955913 |
CircGradBasedCorrMaskRight (2) | 0.900000 |
CircGradBasedCorrMaskRight | 0.408603 |
CircGradBasedCorrMaskRoundness | 0 |
CircGradBasedCorrMaskTop (1) | 0.052420 |
CircGradBasedCorrMaskTop (2) | 0.589516 |
CircGradBasedCorrMaskTop | 0.583871 |
CircGradBasedCorrMaskValue | 1.000000 |
CircGradBasedCorrMaskVersion | +2 |
CircGradBasedCorrMaskWhat | Mask/CircularGradient |
CircGradBasedCorrMoire | 0.000000 |
CircGradBasedCorrSaturation | 0.000000 |
CircGradBasedCorrShadows2012 | 0.000000 |
CircGradBasedCorrSharpness | 0.000000 |
CircGradBasedCorrTemperature | 0.000000 |
CircGradBasedCorrTint | 0.000000 |
CircGradBasedCorrWhat | Correction |
CircleOfConfusion | 0.020 mm |
Clarity2012 | 0 |
ColorComponents | 3 |
ColorNoiseReduction | 25 |
ColorNoiseReductionDetail | 50 |
ColorNoiseReductionSmoothness | 50 |
ColorSpace | sRGB |
ColorTemperature | 5000 |
ColorTransform | YCbCr |
Contrast2012 | +66 |
ConvertToGrayscale | False |
Copyright | Øyvind Samdal Steinskog |
CopyrightFlag | True |
CopyrightNotice | Øyvind Samdal Steinskog |
CreateDate | 2018:10:06 12:31:09 |
Creator | Samdal Steinskog |
CreatorTool | Adobe Photoshop Lightroom Classic 7.5 (Windows) |
CustomRendered | Normal |
DateCreated (1) | 2018:10:06 |
DateCreated | 2018:10:06 12:31:09 |
DateTimeOriginal | 2018:10:06 12:31:09 |
DefringeGreenAmount | 0 |
DefringeGreenHueHi | 60 |
DefringeGreenHueLo | 40 |
DefringePurpleAmount | 0 |
DefringePurpleHueHi | 70 |
DefringePurpleHueLo | 30 |
Dehaze | 0 |
DistortionCorrectionAlreadyApplied | True |
Exposure2012 | 0.00 |
ExposureCompensation | 0 |
ExposureMode | Auto |
ExposureProgram | Aperture-priority AE |
ExposureTime | 1/680 |
Flash | No Flash |
FNumber | 5.6 |
FocalLength | 50.0 mm |
FocalLength35efl | 50.0 mm (35 mm equivalent: 75.0 mm) |
FocalLengthIn35mmFormat | 75 mm |
Format | image/jpeg |
FOV | 27.0 deg |
GrainAmount | 0 |
GreenHue | -7 |
GreenSaturation | -10 |
HasCrop | False |
HasExtendedXMP | E33059E5C8012498ECFC8F1E9E59C09F |
HasSettings | True |
Highlights2012 | -63 |
HueAdjustmentAqua | -7 |
HueAdjustmentBlue | -13 |
HueAdjustmentGreen | +20 |
HueAdjustmentMagenta | +20 |
HueAdjustmentOrange | +2 |
HueAdjustmentPurple | -8 |
HueAdjustmentRed | +17 |
HueAdjustmentYellow | -13 |
HyperfocalDistance | 22.29 m |
ImageHeight | 4000 |
ImageSize | 6000x4000 |
ImageWidth | 6000 |
ISO | 400 |
Keywords | Biltur, Høstferie, Molde |
LateralChromaticAberrationCorrectionAlreadyApplied | True |
Lens | XF50-140mmF2.8 R LM OIS WR |
LensInfo | 50-140mm f/2.8 |
LensMake | FUJIFILM |
LensManualDistortionAmount | 0 |
LensModel | XF50-140mmF2.8 R LM OIS WR |
LensProfileEnable | 0 |
LensProfileSetup | LensDefaults |
LensSerialNumber | 56A10606 |
LightSource | Unknown |
LightValue | 12.4 |
LookName | |
LuminanceAdjustmentAqua | +13 |
LuminanceAdjustmentBlue | +20 |
LuminanceAdjustmentGreen | +29 |
LuminanceAdjustmentMagenta | +9 |
LuminanceAdjustmentOrange | +8 |
LuminanceAdjustmentPurple | +12 |
LuminanceAdjustmentRed | +8 |
LuminanceAdjustmentYellow | +15 |
LuminanceSmoothing | 0 |
Make | FUJIFILM |
Marked | True |
MaxApertureValue | 2.8 |
Megapixels | 24.0 |
MeteringMode | Average |
Model | X-T2 |
ModifyDate (1) | 2018:10:10 18:52:23+02:00 |
ModifyDate | 2018:10:10 18:52:23 |
OverrideLookVignette | False |
PaintCorrectionActive | true |
PaintCorrectionAmount | 1.000000 |
PaintCorrectionBrightness | 0.000000 |
PaintCorrectionClarity2012 | 0.000000 |
PaintCorrectionContrast2012 | 0.000000 |
PaintCorrectionCorrectionRangeMaskColorAmount | 0.500000 |
PaintCorrectionCorrectionRangeMaskLumFeather | 0.500000 |
PaintCorrectionCorrectionRangeMaskLumMax | 1.000000 |
PaintCorrectionCorrectionRangeMaskLumMin | 0.000000 |
PaintCorrectionCorrectionRangeMaskType | 0 |
PaintCorrectionCorrectionRangeMaskVersion | +2 |
PaintCorrectionDefringe | 0.000000 |
PaintCorrectionExposure2012 (1) | 0.085250 |
PaintCorrectionExposure2012 (2) | -0.069750 |
PaintCorrectionExposure2012 | 0.116250 |
PaintCorrectionHighlights2012 | 0.000000 |
PaintCorrectionHue | 0.000000 |
PaintCorrectionLocalBlacks2012 | 0.000000 |
PaintCorrectionLocalDehaze | 0.000000 |
PaintCorrectionLocalWhites2012 | 0.000000 |
PaintCorrectionLuminanceNoise | 0.000000 |
PaintCorrectionMaskCenterWeight | 0.000000 |
PaintCorrectionMaskFlow (1) | 0.187402 |
PaintCorrectionMaskFlow (10) | 0.240930 |
PaintCorrectionMaskFlow (11) | 0.107770 |
PaintCorrectionMaskFlow (13) | 0.148497 |
PaintCorrectionMaskFlow (14) | 0.234142 |
PaintCorrectionMaskFlow (15) | 0.231856 |
PaintCorrectionMaskFlow (16) | 0.227636 |
PaintCorrectionMaskFlow (17) | 0.175925 |
PaintCorrectionMaskFlow (18) | 0.276176 |
PaintCorrectionMaskFlow (19) | 0.102319 |
PaintCorrectionMaskFlow (2) | 0.203913 |
PaintCorrectionMaskFlow (20) | 0.096810 |
PaintCorrectionMaskFlow (21) | 0.080447 |
PaintCorrectionMaskFlow (22) | 0.213151 |
PaintCorrectionMaskFlow (23) | 0.214739 |
PaintCorrectionMaskFlow (24) | 0.196966 |
PaintCorrectionMaskFlow (25) | 0.163728 |
PaintCorrectionMaskFlow (26) | 0.204723 |
PaintCorrectionMaskFlow (27) | 0.184875 |
PaintCorrectionMaskFlow (28) | 0.197789 |
PaintCorrectionMaskFlow (29) | 0.229559 |
PaintCorrectionMaskFlow (3) | 0.170735 |
PaintCorrectionMaskFlow (30) | 0.164169 |
PaintCorrectionMaskFlow (31) | 0.151671 |
PaintCorrectionMaskFlow (32) | 0.138850 |
PaintCorrectionMaskFlow (33) | 0.196142 |
PaintCorrectionMaskFlow (34) | 0.150766 |
PaintCorrectionMaskFlow (35) | 0.218292 |
PaintCorrectionMaskFlow (36) | 0.000615 |
PaintCorrectionMaskFlow (37) | 0.281330 |
PaintCorrectionMaskFlow (39) | 0.187822 |
PaintCorrectionMaskFlow (4) | 0.217505 |
PaintCorrectionMaskFlow (40) | 0.100322 |
PaintCorrectionMaskFlow (41) | 0.101820 |
PaintCorrectionMaskFlow (42) | 0.164609 |
PaintCorrectionMaskFlow (43) | 0.244286 |
PaintCorrectionMaskFlow (44) | 0.200248 |
PaintCorrectionMaskFlow (45) | 0.149406 |
PaintCorrectionMaskFlow (46) | 0.241678 |
PaintCorrectionMaskFlow (47) | 0.174632 |
PaintCorrectionMaskFlow (48) | 0.189079 |
PaintCorrectionMaskFlow (49) | 0.171604 |
PaintCorrectionMaskFlow (5) | 0.238302 |
PaintCorrectionMaskFlow (50) | 0.162403 |
PaintCorrectionMaskFlow (51) | 0.161074 |
PaintCorrectionMaskFlow (52) | 0.068897 |
PaintCorrectionMaskFlow (53) | 0.178071 |
PaintCorrectionMaskFlow (54) | 0.151219 |
PaintCorrectionMaskFlow (55) | 0.091751 |
PaintCorrectionMaskFlow (56) | 0.103314 |
PaintCorrectionMaskFlow (57) | 0.262841 |
PaintCorrectionMaskFlow (6) | 0.080966 |
PaintCorrectionMaskFlow (8) | 0.082003 |
PaintCorrectionMaskFlow | 0.191584 |
PaintCorrectionMaskRadius (11) | 0.057253 |
PaintCorrectionMaskRadius (12) | 0.067927 |
PaintCorrectionMaskRadius (15) | 0.041373 |
PaintCorrectionMaskRadius (17) | 0.077170 |
PaintCorrectionMaskRadius (19) | 0.073222 |
PaintCorrectionMaskRadius (20) | 0.080909 |
PaintCorrectionMaskRadius (21) | 0.083726 |
PaintCorrectionMaskRadius (22) | 0.055817 |
PaintCorrectionMaskRadius (23) | 0.087760 |
PaintCorrectionMaskRadius (24) | 0.116729 |
PaintCorrectionMaskRadius (25) | 0.258006 |
PaintCorrectionMaskRadius (26) | 0.115385 |
PaintCorrectionMaskRadius (27) | 0.075522 |
PaintCorrectionMaskRadius (29) | 0.048247 |
PaintCorrectionMaskRadius (30) | 0.091084 |
PaintCorrectionMaskRadius (31) | 0.095119 |
PaintCorrectionMaskRadius (32) | 0.042635 |
PaintCorrectionMaskRadius (34) | 0.038241 |
PaintCorrectionMaskRadius (36) | 0.064226 |
PaintCorrectionMaskRadius (39) | 0.055973 |
PaintCorrectionMaskRadius (40) | 0.060115 |
PaintCorrectionMaskRadius (41) | 0.032390 |
PaintCorrectionMaskRadius (45) | 0.055406 |
PaintCorrectionMaskRadius (46) | 0.100528 |
PaintCorrectionMaskRadius (48) | 0.047186 |
PaintCorrectionMaskRadius (49) | 0.098712 |
PaintCorrectionMaskRadius (51) | 0.036149 |
PaintCorrectionMaskRadius (52) | 0.067394 |
PaintCorrectionMaskRadius (53) | 0.036019 |
PaintCorrectionMaskRadius (54) | 0.069739 |
PaintCorrectionMaskRadius (56) | 0.052003 |
PaintCorrectionMaskRadius (57) | 0.071737 |
PaintCorrectionMaskRadius (6) | 0.170138 |
PaintCorrectionMaskRadius (8) | 0.081018 |
PaintCorrectionMaskRadius | 0.070310 |
PaintCorrectionMaskValue | 1.000000 |
PaintCorrectionMaskWhat | Mask/Paint |
PaintCorrectionMoire | 0.000000 |
PaintCorrectionSaturation | 0.000000 |
PaintCorrectionShadows2012 | 0.000000 |
PaintCorrectionSharpness | 0.000000 |
PaintCorrectionTemperature | 0.000000 |
PaintCorrectionTint | 0.000000 |
PaintCorrectionWhat | Correction |
ParametricDarks | 0 |
ParametricHighlights | 0 |
ParametricHighlightSplit | 75 |
ParametricLights | 0 |
ParametricMidtoneSplit | 50 |
ParametricShadows | 0 |
ParametricShadowSplit | 25 |
PerspectiveAspect | 0 |
PerspectiveHorizontal | 0 |
PerspectiveRotate | 0.0 |
PerspectiveScale | 100 |
PerspectiveUpright | 0 |
PerspectiveVertical | 0 |
PerspectiveX | 0.00 |
PerspectiveY | 0.00 |
PostCropVignetteAmount | -26 |
PostCropVignetteFeather | 50 |
PostCropVignetteHighlightContrast | 0 |
PostCropVignetteMidpoint | 50 |
PostCropVignetteRoundness | 0 |
PostCropVignetteStyle | 1 |
ProcessVersion | 10.0 |
ProfileDescription | sRGB IEC61966-2.1 |
Rating | 4 |
RawFileName | 181006_Hostferie_002.RAF |
RedHue | 0 |
RedSaturation | -2 |
Rights | Øyvind Samdal Steinskog |
Saturation | 0 |
SaturationAdjustmentAqua | +1 |
SaturationAdjustmentBlue | -7 |
SaturationAdjustmentGreen | -30 |
SaturationAdjustmentMagenta | -1 |
SaturationAdjustmentOrange | -10 |
SaturationAdjustmentPurple | +10 |
SaturationAdjustmentRed | -8 |
SaturationAdjustmentYellow | -12 |
ScaleFactor35efl | 1.5 |
SceneCaptureType | Standard |
SceneType | Directly photographed |
SensingMethod | One-chip color area |
SensitivityType | Standard Output Sensitivity |
SerialNumber | 63M64859 |
Shadows2012 | +28 |
ShadowTint | -7 |
SharpenDetail | 25 |
SharpenEdgeMasking | 0 |
SharpenRadius | +1.0 |
Sharpness (1) | 40 |
Sharpness | Hard |
ShutterSpeed | 1/680 |
ShutterSpeedValue | 1/680 |
Software | Adobe Photoshop Lightroom Classic 7.5 (Windows) |
SplitToningBalance | 0 |
SplitToningHighlightHue | 0 |
SplitToningHighlightSaturation | 0 |
SplitToningShadowHue | 0 |
SplitToningShadowSaturation | 0 |
Subject | Biltur, Høstferie, Molde |
SubjectDistanceRange | Unknown |
Tint | +14 |
ToneCurve | 0, 0, 255, 255 |
ToneCurveBlue | 0, 0, 255, 255 |
ToneCurveGreen | 0, 0, 255, 255 |
ToneCurveName | Linear |
ToneCurveName2012 | Custom |
ToneCurvePV2012 | 0, 0, 16, 4, 30, 11, 66, 49, 131, 124, 206, 206, 255, 255 |
ToneCurvePV2012Blue | 0, 0, 255, 255 |
ToneCurvePV2012Green | 0, 0, 255, 255 |
ToneCurvePV2012Red | 0, 0, 255, 255 |
ToneCurveRed | 0, 0, 255, 255 |
ToneMapStrength | 0 |
Version | 10.5 |
Vibrance | 0 |
VignetteAmount | 0 |
VignetteCorrectionAlreadyApplied | True |
WhiteBalance (1) | As Shot |
WhiteBalance | Auto |
Whites2012 | -51 |