Felt | Verdi |
AlreadyApplied | True |
Aperture | 4.0 |
ApertureValue | 4.0 |
ApproximateFocusDistance | 3.38 |
AutoLateralCA | 0 |
BitsPerSample | 8 |
Blacks2012 | +100 |
BlueHue | 0 |
BlueSaturation | 0 |
CameraProfile | Adobe Standard |
CircleOfConfusion | 0.028 mm |
Clarity2012 | +30 |
ColorComponents | 3 |
ColorNoiseReduction | 25 |
ColorNoiseReductionDetail | 50 |
ColorNoiseReductionSmoothness | 50 |
ColorSpace | sRGB |
ColorTemperature | 3140 |
ColorTransform | YCbCr |
Contrast2012 | +37 |
ConvertToGrayscale | False |
CreateDate (1) | 2018:10:18 02:10:45.16 |
CreateDate | 2018:10:18 02:10:45 |
CreatorTool | Adobe Photoshop Lightroom Classic 8.0 (Macintosh) |
CropAngle | 0 |
CropBottom | 0.972849 |
CropConstrainToWarp | 0 |
CropLeft | 0 |
CropRight | 0.943922 |
CropTop | 0.028927 |
CustomRendered | Normal |
DateCreated (1) | 2018:10:18 |
DateCreated | 2018:10:18 02:10:45.16 |
DateTimeOriginal | 2018:10:18 02:10:45 |
DefringeGreenAmount | 0 |
DefringeGreenHueHi | 60 |
DefringeGreenHueLo | 40 |
DefringePurpleAmount | 0 |
DefringePurpleHueHi | 70 |
DefringePurpleHueLo | 30 |
Dehaze | 0 |
DOF | inf (1.46 m - inf) |
Exposure2012 | +1.50 |
ExposureCompensation | 0 |
ExposureMode | Manual |
ExposureProgram | Manual |
ExposureTime | 0.3 |
Firmware | 1.0.1 |
Flash | Off, Did not fire |
FlashCompensation | 0 |
FNumber | 4.0 |
FocalLength | 17.0 mm |
FocalLength35efl | 17.0 mm (35 mm equivalent: 18.0 mm) |
Format | image/jpeg |
FOV | 90.0 deg |
GrainAmount | 0 |
GreenHue | 0 |
GreenSaturation | 0 |
HasCrop | True |
HasExtendedXMP | 21EE7490E5AA1C4DC5FC806695DB0551 |
HasSettings | True |
Highlights2012 | -63 |
HueAdjustmentAqua | 0 |
HueAdjustmentBlue | 0 |
HueAdjustmentGreen | 0 |
HueAdjustmentMagenta | 0 |
HueAdjustmentOrange | 0 |
HueAdjustmentPurple | 0 |
HueAdjustmentRed | 0 |
HueAdjustmentYellow | 0 |
HyperfocalDistance | 2.55 m |
ImageHeight | 4229 |
ImageNumber | 0 |
ImageSize | 6343x4229 |
ImageWidth | 6343 |
ISO | 200 |
Lens | EF16-35mm f/4L IS USM |
LensID (1) | 507 |
LensID | Canon EF 16-35mm f/4L IS USM |
LensInfo | 16-35mm f/? |
LensManualDistortionAmount | 0 |
LensModel | EF16-35mm f/4L IS USM |
LensProfileChromaticAberrationScale | 100 |
LensProfileDistortionScale | 100 |
LensProfileEnable | 0 |
LensProfileFilename | Canon EOS-1Ds Mark III (Canon EF 16-35mm f4L IS USM v2) - RAW.lcp |
LensProfileName | Adobe (Canon EF 16-35mm f/4L IS USM) v2 |
LensProfileSetup | LensDefaults |
LensProfileVignettingScale | 100 |
LensSerialNumber | 5960001039 |
LightValue | 4.7 |
LookAmount | 1.000000 |
LookGroup | Profiles |
LookName | Adobe Color |
LookParametersCameraProfile | Adobe Standard |
LookParametersConvertToGrayscale | False |
LookParametersLookTable | E1095149FDB39D7A057BAB208837E2E1 |
LookParametersProcessVersion | 11.0 |
LookParametersToneCurvePV2012 | 0, 0, 22, 16, 40, 35, 127, 127, 224, 230, 240, 246, 255, 255 |
LookParametersToneCurvePV2012Blue | 0, 0, 255, 255 |
LookParametersToneCurvePV2012Green | 0, 0, 255, 255 |
LookParametersToneCurvePV2012Red | 0, 0, 255, 255 |
LookParametersVersion | 11.0 |
LookSupportsAmount | false |
LookSupportsMonochrome | false |
LookSupportsOutputReferred | false |
LuminanceAdjustmentAqua | 0 |
LuminanceAdjustmentBlue | 0 |
LuminanceAdjustmentGreen | 0 |
LuminanceAdjustmentMagenta | 0 |
LuminanceAdjustmentOrange | 0 |
LuminanceAdjustmentPurple | 0 |
LuminanceAdjustmentRed | 0 |
LuminanceAdjustmentYellow | 0 |
LuminanceNoiseReductionContrast | 0 |
LuminanceNoiseReductionDetail | 50 |
LuminanceSmoothing | 65 |
Make | Canon |
MaxApertureValue | 4.0 |
Megapixels | 26.8 |
MeteringMode | Multi-segment |
Model | Canon EOS 5D Mark IV |
ModifyDate (1) | 2018:11:08 20:54:58+01:00 |
ModifyDate | 2018:11:08 20:54:58 |
OverrideLookVignette | False |
PaintCorrectionActive | true |
PaintCorrectionAmount | 1.000000 |
PaintCorrectionBrightness | 0.000000 |
PaintCorrectionClarity2012 (10) | -1.000000 |
PaintCorrectionClarity2012 (2) | 0.000000 |
PaintCorrectionClarity2012 (9) | 0.753717 |
PaintCorrectionClarity2012 | 1.000000 |
PaintCorrectionContrast2012 (4) | 0.000000 |
PaintCorrectionContrast2012 | 0.365898 |
PaintCorrectionCorrectionRangeMaskColorAmount | 0.500000 |
PaintCorrectionCorrectionRangeMaskDepthFeather | 0.500000 |
PaintCorrectionCorrectionRangeMaskDepthMax | 1.000000 |
PaintCorrectionCorrectionRangeMaskDepthMin | 0.000000 |
PaintCorrectionCorrectionRangeMaskLumFeather | 0.500000 |
PaintCorrectionCorrectionRangeMaskLumMax | 1.000000 |
PaintCorrectionCorrectionRangeMaskLumMin | 0.000000 |
PaintCorrectionCorrectionRangeMaskType | 0 |
PaintCorrectionCorrectionRangeMaskVersion | +2 |
PaintCorrectionDefringe | 0.000000 |
PaintCorrectionExposure2012 | 0.000000 |
PaintCorrectionHighlights2012 (3) | -0.970988 |
PaintCorrectionHighlights2012 (5) | -1.000000 |
PaintCorrectionHighlights2012 (8) | 0.000000 |
PaintCorrectionHighlights2012 | 0.430787 |
PaintCorrectionHue | 240.000000 |
PaintCorrectionLocalBlacks2012 (1) | -0.136870 |
PaintCorrectionLocalBlacks2012 | 0.000000 |
PaintCorrectionLocalDehaze | 0.000000 |
PaintCorrectionLocalWhites2012 (10) | -0.705552 |
PaintCorrectionLocalWhites2012 | 0.000000 |
PaintCorrectionLuminanceNoise (1) | 0.361499 |
PaintCorrectionLuminanceNoise (10) | -1.000000 |
PaintCorrectionLuminanceNoise (2) | 0.721481 |
PaintCorrectionLuminanceNoise (6) | 0.441672 |
PaintCorrectionLuminanceNoise (7) | 0.000000 |
PaintCorrectionLuminanceNoise | -0.302791 |
PaintCorrectionMaskCenterWeight | 0.000000 |
PaintCorrectionMaskFlow | 0.500000 |
PaintCorrectionMaskRadius (20) | 0.057000 |
PaintCorrectionMaskRadius (28) | 0.070534 |
PaintCorrectionMaskRadius (33) | 0.077470 |
PaintCorrectionMaskRadius (38) | 0.063710 |
PaintCorrectionMaskRadius (39) | 0.084519 |
PaintCorrectionMaskRadius (42) | 0.050402 |
PaintCorrectionMaskRadius (43) | 0.037545 |
PaintCorrectionMaskRadius (53) | 0.019105 |
PaintCorrectionMaskRadius (8) | 0.060386 |
PaintCorrectionMaskRadius | 0.025139 |
PaintCorrectionMaskValue | 0.780705 |
PaintCorrectionMaskWhat | Mask/Paint |
PaintCorrectionMoire | 0.000000 |
PaintCorrectionSaturation (21) | 0.240708 |
PaintCorrectionSaturation | 0.000000 |
PaintCorrectionShadows2012 (10) | -0.288911 |
PaintCorrectionShadows2012 (4) | 0.000000 |
PaintCorrectionShadows2012 (8) | -1.000000 |
PaintCorrectionShadows2012 | -0.228345 |
PaintCorrectionSharpness (1) | 1.000000 |
PaintCorrectionSharpness (10) | 0.000000 |
PaintCorrectionSharpness | 0.703997 |
PaintCorrectionTemperature (3) | 0.000000 |
PaintCorrectionTemperature | 0.619084 |
PaintCorrectionTint | 0.000000 |
PaintCorrectionWhat | Correction |
ParametricDarks | 0 |
ParametricHighlights | 0 |
ParametricHighlightSplit | 75 |
ParametricLights | +14 |
ParametricMidtoneSplit | 50 |
ParametricShadows | 0 |
ParametricShadowSplit | 25 |
PerspectiveAspect | 0 |
PerspectiveHorizontal | 0 |
PerspectiveRotate | 0.0 |
PerspectiveScale | 100 |
PerspectiveUpright | 3 |
PerspectiveVertical | 0 |
PerspectiveX | 0.00 |
PerspectiveY | 0.00 |
PostCropVignetteAmount | -20 |
PostCropVignetteFeather | 50 |
PostCropVignetteHighlightContrast | 0 |
PostCropVignetteMidpoint | 50 |
PostCropVignetteRoundness | 0 |
PostCropVignetteStyle | 1 |
ProcessVersion | 11.0 |
ProfileDescription | sRGB IEC61966-2.1 |
RawFileName | 5B7A5041.CR2 |
RecommendedExposureIndex | 200 |
RedHue | 0 |
RedSaturation | 0 |
Saturation | -7 |
SaturationAdjustmentAqua | 0 |
SaturationAdjustmentBlue | 0 |
SaturationAdjustmentGreen | 0 |
SaturationAdjustmentMagenta | 0 |
SaturationAdjustmentOrange | 0 |
SaturationAdjustmentPurple | 0 |
SaturationAdjustmentRed | 0 |
SaturationAdjustmentYellow | 0 |
ScaleFactor35efl | 1.1 |
SceneCaptureType | Standard |
SensitivityType | Recommended Exposure Index |
SerialNumber | 013021001917 |
Shadows2012 | +100 |
ShadowTint | 0 |
SharpenDetail | 25 |
SharpenEdgeMasking | 0 |
SharpenRadius | +1.0 |
Sharpness | 73 |
ShutterSpeed | 0.3 |
ShutterSpeedValue | 0.3 |
Software | Adobe Photoshop Lightroom Classic 8.0 (Macintosh) |
SplitToningBalance | 0 |
SplitToningHighlightHue | 0 |
SplitToningHighlightSaturation | 0 |
SplitToningShadowHue | 0 |
SplitToningShadowSaturation | 0 |
Tint | +5 |
ToneCurve | 0, 0, 255, 255 |
ToneCurveBlue | 0, 0, 255, 255 |
ToneCurveGreen | 0, 0, 255, 255 |
ToneCurveName | Linear |
ToneCurveName2012 | Linear |
ToneCurvePV2012 | 0, 0, 255, 255 |
ToneCurvePV2012Blue | 0, 0, 255, 255 |
ToneCurvePV2012Green | 0, 0, 255, 255 |
ToneCurvePV2012Red | 0, 0, 255, 255 |
ToneCurveRed | 0, 0, 255, 255 |
ToneMapStrength | 0 |
Version | 11.0 |
Vibrance | +46 |
VignetteAmount | 0 |
WhiteBalance (1) | Custom |
WhiteBalance | Manual |
Whites2012 | -14 |