Felt | Verdi |
AlreadyApplied | True |
Aperture | 5.6 |
ApertureValue | 5.6 |
Artist | KYRRE SUNDAL |
AutoLateralCA | 1 |
BitsPerSample (1) | 8 8 8 |
BitsPerSample | 8 |
Blacks2012 | -14 |
BlueHue | 0 |
BlueSaturation | 0 |
BrightnessValue | 5.47 |
By-line | KYRRE SUNDAL |
CameraProfile | Adobe Standard |
Caption-Abstract | Vessel |
CircleOfConfusion | 0.007 mm |
City | New York |
Clarity2012 | +15 |
ColorComponents | 3 |
ColorMode | RGB |
ColorNoiseReduction | 36 |
ColorNoiseReductionDetail | 50 |
ColorNoiseReductionSmoothness | 50 |
ColorSpace | sRGB |
ColorTemperature | 5250 |
ColorTransform | YCbCr |
Contrast2012 | -35 |
ConvertToGrayscale | False |
Copyright | © Kyrre Sundal |
CopyrightNotice | © Kyrre Sundal |
Country | USA |
Country-PrimaryLocationName | USA |
CreateDate | 2019:03:16 15:45:27 |
Creator | KYRRE SUNDAL |
CreatorTool | Adobe Photoshop CC 2018 (Macintosh) |
CropAngle | 0 |
CropBottom | 0.98182 |
CropConstrainToWarp | 0 |
CropLeft | 0 |
CropRight | 0.799797 |
CropTop | 0.022064 |
CustomRendered | Normal |
DateCreated (1) | 2019:03:16 |
DateCreated | 2019:03:16 15:45:27 |
DateTimeOriginal | 2019:03:16 15:45:27 |
DefringeGreenAmount | 0 |
DefringeGreenHueHi | 60 |
DefringeGreenHueLo | 40 |
DefringePurpleAmount | 0 |
DefringePurpleHueHi | 70 |
DefringePurpleHueLo | 30 |
Dehaze | 0 |
Description | Vessel |
DistortionCorrectionAlreadyApplied | True |
ExifImageHeight | 2000 |
ExifImageWidth | 1600 |
Exposure2012 | +0.07 |
ExposureCompensation | 0 |
ExposureMode | Auto |
ExposureProgram | Aperture-priority AE |
ExposureTime | 1/220 |
Flash | No Flash |
FNumber | 5.6 |
FocalLength | 23.0 mm |
FocalLength35efl | 23.0 mm (35 mm equivalent: 99.2 mm) |
Format | image/jpeg |
FOV | 20.6 deg |
GrainAmount | 0 |
GreenHue | 0 |
GreenSaturation | 0 |
HasCrop | True |
HasSettings | True |
Highlights2012 | -78 |
HueAdjustmentAqua | 0 |
HueAdjustmentBlue | 0 |
HueAdjustmentGreen | 0 |
HueAdjustmentMagenta | 0 |
HueAdjustmentOrange | 0 |
HueAdjustmentPurple | 0 |
HueAdjustmentRed | 0 |
HueAdjustmentYellow | 0 |
HyperfocalDistance | 13.56 m |
ICCProfileName | sRGB IEC61966-2.1 |
ImageDescription | Vessel |
ImageHeight (1) | 4799 |
ImageHeight | 2000 |
ImageSize | 1600x2000 |
ImageWidth (1) | 3839 |
ImageWidth | 1600 |
ISO | 6400 |
LateralChromaticAberrationCorrectionAlreadyApplied | True |
LensManualDistortionAmount | 0 |
LensProfileChromaticAberrationScale | 100 |
LensProfileDistortionScale | 100 |
LensProfileEnable | 1 |
LensProfileFilename | Fujifilm X100F.lcp |
LensProfileName | Adobe (Fujifilm X100F) |
LensProfileSetup | LensDefaults |
LensProfileVignettingScale | 100 |
LightSource | Unknown |
LightValue | 6.8 |
Location | Hudson Yards |
LookName | |
LuminanceAdjustmentAqua | +11 |
LuminanceAdjustmentBlue | +36 |
LuminanceAdjustmentGreen | +100 |
LuminanceAdjustmentMagenta | 0 |
LuminanceAdjustmentOrange | +11 |
LuminanceAdjustmentPurple | 0 |
LuminanceAdjustmentRed | -22 |
LuminanceAdjustmentYellow | -35 |
LuminanceNoiseReductionContrast | 0 |
LuminanceNoiseReductionDetail | 50 |
LuminanceSmoothing | 19 |
Make | FUJIFILM |
MaxApertureValue | 2.0 |
Megapixels | 3.2 |
MeteringMode | Multi-segment |
Model | X100F |
ModifyDate (1) | 2019:03:20 21:37:02+01:00 |
ModifyDate | 2019:03:20 21:37:02 |
ObjectName | Vessel |
Orientation | Horizontal (normal) |
OverrideLookVignette | False |
ParametricDarks | +25 |
ParametricHighlights | +7 |
ParametricHighlightSplit | 75 |
ParametricLights | +13 |
ParametricMidtoneSplit | 50 |
ParametricShadows | -35 |
ParametricShadowSplit | 25 |
PerspectiveAspect | 0 |
PerspectiveHorizontal | 0 |
PerspectiveRotate | 0.0 |
PerspectiveScale | 100 |
PerspectiveUpright | 5 |
PerspectiveVertical | 0 |
PerspectiveX | 0.00 |
PerspectiveY | 0.00 |
PhotometricInterpretation | RGB |
PostCropVignetteAmount | 0 |
ProcessVersion | 11.0 |
ProfileDescription | sRGB IEC61966-2.1 |
Province-State | NY |
RawFileName | DSCF3709.RAF |
RedHue | 0 |
RedSaturation | 0 |
Rights | © Kyrre Sundal |
SamplesPerPixel | 3 |
Saturation | +14 |
SaturationAdjustmentAqua | -16 |
SaturationAdjustmentBlue | -9 |
SaturationAdjustmentGreen | +33 |
SaturationAdjustmentMagenta | -63 |
SaturationAdjustmentOrange | +50 |
SaturationAdjustmentPurple | -28 |
SaturationAdjustmentRed | +44 |
SaturationAdjustmentYellow | -66 |
ScaleFactor35efl | 4.3 |
SceneCaptureType | Standard |
SceneType | Directly photographed |
SensingMethod | One-chip color area |
SensitivityType | Standard Output Sensitivity |
SerialNumber | 74M03107 |
Shadows2012 | +28 |
ShadowTint | 0 |
SharpenDetail | 25 |
SharpenEdgeMasking | 0 |
SharpenRadius | +1.0 |
Sharpness (1) | 25 |
Sharpness | Normal |
ShutterSpeed | 1/220 |
ShutterSpeedValue | 1/220 |
Software | Adobe Photoshop CC 2018 (Macintosh) |
SplitToningBalance | 0 |
SplitToningHighlightHue | 44 |
SplitToningHighlightSaturation | 13 |
SplitToningShadowHue | 32 |
SplitToningShadowSaturation | 0 |
State | NY |
Sub-location | Hudson Yards |
SubjectDistanceRange | Unknown |
Tint | +6 |
Title | Vessel |
ToneCurve | 0, 0, 255, 255 |
ToneCurveBlue | 0, 0, 255, 255 |
ToneCurveGreen | 0, 0, 255, 255 |
ToneCurveName | Linear |
ToneCurveName2012 | Custom |
ToneCurvePV2012 | 2, 0, 52, 52, 177, 190, 255, 255 |
ToneCurvePV2012Blue | 0, 0, 69, 72, 169, 191, 255, 255 |
ToneCurvePV2012Green | 0, 0, 71, 71, 174, 190, 255, 255 |
ToneCurvePV2012Red | 0, 0, 74, 73, 190, 203, 255, 255 |
ToneCurveRed | 0, 0, 255, 255 |
ToneMapStrength | 0 |
URL_List | |
Version | 11.0 |
Vibrance | +25 |
VignetteAmount | 0 |
VignetteCorrectionAlreadyApplied | True |
WhiteBalance (1) | Custom |
WhiteBalance | Auto |
Whites2012 | +15 |