Felt | Verdi |
AlreadyApplied | True |
Aperture | 11.0 |
ApertureValue | 11.0 |
Artist | Steinskog photo |
AutoLateralCA | 1 |
BitsPerSample | 8 |
Blacks2012 | -6 |
BlueHue | 0 |
BlueSaturation | 0 |
BrightnessValue | 9.99 |
By-line | Steinskog photo |
CameraProfile | Camera ACROS+R FILTER |
CircGradBasedCorrActive | true |
CircGradBasedCorrAmount | 1.000000 |
CircGradBasedCorrBrightness | 0.000000 |
CircGradBasedCorrClarity2012 | 0.000000 |
CircGradBasedCorrContrast2012 | 0.000000 |
CircGradBasedCorrCorrectionRangeMaskDepthMax | 1.000000 |
CircGradBasedCorrCorrectionRangeMaskDepthMin | 0.000000 |
CircGradBasedCorrCorrectionRangeMaskLumFeather | 0.500000 |
CircGradBasedCorrCorrectionRangeMaskLumMax | 1.000000 |
CircGradBasedCorrCorrectionRangeMaskLumMin | 0.000000 |
CircGradBasedCorrCorrectionRangeMaskType | 0 |
CircGradBasedCorrCorrectionRangeMaskVersion | +2 |
CircGradBasedCorrDefringe | 0.000000 |
CircGradBasedCorrExposure2012 (1) | 0.330294 |
CircGradBasedCorrExposure2012 (2) | 0.209213 |
CircGradBasedCorrExposure2012 (3) | 0.251210 |
CircGradBasedCorrExposure2012 | 0.000000 |
CircGradBasedCorrHighlights2012 (1) | -0.272717 |
CircGradBasedCorrHighlights2012 (2) | -0.007339 |
CircGradBasedCorrHighlights2012 (3) | 0.000000 |
CircGradBasedCorrHighlights2012 | -0.205086 |
CircGradBasedCorrHue | 0.000000 |
CircGradBasedCorrLocalBlacks2012 | 0.000000 |
CircGradBasedCorrLocalDehaze | 0.000000 |
CircGradBasedCorrLocalTexture | 0.000000 |
CircGradBasedCorrLocalWhites2012 (1) | 0.192783 |
CircGradBasedCorrLocalWhites2012 | 0.000000 |
CircGradBasedCorrLuminanceNoise | 0.000000 |
CircGradBasedCorrMaskAngle (2) | -0.446144 |
CircGradBasedCorrMaskAngle (3) | -1.242130 |
CircGradBasedCorrMaskAngle | 0.000000 |
CircGradBasedCorrMaskBottom (1) | 0.946941 |
CircGradBasedCorrMaskBottom (2) | 0.702049 |
CircGradBasedCorrMaskBottom (3) | 0.717534 |
CircGradBasedCorrMaskBottom | 0.490796 |
CircGradBasedCorrMaskFeather | +50 |
CircGradBasedCorrMaskFlipped | true |
CircGradBasedCorrMaskLeft (1) | 0.000708 |
CircGradBasedCorrMaskLeft (2) | 0.371501 |
CircGradBasedCorrMaskLeft (3) | -0.036321 |
CircGradBasedCorrMaskLeft | -0.208633 |
CircGradBasedCorrMaskMidpoint | +50 |
CircGradBasedCorrMaskRight (1) | 1.506020 |
CircGradBasedCorrMaskRight (2) | 1.295790 |
CircGradBasedCorrMaskRight (3) | 0.418036 |
CircGradBasedCorrMaskRight | 1.302880 |
CircGradBasedCorrMaskRoundness | 0 |
CircGradBasedCorrMaskTop (1) | 0.695643 |
CircGradBasedCorrMaskTop (2) | 0.605837 |
CircGradBasedCorrMaskTop (3) | 0.626795 |
CircGradBasedCorrMaskTop | -0.372983 |
CircGradBasedCorrMaskValue | 1.000000 |
CircGradBasedCorrMaskVersion | +2 |
CircGradBasedCorrMaskWhat | Mask/CircularGradient |
CircGradBasedCorrMoire | 0.000000 |
CircGradBasedCorrSaturation | 0.000000 |
CircGradBasedCorrShadows2012 | 0.000000 |
CircGradBasedCorrSharpness | 0.000000 |
CircGradBasedCorrTemperature | 0.000000 |
CircGradBasedCorrTint | 0.000000 |
CircGradBasedCorrWhat | Correction |
CircleOfConfusion | 0.038 mm |
Clarity2012 | 0 |
ColorComponents | 3 |
ColorNoiseReduction | 25 |
ColorNoiseReductionDetail | 50 |
ColorNoiseReductionSmoothness | 50 |
ColorSpace | sRGB |
ColorTemperature | 4850 |
ColorTransform | YCbCr |
Contrast2012 | 0 |
ConvertToGrayscale | True |
Copyright | Øyvind Samdal Steinskog |
CopyrightFlag | True |
CopyrightNotice | Øyvind Samdal Steinskog |
CreateDate | 2019:07:30 15:22:24 |
Creator | Steinskog photo |
CustomRendered | Normal |
DateCreated (1) | 2019:07:30 |
DateCreated | 2019:07:30 15:22:24 |
DateTimeOriginal | 2019:07:30 15:22:24 |
Dehaze | 0 |
DistortionCorrectionAlreadyApplied | True |
Exposure2012 | +0.30 |
ExposureCompensation | -0.33 |
ExposureMode | Auto |
ExposureProgram | Aperture-priority AE |
ExposureTime | 1/180 |
Flash | No Flash |
FNumber | 11.0 |
FocalLength | 45.0 mm |
FocalLength35efl | 45.0 mm (35 mm equivalent: 36.0 mm) |
FocalLengthIn35mmFormat | 36 mm |
Format | image/jpeg |
FOV | 53.1 deg |
GrainAmount | 0 |
GreenHue | 0 |
GreenSaturation | 0 |
HasCrop | False |
HasExtendedXMP | 9C92CCF210FA91283A72DAB164E08A1D |
HasSettings | True |
Highlights2012 | -71 |
HyperfocalDistance | 4.90 m |
ImageHeight | 1732 |
ImageSize | 2309x1732 |
ImageWidth | 2309 |
ISO | 100 |
LateralChromaticAberrationCorrectionAlreadyApplied | True |
Lens | GF45mmF2.8 R WR |
LensInfo | 45mm f/2.8 |
LensMake | FUJIFILM |
LensManualDistortionAmount | 0 |
LensModel | GF45mmF2.8 R WR |
LensProfileEnable | 0 |
LensProfileSetup | LensDefaults |
LensSerialNumber | 2405261105 |
LightSource | Unknown |
LightValue | 14.4 |
LookName | |
LuminanceSmoothing | 0 |
Make | FUJIFILM |
Marked | True |
MaxApertureValue | 2.8 |
Megapixels | 4.0 |
MeteringMode | Multi-segment |
Model | GFX 50R |
ModifyDate (1) | 2019:08:08 20:19:20+02:00 |
ModifyDate | 2019:08:08 20:19:20 |
OverrideLookVignette | False |
PaintCorrectionActive | true |
PaintCorrectionAmount | 1.000000 |
PaintCorrectionBrightness | 0.000000 |
PaintCorrectionClarity2012 | 0.000000 |
PaintCorrectionContrast2012 | 0.000000 |
PaintCorrectionCorrectionRangeMaskColorAmount | 0.500000 |
PaintCorrectionCorrectionRangeMaskDepthFeather | 0.500000 |
PaintCorrectionCorrectionRangeMaskDepthMax | 1.000000 |
PaintCorrectionCorrectionRangeMaskDepthMin | 0.000000 |
PaintCorrectionCorrectionRangeMaskLumFeather | 0.500000 |
PaintCorrectionCorrectionRangeMaskLumMax | 1.000000 |
PaintCorrectionCorrectionRangeMaskLumMin | 0.000000 |
PaintCorrectionCorrectionRangeMaskType | 0 |
PaintCorrectionCorrectionRangeMaskVersion | +2 |
PaintCorrectionDefringe | 0.000000 |
PaintCorrectionExposure2012 (1) | 0.513689 |
PaintCorrectionExposure2012 (2) | 0.371622 |
PaintCorrectionExposure2012 (3) | 0.458128 |
PaintCorrectionExposure2012 (4) | 0.414214 |
PaintCorrectionExposure2012 (5) | -0.376291 |
PaintCorrectionExposure2012 | 0.272717 |
PaintCorrectionHighlights2012 | 0.000000 |
PaintCorrectionHue | 0.000000 |
PaintCorrectionLocalBlacks2012 | 0.000000 |
PaintCorrectionLocalDehaze | 0.000000 |
PaintCorrectionLocalTexture | 0.000000 |
PaintCorrectionLocalWhites2012 | 0.000000 |
PaintCorrectionLuminanceNoise | 0.000000 |
PaintCorrectionMaskCenterWeight | 0.000000 |
PaintCorrectionMaskFlow (10) | 0.042444 |
PaintCorrectionMaskFlow (100) | 0.045737 |
PaintCorrectionMaskFlow (101) | 0.057482 |
PaintCorrectionMaskFlow (102) | 0.015875 |
PaintCorrectionMaskFlow (104) | 0.039213 |
PaintCorrectionMaskFlow (106) | 0.021061 |
PaintCorrectionMaskFlow (107) | 0.033360 |
PaintCorrectionMaskFlow (108) | 0.005948 |
PaintCorrectionMaskFlow (109) | 0.023549 |
PaintCorrectionMaskFlow (11) | 0.065939 |
PaintCorrectionMaskFlow (110) | 0.033844 |
PaintCorrectionMaskFlow (112) | 0.028009 |
PaintCorrectionMaskFlow (113) | 0.025569 |
PaintCorrectionMaskFlow (114) | 0.035019 |
PaintCorrectionMaskFlow (116) | 0.065844 |
PaintCorrectionMaskFlow (117) | 0.030253 |
PaintCorrectionMaskFlow (118) | 0.028599 |
PaintCorrectionMaskFlow (119) | 0.035827 |
PaintCorrectionMaskFlow (12) | 0.037469 |
PaintCorrectionMaskFlow (120) | 0.022341 |
PaintCorrectionMaskFlow (121) | 0.021423 |
PaintCorrectionMaskFlow (122) | 0.035829 |
PaintCorrectionMaskFlow (123) | 0.055989 |
PaintCorrectionMaskFlow (124) | 0.056951 |
PaintCorrectionMaskFlow (125) | 0.031478 |
PaintCorrectionMaskFlow (126) | 0.135322 |
PaintCorrectionMaskFlow (127) | 0.056241 |
PaintCorrectionMaskFlow (128) | 0.053923 |
PaintCorrectionMaskFlow (129) | 0.021945 |
PaintCorrectionMaskFlow (13) | 0.079597 |
PaintCorrectionMaskFlow (130) | 0.055391 |
PaintCorrectionMaskFlow (14) | 0.064897 |
PaintCorrectionMaskFlow (15) | 0.023630 |
PaintCorrectionMaskFlow (16) | 0.008248 |
PaintCorrectionMaskFlow (17) | 0.022740 |
PaintCorrectionMaskFlow (18) | 0.027185 |
PaintCorrectionMaskFlow (19) | 0.068721 |
PaintCorrectionMaskFlow (2) | 0.074527 |
PaintCorrectionMaskFlow (20) | 0.062747 |
PaintCorrectionMaskFlow (21) | 0.041493 |
PaintCorrectionMaskFlow (22) | 0.023374 |
PaintCorrectionMaskFlow (23) | 0.067353 |
PaintCorrectionMaskFlow (24) | 0.035306 |
PaintCorrectionMaskFlow (25) | 0.012437 |
PaintCorrectionMaskFlow (26) | 0.032988 |
PaintCorrectionMaskFlow (27) | 0.031981 |
PaintCorrectionMaskFlow (29) | 0.034160 |
PaintCorrectionMaskFlow (3) | 0.074365 |
PaintCorrectionMaskFlow (30) | 0.043193 |
PaintCorrectionMaskFlow (31) | 0.064383 |
PaintCorrectionMaskFlow (32) | 0.061731 |
PaintCorrectionMaskFlow (33) | 0.039096 |
PaintCorrectionMaskFlow (34) | 0.026634 |
PaintCorrectionMaskFlow (35) | 0.051834 |
PaintCorrectionMaskFlow (36) | 0.032999 |
PaintCorrectionMaskFlow (37) | 0.100251 |
PaintCorrectionMaskFlow (38) | 0.070432 |
PaintCorrectionMaskFlow (4) | 0.034718 |
PaintCorrectionMaskFlow (40) | 0.040721 |
PaintCorrectionMaskFlow (41) | 0.068915 |
PaintCorrectionMaskFlow (42) | 0.044993 |
PaintCorrectionMaskFlow (43) | 0.018687 |
PaintCorrectionMaskFlow (44) | 0.497712 |
PaintCorrectionMaskFlow (45) | 0.064019 |
PaintCorrectionMaskFlow (46) | 0.069783 |
PaintCorrectionMaskFlow (47) | 0.109043 |
PaintCorrectionMaskFlow (48) | 0.071921 |
PaintCorrectionMaskFlow (49) | 0.095539 |
PaintCorrectionMaskFlow (5) | 0.031286 |
PaintCorrectionMaskFlow (50) | 0.068474 |
PaintCorrectionMaskFlow (51) | 0.077411 |
PaintCorrectionMaskFlow (52) | 0.116287 |
PaintCorrectionMaskFlow (54) | 0.078385 |
PaintCorrectionMaskFlow (55) | 0.024590 |
PaintCorrectionMaskFlow (56) | 0.041073 |
PaintCorrectionMaskFlow (58) | 0.051850 |
PaintCorrectionMaskFlow (59) | 0.131120 |
PaintCorrectionMaskFlow (6) | 0.029011 |
PaintCorrectionMaskFlow (60) | 0.070944 |
PaintCorrectionMaskFlow (61) | 0.098101 |
PaintCorrectionMaskFlow (62) | 0.071736 |
PaintCorrectionMaskFlow (63) | 0.085582 |
PaintCorrectionMaskFlow (64) | 0.071855 |
PaintCorrectionMaskFlow (65) | 0.061260 |
PaintCorrectionMaskFlow (66) | 0.034678 |
PaintCorrectionMaskFlow (67) | 0.012558 |
PaintCorrectionMaskFlow (70) | 0.065129 |
PaintCorrectionMaskFlow (71) | 0.012160 |
PaintCorrectionMaskFlow (72) | 0.069626 |
PaintCorrectionMaskFlow (73) | 0.047808 |
PaintCorrectionMaskFlow (74) | 0.044297 |
PaintCorrectionMaskFlow (77) | 0.050800 |
PaintCorrectionMaskFlow (79) | 0.028333 |
PaintCorrectionMaskFlow (8) | 0.022535 |
PaintCorrectionMaskFlow (80) | 0.037652 |
PaintCorrectionMaskFlow (81) | 0.037628 |
PaintCorrectionMaskFlow (82) | 0.072833 |
PaintCorrectionMaskFlow (83) | 0.108662 |
PaintCorrectionMaskFlow (85) | 0.024409 |
PaintCorrectionMaskFlow (86) | 0.053411 |
PaintCorrectionMaskFlow (87) | 0.062053 |
PaintCorrectionMaskFlow (88) | 0.084699 |
PaintCorrectionMaskFlow (89) | 0.109820 |
PaintCorrectionMaskFlow (9) | 0.023323 |
PaintCorrectionMaskFlow (90) | 0.059101 |
PaintCorrectionMaskFlow (91) | 0.096734 |
PaintCorrectionMaskFlow (92) | 0.077875 |
PaintCorrectionMaskFlow (93) | 0.098196 |
PaintCorrectionMaskFlow (94) | 0.127007 |
PaintCorrectionMaskFlow (95) | 0.105963 |
PaintCorrectionMaskFlow (96) | 0.075489 |
PaintCorrectionMaskFlow (98) | 0.046169 |
PaintCorrectionMaskFlow (99) | 0.079634 |
PaintCorrectionMaskFlow | 0.046546 |
PaintCorrectionMaskRadius (23) | 0.061678 |
PaintCorrectionMaskRadius (24) | 0.047430 |
PaintCorrectionMaskRadius (27) | 0.046739 |
PaintCorrectionMaskRadius (31) | 0.045311 |
PaintCorrectionMaskRadius (32) | 0.021883 |
PaintCorrectionMaskRadius (37) | 0.038306 |
PaintCorrectionMaskRadius (40) | 0.076906 |
PaintCorrectionMaskRadius (51) | 0.071220 |
PaintCorrectionMaskRadius (56) | 0.048999 |
PaintCorrectionMaskRadius (59) | 0.069504 |
PaintCorrectionMaskRadius (68) | 0.080387 |
PaintCorrectionMaskRadius (69) | 0.033446 |
PaintCorrectionMaskRadius (7) | 0.060501 |
PaintCorrectionMaskRadius (70) | 0.082054 |
PaintCorrectionMaskRadius (79) | 0.068002 |
PaintCorrectionMaskRadius (92) | 0.097806 |
PaintCorrectionMaskRadius (93) | 0.122953 |
PaintCorrectionMaskRadius (96) | 0.098141 |
PaintCorrectionMaskRadius | 0.111329 |
PaintCorrectionMaskValue (45) | 0.000000 |
PaintCorrectionMaskValue | 1.000000 |
PaintCorrectionMaskWhat | Mask/Paint |
PaintCorrectionMoire | 0.000000 |
PaintCorrectionSaturation | 0.000000 |
PaintCorrectionShadows2012 | 0.000000 |
PaintCorrectionSharpness | 0.000000 |
PaintCorrectionTemperature | 0.000000 |
PaintCorrectionTint | 0.000000 |
PaintCorrectionWhat | Correction |
ParametricDarks | 0 |
ParametricHighlights | 0 |
ParametricHighlightSplit | 75 |
ParametricLights | 0 |
ParametricMidtoneSplit | 50 |
ParametricShadows | 0 |
ParametricShadowSplit | 25 |
PerspectiveAspect | 0 |
PerspectiveHorizontal | 0 |
PerspectiveRotate | 0.0 |
PerspectiveScale | 100 |
PerspectiveUpright | 0 |
PerspectiveVertical | 0 |
PerspectiveX | 0.00 |
PerspectiveY | 0.00 |
PostCropVignetteAmount | 0 |
PreservedFileName | DSCF3835.RAF |
ProcessVersion | 11.0 |
ProfileDescription | sRGB IEC61966-2.1 |
RawFileName | 190730_Sommerferie_1693.RAF |
RedHue | 0 |
RedSaturation | 0 |
Rights | Øyvind Samdal Steinskog |
ScaleFactor35efl | 0.8 |
SceneCaptureType | Standard |
SceneType | Directly photographed |
SensingMethod | One-chip color area |
SensitivityType | Standard Output Sensitivity |
SerialNumber | 84053934 |
Shadows2012 | +7 |
ShadowTint | 0 |
SharpenDetail | 25 |
SharpenEdgeMasking | 0 |
SharpenRadius | +1.0 |
Sharpness (1) | 17 |
Sharpness | Normal |
ShutterSpeed | 1/180 |
ShutterSpeedValue | 1/180 |
SplitToningBalance | 0 |
SplitToningHighlightHue | 295 |
SplitToningHighlightSaturation | 0 |
SplitToningShadowHue | 57 |
SplitToningShadowSaturation | 0 |
StandardOutputSensitivity | 100 |
SubjectDistanceRange | Unknown |
Texture | +10 |
Tint | +18 |
ToneCurve | 0, 0, 255, 255 |
ToneCurveBlue | 0, 0, 255, 255 |
ToneCurveGreen | 0, 0, 255, 255 |
ToneCurveName | Linear |
ToneCurveName2012 | Custom |
ToneCurvePV2012 | 0, 11, 43, 29, 128, 127, 216, 236, 255, 255 |
ToneCurvePV2012Blue | 0, 0, 255, 255 |
ToneCurvePV2012Green | 0, 0, 255, 255 |
ToneCurvePV2012Red | 0, 0, 255, 255 |
ToneCurveRed | 0, 0, 255, 255 |
ToneMapStrength | 0 |
Version | 11.3 |
VignetteAmount | 0 |
VignetteCorrectionAlreadyApplied | True |
WhiteBalance (1) | As Shot |
WhiteBalance | Auto |
Whites2012 | +6 |