Felt | Verdi |
AlreadyApplied | True |
Aperture | 7.1 |
ApertureValue | 7.1 |
ApproximateFocusDistance | 4294967295 |
Artist | espen ali johansen |
AutoLateralCA | 1 |
BitsPerSample | 8 |
Blacks2012 | +22 |
BlueHue | 0 |
BlueSaturation | 0 |
By-line | espen ali johansen |
CameraProfile | Adobe Standard v2 |
CircleOfConfusion | 0.029 mm |
Clarity2012 | 0 |
ColorComponents | 3 |
ColorNoiseReduction | 25 |
ColorNoiseReductionDetail | 50 |
ColorNoiseReductionSmoothness | 50 |
ColorSpace | sRGB |
ColorTemperature | 5350 |
ColorTransform | YCbCr |
Contrast2012 | +15 |
ConvertToGrayscale | False |
Copyright | EA FOTO |
CopyrightNotice | EA FOTO |
CreateDate (1) | 2019:08:30 05:56:49.78+01:00 |
CreateDate | 2019:08:30 05:56:49 |
Creator | espen ali johansen |
CreatorTool | Adobe Photoshop Lightroom Classic 8.4 (Windows) |
CropAngle | 0 |
CropBottom | 0.927307 |
CropConstrainToWarp | 0 |
CropLeft | 0 |
CropRight | 1 |
CropTop | 0.100653 |
CustomRendered | Normal |
DateCreated (1) | 2019:08:30 |
DateCreated | 2019:08:30 05:56:49.78+01:00 |
DateTimeOriginal | 2019:08:30 05:56:49 |
DefringeGreenAmount | 0 |
DefringeGreenHueHi | 60 |
DefringeGreenHueLo | 40 |
DefringePurpleAmount | 0 |
DefringePurpleHueHi | 70 |
DefringePurpleHueLo | 30 |
Dehaze | 0 |
DistortionCorrectionAlreadyApplied | True |
DOF | inf (0.97 m - inf) |
Exposure2012 | +0.40 |
ExposureCompensation | 0 |
ExposureMode | Manual |
ExposureProgram | Manual |
ExposureTime | 1/50 |
Firmware | 1.2.0 |
Flash | No Flash |
FlashCompensation | 0 |
FNumber | 7.1 |
FocalLength | 14.0 mm |
FocalLength35efl | 14.0 mm (35 mm equivalent: 14.7 mm) |
Format | image/jpeg |
FOV | 101.4 deg |
GrainAmount | 0 |
GreenHue | 0 |
GreenSaturation | 0 |
HasCrop | True |
HasSettings | True |
Highlights2012 | -80 |
HueAdjustmentAqua | 0 |
HueAdjustmentBlue | 0 |
HueAdjustmentGreen | 0 |
HueAdjustmentMagenta | 0 |
HueAdjustmentOrange | 0 |
HueAdjustmentPurple | 0 |
HueAdjustmentRed | 0 |
HueAdjustmentYellow | 0 |
HyperfocalDistance | 0.97 m |
ImageHeight | 3703 |
ImageNumber | 0 |
ImageSize | 6719x3703 |
ImageWidth | 6719 |
ISO | 100 |
LateralChromaticAberrationCorrectionAlreadyApplied | True |
Lens | 14mm F1.8 DG HSM | Art 017 |
LensID (1) | 155 |
LensID | Sigma 14mm f/1.8 DG HSM | A |
LensInfo | 14mm f/? |
LensManualDistortionAmount | 0 |
LensModel | 14mm F1.8 DG HSM | Art 017 |
LensProfileChromaticAberrationScale | 100 |
LensProfileDistortionScale | 100 |
LensProfileEnable | 1 |
LensProfileFilename | Canon (SIGMA 14mm F1.8 DG HSM A017) - RAW.lcp |
LensProfileName | Adobe (SIGMA 14mm F1.8 DG HSM A017, Canon) |
LensProfileSetup | LensDefaults |
LensProfileVignettingScale | 100 |
LensSerialNumber | 0000000000 |
LightValue | 11.3 |
LookAmount | 1.000000 |
LookGroup | Profiles |
LookName | Adobe Color |
LookParametersCameraProfile | Adobe Standard |
LookParametersConvertToGrayscale | False |
LookParametersLookTable | E1095149FDB39D7A057BAB208837E2E1 |
LookParametersProcessVersion | 11.0 |
LookParametersToneCurvePV2012 | 0, 0, 22, 16, 40, 35, 127, 127, 224, 230, 240, 246, 255, 255 |
LookParametersToneCurvePV2012Blue | 0, 0, 255, 255 |
LookParametersToneCurvePV2012Green | 0, 0, 255, 255 |
LookParametersToneCurvePV2012Red | 0, 0, 255, 255 |
LookParametersVersion | 11.4 |
LookSupportsAmount | false |
LookSupportsMonochrome | false |
LookSupportsOutputReferred | false |
LuminanceAdjustmentAqua | 0 |
LuminanceAdjustmentBlue | +57 |
LuminanceAdjustmentGreen | 0 |
LuminanceAdjustmentMagenta | +29 |
LuminanceAdjustmentOrange | +27 |
LuminanceAdjustmentPurple | 0 |
LuminanceAdjustmentRed | +37 |
LuminanceAdjustmentYellow | +20 |
LuminanceNoiseReductionContrast | 0 |
LuminanceNoiseReductionDetail | 50 |
LuminanceSmoothing | 30 |
Make | Canon |
MaxApertureValue | 1.8 |
Megapixels | 24.9 |
MeteringMode | Multi-segment |
Model | Canon EOS R |
ModifyDate (1) | 2019:08:30 07:15:05+02:00 |
ModifyDate | 2019:08:30 07:15:05 |
OverrideLookVignette | False |
PaintCorrectionActive | true |
PaintCorrectionAmount | 1.000000 |
PaintCorrectionBrightness | 0.000000 |
PaintCorrectionClarity2012 | 0.000000 |
PaintCorrectionContrast2012 | 0.000000 |
PaintCorrectionCorrectionRangeMaskColorAmount | 0.500000 |
PaintCorrectionCorrectionRangeMaskDepthFeather | 0.500000 |
PaintCorrectionCorrectionRangeMaskDepthMax | 1.000000 |
PaintCorrectionCorrectionRangeMaskDepthMin | 0.000000 |
PaintCorrectionCorrectionRangeMaskLumFeather | 0.500000 |
PaintCorrectionCorrectionRangeMaskLumMax | 1.000000 |
PaintCorrectionCorrectionRangeMaskLumMin | 0.000000 |
PaintCorrectionCorrectionRangeMaskType | 0 |
PaintCorrectionCorrectionRangeMaskVersion | +2 |
PaintCorrectionDefringe | 0.000000 |
PaintCorrectionExposure2012 | 0.000000 |
PaintCorrectionHighlights2012 | 0.000000 |
PaintCorrectionHue | 60.000000 |
PaintCorrectionLocalBlacks2012 | 0.000000 |
PaintCorrectionLocalDehaze | 0.000000 |
PaintCorrectionLocalTexture | 0.000000 |
PaintCorrectionLocalWhites2012 | 0.000000 |
PaintCorrectionLuminanceNoise | 0.000000 |
PaintCorrectionMaskCenterWeight | 0.038616 |
PaintCorrectionMaskFlow | 0.832000 |
PaintCorrectionMaskRadius (1) | 0.085374 |
PaintCorrectionMaskRadius (2) | 0.085513 |
PaintCorrectionMaskRadius (3) | 0.085457 |
PaintCorrectionMaskRadius (4) | 0.068062 |
PaintCorrectionMaskRadius (5) | 0.067890 |
PaintCorrectionMaskRadius | 0.067946 |
PaintCorrectionMaskValue | 1.000000 |
PaintCorrectionMaskWhat | Mask/Paint |
PaintCorrectionMoire | 0.000000 |
PaintCorrectionSaturation (1) | 0.000000 |
PaintCorrectionSaturation | 0.240000 |
PaintCorrectionShadows2012 | 0.000000 |
PaintCorrectionSharpness | 0.000000 |
PaintCorrectionTemperature | 0.000000 |
PaintCorrectionTint | 0.314810 |
PaintCorrectionWhat | Correction |
ParametricDarks | 0 |
ParametricHighlights | 0 |
ParametricHighlightSplit | 75 |
ParametricLights | 0 |
ParametricMidtoneSplit | 50 |
ParametricShadows | 0 |
ParametricShadowSplit | 25 |
PerspectiveAspect | 0 |
PerspectiveHorizontal | 0 |
PerspectiveRotate | 0.0 |
PerspectiveScale | 100 |
PerspectiveUpright | 3 |
PerspectiveVertical | 0 |
PerspectiveX | 0.00 |
PerspectiveY | 0.00 |
PostCropVignetteAmount | 0 |
PreservedFileName | 5U6A5966.CR3 |
ProcessVersion | 11.0 |
ProfileDescription | sRGB IEC61966-2.1 |
RawFileName | 5U6A5966.CR3 |
RecommendedExposureIndex | 100 |
RedHue | +12 |
RedSaturation | 0 |
Rights | EA FOTO |
Saturation | +20 |
SaturationAdjustmentAqua | 0 |
SaturationAdjustmentBlue | +24 |
SaturationAdjustmentGreen | -22 |
SaturationAdjustmentMagenta | +30 |
SaturationAdjustmentOrange | +27 |
SaturationAdjustmentPurple | +54 |
SaturationAdjustmentRed | +38 |
SaturationAdjustmentYellow | +67 |
ScaleFactor35efl | 1.1 |
SceneCaptureType | Standard |
SensitivityType | Recommended Exposure Index |
SerialNumber | 043021002106 |
Shadows2012 | +100 |
ShadowTint | +10 |
SharpenDetail | 25 |
SharpenEdgeMasking | 88 |
SharpenRadius | +1.0 |
Sharpness | 70 |
ShutterSpeed | 1/50 |
ShutterSpeedValue | 1/50 |
Software | Adobe Photoshop Lightroom Classic 8.4 (Windows) |
SplitToningBalance | 0 |
SplitToningHighlightHue | 242 |
SplitToningHighlightSaturation | 13 |
SplitToningShadowHue | 50 |
SplitToningShadowSaturation | 13 |
Texture | 0 |
Tint | +11 |
ToneCurve | 0, 0, 255, 255 |
ToneCurveBlue | 0, 0, 255, 255 |
ToneCurveGreen | 0, 0, 255, 255 |
ToneCurveName | Linear |
ToneCurveName2012 | Linear |
ToneCurvePV2012 | 0, 0, 255, 255 |
ToneCurvePV2012Blue | 0, 0, 255, 255 |
ToneCurvePV2012Green | 0, 0, 255, 255 |
ToneCurvePV2012Red | 0, 0, 255, 255 |
ToneCurveRed | 0, 0, 255, 255 |
ToneMapStrength | 0 |
Version | 11.4 |
Vibrance | +10 |
VignetteAmount | 0 |
VignetteCorrectionAlreadyApplied | True |
WhiteBalance (1) | As Shot |
WhiteBalance | Auto |
Whites2012 | +36 |