Felt | Verdi |
AlreadyApplied | True |
Aperture | 7.1 |
ApertureValue | 7.1 |
Artist | Foto_by_karin |
AutoLateralCA | 0 |
AutoWhiteVersion | 134348800 |
BitsPerSample | 8 |
Blacks2012 | -28 |
BlueHue | 0 |
BlueSaturation | 0 |
By-line | Foto_by_karin |
CameraProfile | Embedded |
CFAPattern | [Red,Green][Green,Blue] |
CircleOfConfusion | 0.030 mm |
Clarity2012 | +39 |
ColorComponents | 3 |
ColorNoiseReduction | 0 |
ColorSpace | sRGB |
ColorTransform | YCbCr |
Contrast | Normal |
Contrast2012 | +12 |
ConvertToGrayscale | True |
Copyright | foto_by_karin@ |
CopyrightNotice | foto_by_karin@ |
CreateDate (1) | 2020:05:16 15:29:56.98 |
CreateDate | 2020:05:16 15:29:56 |
Creator | Foto_by_karin |
CreatorTool | Adobe Photoshop Lightroom 5.0 (Macintosh) |
CropAngle | 0.445951 |
CropBottom | 1 |
CropConstrainToWarp | 0 |
CropLeft | 0.008343 |
CropRight | 0.991661 |
CropTop | 0 |
CustomRendered | Custom |
DateCreated (1) | 2020:05:16 |
DateCreated | 2020:05:16 15:29:56.98 |
DateTimeOriginal | 2020:05:16 15:29:56 |
Exposure2012 | 0.00 |
ExposureCompensation | 0 |
ExposureMode | Auto |
ExposureProgram | Aperture-priority AE |
ExposureTime | 1/640 |
Flash | No Flash |
FNumber | 7.1 |
FocalLength | 29.0 mm |
FocalLength35efl | 29.0 mm (35 mm equivalent: 29.0 mm) |
FocalLengthIn35mmFormat | 29 mm |
Format | image/jpeg |
FOV | 63.7 deg |
GainControl | None |
GrainAmount | 13 |
GrainFrequency | 50 |
GrainSize | 25 |
GrayMixerAqua | -12 |
GrayMixerBlue | +24 |
GrayMixerGreen | -30 |
GrayMixerMagenta | +5 |
GrayMixerOrange | -24 |
GrayMixerPurple | +25 |
GrayMixerRed | -14 |
GrayMixerYellow | -29 |
GreenHue | 0 |
GreenSaturation | 0 |
HasCrop | True |
HasSettings | True |
Highlights2012 | -100 |
HyperfocalDistance | 3.94 m |
ImageHeight | 3977 |
ImageNumber | 6639 |
ImageSize | 5977x3977 |
ImageWidth | 5977 |
IncrementalTemperature | -18 |
IncrementalTint | 0 |
ISO | 200 |
Keywords | 2020, telemark runst 15-18 mai., z 6 himmel |
Lens | NIKKOR Z 24-70mm f/4 S |
LensInfo | 24-70mm f/4 |
LensMake | NIKON |
LensManualDistortionAmount | 0 |
LensModel | NIKKOR Z 24-70mm f/4 S |
LensProfileEnable | 0 |
LensProfileSetup | LensDefaults |
LensSerialNumber | 20036826 |
LightSource | Unknown |
LightValue | 14.0 |
LuminanceSmoothing | 0 |
Make | NIKON CORPORATION |
Megapixels | 23.8 |
MeteringMode | Center-weighted average |
Model | NIKON Z 6 |
ModifyDate (1) | 2020:05:19 17:37:22+02:00 |
ModifyDate | 2020:05:19 17:37:22 |
ParametricDarks | 0 |
ParametricHighlights | +4 |
ParametricHighlightSplit | 75 |
ParametricLights | 0 |
ParametricMidtoneSplit | 50 |
ParametricShadows | 0 |
ParametricShadowSplit | 25 |
PerspectiveAspect | 0 |
PerspectiveHorizontal | 0 |
PerspectiveRotate | 0.0 |
PerspectiveScale | 100 |
PerspectiveUpright | 1 |
PerspectiveVertical | 0 |
PostCropVignetteAmount | -2 |
PostCropVignetteFeather | 50 |
PostCropVignetteHighlightContrast | 0 |
PostCropVignetteMidpoint | 50 |
PostCropVignetteRoundness | 0 |
PostCropVignetteStyle | 1 |
ProcessVersion | 6.7 |
ProfileDescription | sRGB IEC61966-2.1 |
RecommendedExposureIndex | 200 |
RedHue | 0 |
RedSaturation | 0 |
Rights | foto_by_karin@ |
Saturation | Normal |
ScaleFactor35efl | 1.0 |
SceneCaptureType | Standard |
SceneType | Directly photographed |
SensingMethod | One-chip color area |
SensitivityType | Recommended Exposure Index |
SerialNumber | 6017019 |
Shadows2012 | +96 |
ShadowTint | 0 |
SharpenDetail | 25 |
SharpenEdgeMasking | 0 |
SharpenRadius | +1.0 |
Sharpness (1) | 0 |
Sharpness | Normal |
ShutterSpeed | 1/640 |
ShutterSpeedValue | 1/640 |
Software | Adobe Photoshop Lightroom 5.0 (Macintosh) |
SplitToningBalance | 0 |
SplitToningHighlightHue | 0 |
SplitToningHighlightSaturation | 0 |
SplitToningShadowHue | 0 |
SplitToningShadowSaturation | 0 |
Subject | 2020, telemark runst 15-18 mai., z 6 himmel |
SubjectDistanceRange | Unknown |
ToneCurveName2012 | Linear |
ToneCurvePV2012 | 0, 0, 255, 255 |
ToneCurvePV2012Blue | 0, 0, 255, 255 |
ToneCurvePV2012Green | 0, 0, 255, 255 |
ToneCurvePV2012Red | 0, 0, 255, 255 |
Version | 8.2 |
VignetteAmount | 0 |
WhiteBalance (1) | Custom |
WhiteBalance | Auto |
Whites2012 | +1 |