Felt | Verdi |
AlreadyApplied | True |
Aperture | 7.1 |
ApertureValue | 7.1 |
ApproximateFocusDistance | 4294967295 |
Artist | jes.Foto |
AutoLateralCA | 1 |
BitsPerSample | 8 |
Blacks2012 | +60 |
BlueHue | 0 |
BlueSaturation | 0 |
By-line | jes.Foto |
CameraProfile | Adobe Standard |
CircleOfConfusion | 0.030 mm |
Clarity2012 | +9 |
ColorComponents | 3 |
ColorNoiseReduction | 25 |
ColorNoiseReductionDetail | 50 |
ColorNoiseReductionSmoothness | 50 |
ColorSpace | sRGB |
ColorTemperature | 6350 |
ColorTransform | YCbCr |
Contrast2012 | +30 |
ConvertToGrayscale | False |
Copyright | jes.Foto |
CopyrightNotice | jes.Foto |
CreateDate (1) | 2020:07:05 19:20:42.60Z |
CreateDate | 2020:07:05 19:20:42 |
Creator | jes.Foto |
CreatorTool | Adobe Photoshop Lightroom Classic 9.3 (Macintosh) |
CropAngle | -0.162113 |
CropBottom | 0.995774 |
CropConstrainToWarp | 0 |
CropLeft | 0.001174 |
CropRight | 0.998826 |
CropTop | 0.004226 |
CustomRendered | Normal |
DateCreated (1) | 2020:07:05 19:20:42.60Z |
DateCreated | 2020:07:05 |
DateTimeOriginal | 2020:07:05 19:20:42 |
DefringeGreenAmount | 0 |
DefringeGreenHueHi | 60 |
DefringeGreenHueLo | 40 |
DefringePurpleAmount | 0 |
DefringePurpleHueHi | 70 |
DefringePurpleHueLo | 30 |
Dehaze | 0 |
DistortionCorrectionAlreadyApplied | True |
DOF | inf (27.24 m - inf) |
ExifImageHeight | 6214 |
ExifImageWidth | 4143 |
Exposure2012 | -1.25 |
ExposureCompensation | 0 |
ExposureMode | Manual |
ExposureProgram | Manual |
ExposureTime | 1/250 |
Firmware | 1.2.0 |
Flash | No Flash |
FlashCompensation | 0 |
FNumber | 7.1 |
FocalLength | 76.0 mm |
FocalLength35efl | 76.0 mm (35 mm equivalent: 76.5 mm) |
Format | image/jpeg |
FOV | 26.5 deg |
GradientBasedCorrActive | true |
GradientBasedCorrAmount | 1.000000 |
GradientBasedCorrBrightness | 0.000000 |
GradientBasedCorrClarity2012 | 0.000000 |
GradientBasedCorrContrast2012 (1) | 0.105671 |
GradientBasedCorrContrast2012 | 0.000000 |
GradientBasedCorrCorrectionRangeMaskColorAmount | 0.500000 |
GradientBasedCorrCorrectionRangeMaskDepthFeather | 0.500000 |
GradientBasedCorrCorrectionRangeMaskDepthMax | 1.000000 |
GradientBasedCorrCorrectionRangeMaskDepthMin | 0.000000 |
GradientBasedCorrCorrectionRangeMaskLumFeather | 0.500000 |
GradientBasedCorrCorrectionRangeMaskLumMax | 1.000000 |
GradientBasedCorrCorrectionRangeMaskLumMin | 0.000000 |
GradientBasedCorrCorrectionRangeMaskType | 0 |
GradientBasedCorrCorrectionRangeMaskVersion | +2 |
GradientBasedCorrDefringe | 0.000000 |
GradientBasedCorrExposure2012 (1) | -0.371296 |
GradientBasedCorrExposure2012 (2) | -0.349811 |
GradientBasedCorrExposure2012 (3) | -0.123788 |
GradientBasedCorrExposure2012 | -0.124865 |
GradientBasedCorrHighlights2012 (1) | -0.601697 |
GradientBasedCorrHighlights2012 | 0.000000 |
GradientBasedCorrHue | 240.000000 |
GradientBasedCorrLocalBlacks2012 (2) | 0.000000 |
GradientBasedCorrLocalBlacks2012 | -0.072266 |
GradientBasedCorrLocalDehaze | 0.000000 |
GradientBasedCorrLocalHue | 0.000000 |
GradientBasedCorrLocalTexture | 0.000000 |
GradientBasedCorrLocalWhites2012 (2) | 0.000000 |
GradientBasedCorrLocalWhites2012 | 0.597387 |
GradientBasedCorrLuminanceNoise | 0.000000 |
GradientBasedCorrMaskFullX (1) | 0.842497 |
GradientBasedCorrMaskFullX (2) | 0.075637 |
GradientBasedCorrMaskFullX (3) | 0.419583 |
GradientBasedCorrMaskFullX | 0.404243 |
GradientBasedCorrMaskFullY (1) | 0.531504 |
GradientBasedCorrMaskFullY (2) | 0.526419 |
GradientBasedCorrMaskFullY (3) | 0.040533 |
GradientBasedCorrMaskFullY | 1.011520 |
GradientBasedCorrMaskValue | 1.000000 |
GradientBasedCorrMaskWhat | Mask/Gradient |
GradientBasedCorrMaskZeroX (1) | 0.559441 |
GradientBasedCorrMaskZeroX (2) | 0.227693 |
GradientBasedCorrMaskZeroX (3) | 0.493392 |
GradientBasedCorrMaskZeroX | 0.482111 |
GradientBasedCorrMaskZeroY (1) | 0.533631 |
GradientBasedCorrMaskZeroY (2) | 0.526647 |
GradientBasedCorrMaskZeroY (3) | 0.379029 |
GradientBasedCorrMaskZeroY | 0.699989 |
GradientBasedCorrMoire | 0.000000 |
GradientBasedCorrSaturation | 0.000000 |
GradientBasedCorrShadows2012 | 0.000000 |
GradientBasedCorrSharpness | 0.000000 |
GradientBasedCorrTemperature | 0.000000 |
GradientBasedCorrTint | 0.000000 |
GradientBasedCorrWhat | Correction |
GrainAmount | 0 |
GreenHue | 0 |
GreenSaturation | 0 |
HasCrop | True |
HasExtendedXMP | 6704A19295F598CFFE8B746F4AB65A1E |
HasSettings | True |
Highlights2012 | -100 |
HueAdjustmentAqua | 0 |
HueAdjustmentBlue | 0 |
HueAdjustmentGreen | 0 |
HueAdjustmentMagenta | 0 |
HueAdjustmentOrange | -20 |
HueAdjustmentPurple | 0 |
HueAdjustmentRed | 0 |
HueAdjustmentYellow | -30 |
HyperfocalDistance | 27.24 m |
ImageHeight | 6214 |
ImageNumber | 0 |
ImageSize | 4143x6214 |
ImageWidth | 4143 |
ISO | 400 |
LateralChromaticAberrationCorrectionAlreadyApplied | True |
Lens | RF24-240mm F4-6.3 IS USM |
LensID (2) | 61182 |
LensID | Canon RF 24-240mm F4-6.3 IS USM |
LensInfo (2) | 24-240mm f/? |
LensInfo | 24-240mm f/0 |
LensManualDistortionAmount | 0 |
LensModel | RF24-240mm F4-6.3 IS USM |
LensProfileChromaticAberrationScale | 100 |
LensProfileDistortionScale | 100 |
LensProfileEnable | 1 |
LensProfileFilename | Canon (Canon RF 24-240mm F4-6.3 IS USM) - RAW.lcp |
LensProfileName | Adobe (Canon RF 24-240mm F4-6.3 IS USM) |
LensProfileSetup | LensDefaults |
LensProfileVignettingScale | 100 |
LensSerialNumber | 0000000000 |
LightValue | 11.6 |
LookAmount | 1.000000 |
LookGroup | Profiles |
LookName | Adobe Color |
LookParametersCameraProfile | Adobe Standard |
LookParametersConvertToGrayscale | False |
LookParametersLookTable | E1095149FDB39D7A057BAB208837E2E1 |
LookParametersProcessVersion | 11.0 |
LookParametersToneCurvePV2012 | 0, 0, 22, 16, 40, 35, 127, 127, 224, 230, 240, 246, 255, 255 |
LookParametersToneCurvePV2012Blue | 0, 0, 255, 255 |
LookParametersToneCurvePV2012Green | 0, 0, 255, 255 |
LookParametersToneCurvePV2012Red | 0, 0, 255, 255 |
LookParametersVersion | 12.3 |
LookSupportsAmount | false |
LookSupportsMonochrome | false |
LookSupportsOutputReferred | false |
LuminanceAdjustmentAqua | 0 |
LuminanceAdjustmentBlue | 0 |
LuminanceAdjustmentGreen | 0 |
LuminanceAdjustmentMagenta | +65 |
LuminanceAdjustmentOrange | +50 |
LuminanceAdjustmentPurple | +100 |
LuminanceAdjustmentRed | 0 |
LuminanceAdjustmentYellow | +50 |
LuminanceNoiseReductionContrast | 0 |
LuminanceNoiseReductionDetail | 50 |
LuminanceSmoothing | 21 |
Make | Canon |
MaxApertureValue | 5.4 |
Megapixels | 25.7 |
MeteringMode | Center-weighted average |
Model | Canon EOS RP |
ModifyDate (1) | 2020:07:06 11:40:31+02:00 |
ModifyDate | 2020:07:06 11:40:31 |
OverrideLookVignette | False |
PaintCorrectionActive | true |
PaintCorrectionAmount | 1.000000 |
PaintCorrectionBrightness | 0.000000 |
PaintCorrectionClarity2012 | 0.000000 |
PaintCorrectionContrast2012 | 0.000000 |
PaintCorrectionCorrectionRangeMaskColorAmount | 0.500000 |
PaintCorrectionCorrectionRangeMaskDepthFeather | 0.500000 |
PaintCorrectionCorrectionRangeMaskDepthMax | 1.000000 |
PaintCorrectionCorrectionRangeMaskDepthMin | 0.000000 |
PaintCorrectionCorrectionRangeMaskLumFeather | 0.500000 |
PaintCorrectionCorrectionRangeMaskLumMax | 1.000000 |
PaintCorrectionCorrectionRangeMaskLumMin | 0.000000 |
PaintCorrectionCorrectionRangeMaskType | 0 |
PaintCorrectionCorrectionRangeMaskVersion | +2 |
PaintCorrectionDefringe | 0.000000 |
PaintCorrectionExposure2012 (1) | 0.099407 |
PaintCorrectionExposure2012 (2) | 0.151199 |
PaintCorrectionExposure2012 | 0.151131 |
PaintCorrectionHighlights2012 | 0.000000 |
PaintCorrectionHue | 240.000000 |
PaintCorrectionLocalBlacks2012 | 0.000000 |
PaintCorrectionLocalDehaze | 0.000000 |
PaintCorrectionLocalHue | 0.000000 |
PaintCorrectionLocalTexture | 0.000000 |
PaintCorrectionLocalWhites2012 | 0.000000 |
PaintCorrectionLuminanceNoise | 0.000000 |
PaintCorrectionMaskCenterWeight (28) | 0.000000 |
PaintCorrectionMaskCenterWeight | 0.045993 |
PaintCorrectionMaskFlow (26) | 1.000000 |
PaintCorrectionMaskFlow | 0.900000 |
PaintCorrectionMaskRadius (1) | 0.043328 |
PaintCorrectionMaskRadius (10) | 0.014140 |
PaintCorrectionMaskRadius (11) | 0.014136 |
PaintCorrectionMaskRadius (12) | 0.014116 |
PaintCorrectionMaskRadius (13) | 0.014052 |
PaintCorrectionMaskRadius (14) | 0.014025 |
PaintCorrectionMaskRadius (15) | 0.013987 |
PaintCorrectionMaskRadius (16) | 0.013979 |
PaintCorrectionMaskRadius (17) | 0.005537 |
PaintCorrectionMaskRadius (18) | 0.005523 |
PaintCorrectionMaskRadius (19) | 0.005518 |
PaintCorrectionMaskRadius (2) | 0.043439 |
PaintCorrectionMaskRadius (20) | 0.005515 |
PaintCorrectionMaskRadius (21) | 0.005520 |
PaintCorrectionMaskRadius (22) | 0.005529 |
PaintCorrectionMaskRadius (24) | 0.010533 |
PaintCorrectionMaskRadius (25) | 0.007171 |
PaintCorrectionMaskRadius (26) | 0.007226 |
PaintCorrectionMaskRadius (27) | 0.007272 |
PaintCorrectionMaskRadius (28) | 0.007237 |
PaintCorrectionMaskRadius (29) | 0.008987 |
PaintCorrectionMaskRadius (3) | 0.010843 |
PaintCorrectionMaskRadius (30) | 0.009013 |
PaintCorrectionMaskRadius (31) | 0.009047 |
PaintCorrectionMaskRadius (32) | 0.009001 |
PaintCorrectionMaskRadius (33) | 0.006481 |
PaintCorrectionMaskRadius (34) | 0.006487 |
PaintCorrectionMaskRadius (35) | 0.012650 |
PaintCorrectionMaskRadius (36) | 0.012620 |
PaintCorrectionMaskRadius (37) | 0.012544 |
PaintCorrectionMaskRadius (38) | 0.012446 |
PaintCorrectionMaskRadius (39) | 0.012434 |
PaintCorrectionMaskRadius (4) | 0.014033 |
PaintCorrectionMaskRadius (40) | 0.012413 |
PaintCorrectionMaskRadius (41) | 0.012390 |
PaintCorrectionMaskRadius (42) | 0.015807 |
PaintCorrectionMaskRadius (43) | 0.015857 |
PaintCorrectionMaskRadius (44) | 0.007268 |
PaintCorrectionMaskRadius (45) | 0.007240 |
PaintCorrectionMaskRadius (46) | 0.007307 |
PaintCorrectionMaskRadius (47) | 0.007319 |
PaintCorrectionMaskRadius (48) | 0.012382 |
PaintCorrectionMaskRadius (49) | 0.012384 |
PaintCorrectionMaskRadius (5) | 0.013981 |
PaintCorrectionMaskRadius (50) | 0.012381 |
PaintCorrectionMaskRadius (51) | 0.007809 |
PaintCorrectionMaskRadius (52) | 0.007818 |
PaintCorrectionMaskRadius (53) | 0.099039 |
PaintCorrectionMaskRadius (6) | 0.014094 |
PaintCorrectionMaskRadius (7) | 0.014029 |
PaintCorrectionMaskRadius (8) | 0.014122 |
PaintCorrectionMaskRadius (9) | 0.014224 |
PaintCorrectionMaskRadius | 0.102353 |
PaintCorrectionMaskValue (27) | 0.000000 |
PaintCorrectionMaskValue | 1.000000 |
PaintCorrectionMaskWhat | Mask/Paint |
PaintCorrectionMoire | 0.000000 |
PaintCorrectionSaturation | 0.000000 |
PaintCorrectionShadows2012 | 0.000000 |
PaintCorrectionSharpness | 0.000000 |
PaintCorrectionTemperature | 0.000000 |
PaintCorrectionTint | 0.000000 |
PaintCorrectionWhat | Correction |
ParametricDarks | -3 |
ParametricHighlights | 0 |
ParametricHighlightSplit | 75 |
ParametricLights | +19 |
ParametricMidtoneSplit | 50 |
ParametricShadows | -29 |
ParametricShadowSplit | 25 |
PerspectiveAspect | 0 |
PerspectiveHorizontal | 0 |
PerspectiveRotate | 0.0 |
PerspectiveScale | 100 |
PerspectiveUpright | 0 |
PerspectiveVertical | 0 |
PerspectiveX | 0.00 |
PerspectiveY | 0.00 |
PostCropVignetteAmount | 0 |
PreservedFileName | IMG_3684.CR3 |
ProcessVersion | 11.0 |
ProfileDescription | sRGB IEC61966-2.1 |
RawFileName | IMG_3684.CR3 |
RecommendedExposureIndex | 400 |
RedHue | 0 |
RedSaturation | 0 |
Rights | jes.Foto |
Saturation | 0 |
SaturationAdjustmentAqua | -48 |
SaturationAdjustmentBlue | -69 |
SaturationAdjustmentGreen | -17 |
SaturationAdjustmentMagenta | 0 |
SaturationAdjustmentOrange | +50 |
SaturationAdjustmentPurple | -60 |
SaturationAdjustmentRed | 0 |
SaturationAdjustmentYellow | -60 |
ScaleFactor35efl | 1.0 |
SceneCaptureType | Standard |
SensitivityType | Recommended Exposure Index |
SerialNumber | 083023001915 |
Shadows2012 | +100 |
ShadowTint | 0 |
SharpenDetail | 40 |
SharpenEdgeMasking | 76 |
SharpenRadius | +1.0 |
Sharpness | 50 |
ShutterSpeed | 1/250 |
ShutterSpeedValue | 1/250 |
Software | Adobe Photoshop Lightroom Classic 9.3 (Macintosh) |
SplitToningBalance | 0 |
SplitToningHighlightHue | 60 |
SplitToningHighlightSaturation | 10 |
SplitToningShadowHue | 200 |
SplitToningShadowSaturation | 20 |
Texture | 0 |
Tint | +16 |
ToneCurve | 0, 0, 255, 255 |
ToneCurveBlue | 0, 0, 255, 255 |
ToneCurveGreen | 0, 0, 255, 255 |
ToneCurveName | Linear |
ToneCurveName2012 | Custom |
ToneCurvePV2012 | 0, 11, 59, 62, 123, 132, 187, 200, 255, 255 |
ToneCurvePV2012Blue | 0, 0, 255, 255 |
ToneCurvePV2012Green | 0, 0, 255, 255 |
ToneCurvePV2012Red | 0, 0, 255, 255 |
ToneCurveRed | 0, 0, 255, 255 |
ToneMapStrength | 0 |
Version | 12.3 |
Vibrance | 0 |
VignetteAmount | 0 |
VignetteCorrectionAlreadyApplied | True |
WhiteBalance (1) | As Shot |
WhiteBalance | Auto |
Whites2012 | +30 |