Felt | Verdi |
AlreadyApplied | True |
AutoLateralCA | 0 |
BitsPerSample (1) | 8 8 8 |
BitsPerSample | 8 |
Blacks2012 | -4 |
BlueHue | 0 |
BlueSaturation | 0 |
BrightnessValue | 1.603125 |
CameraProfile | Embedded |
CircGradBasedCorrActive | true |
CircGradBasedCorrAmount | 1.000000 |
CircGradBasedCorrBrightness | 0.000000 |
CircGradBasedCorrClarity2012 (1) | -0.013889 |
CircGradBasedCorrClarity2012 | 0.737347 |
CircGradBasedCorrContrast2012 (1) | 0.000000 |
CircGradBasedCorrContrast2012 | 0.226987 |
CircGradBasedCorrCorrectionRangeMaskColorAmount | 0.500000 |
CircGradBasedCorrCorrectionRangeMaskLumFeather | 0.500000 |
CircGradBasedCorrCorrectionRangeMaskLumMax | 1.000000 |
CircGradBasedCorrCorrectionRangeMaskLumMin | 0.000000 |
CircGradBasedCorrCorrectionRangeMaskType | 0 |
CircGradBasedCorrCorrectionRangeMaskVersion | +2 |
CircGradBasedCorrDefringe | 0.000000 |
CircGradBasedCorrExposure2012 (1) | -0.394358 |
CircGradBasedCorrExposure2012 | 0.275391 |
CircGradBasedCorrHighlights2012 | 0.010851 |
CircGradBasedCorrHue | 210.302994 |
CircGradBasedCorrLocalBlacks2012 | 0.000000 |
CircGradBasedCorrLocalDehaze (1) | 0.230469 |
CircGradBasedCorrLocalDehaze | 0.000000 |
CircGradBasedCorrLocalWhites2012 | 0.000000 |
CircGradBasedCorrLuminanceNoise | 0.000000 |
CircGradBasedCorrMaskAngle | 0.000000 |
CircGradBasedCorrMaskBottom (1) | 0.677179 |
CircGradBasedCorrMaskBottom | 0.608576 |
CircGradBasedCorrMaskFeather (1) | +74 |
CircGradBasedCorrMaskFeather | +50 |
CircGradBasedCorrMaskFlipped (1) | false |
CircGradBasedCorrMaskFlipped | true |
CircGradBasedCorrMaskLeft (1) | 0.277865 |
CircGradBasedCorrMaskLeft | 0.345862 |
CircGradBasedCorrMaskMidpoint | +50 |
CircGradBasedCorrMaskRight (1) | 0.987609 |
CircGradBasedCorrMaskRight | 0.916335 |
CircGradBasedCorrMaskRoundness | 0 |
CircGradBasedCorrMaskTop (1) | 0.034593 |
CircGradBasedCorrMaskTop | 0.139102 |
CircGradBasedCorrMaskValue | 1.000000 |
CircGradBasedCorrMaskVersion | +2 |
CircGradBasedCorrMaskWhat | Mask/CircularGradient |
CircGradBasedCorrMoire | 0.000000 |
CircGradBasedCorrSaturation | 0.000000 |
CircGradBasedCorrShadows2012 | 0.000000 |
CircGradBasedCorrSharpness (1) | 0.000000 |
CircGradBasedCorrSharpness | 0.218410 |
CircGradBasedCorrTemperature | 0.000000 |
CircGradBasedCorrTint | 0.000000 |
CircGradBasedCorrWhat | Correction |
CircleOfConfusion | 0.019 mm |
Clarity2012 | +50 |
ColorComponents | 3 |
ColorMode | RGB |
ColorNoiseReduction | 0 |
ColorSpace | Uncalibrated |
ColorTransform | YCbCr |
Contrast | Normal |
Contrast2012 | -24 |
ConvertToGrayscale | False |
Copyright | @rofafoto |
CopyrightFlag | True |
CopyrightNotice | @rofafoto |
CreateDate | 2020:09:12 12:16:26 |
CreatorTool | Adobe Photoshop Lightroom Classic 7.3.1 (Macintosh) |
CustomRendered | Normal |
DateCreated (1) | 2020:09:12 |
DateCreated | 2020:09:12 12:16:26 |
DateTimeOriginal | 2020:09:12 12:16:26 |
DefringeGreenAmount | 0 |
DefringeGreenHueHi | 60 |
DefringeGreenHueLo | 40 |
DefringePurpleAmount | 0 |
DefringePurpleHueHi | 70 |
DefringePurpleHueLo | 30 |
Dehaze | +40 |
DigitalZoomRatio | 1 |
ExifImageHeight | 2954 |
ExifImageWidth | 3508 |
Exposure2012 | +0.80 |
ExposureCompensation | -1 |
ExposureMode | Auto |
ExposureProgram | Aperture-priority AE |
ExposureTime | 1/500 |
Flash | Off, Did not fire |
Format | image/jpeg |
GrainAmount | 0 |
GreenHue | 0 |
GreenSaturation | 0 |
HasCrop | False |
HasExtendedXMP | 17E74812B20A34C65DD487F22311F81A |
HasSettings | True |
Highlights2012 | -53 |
HueAdjustmentAqua | 0 |
HueAdjustmentBlue | 0 |
HueAdjustmentGreen | 0 |
HueAdjustmentMagenta | 0 |
HueAdjustmentOrange | 0 |
HueAdjustmentPurple | 0 |
HueAdjustmentRed | 0 |
HueAdjustmentYellow | 0 |
ICCProfileName | Adobe RGB (1998) |
ImageHeight (1) | 2565 |
ImageHeight | 2954 |
ImageSize | 3508x2954 |
ImageWidth (1) | 3046 |
ImageWidth | 3508 |
IncrementalTemperature | 0 |
IncrementalTint | 0 |
ISO | 100 |
Lens | ---- |
LensManualDistortionAmount | 0 |
LensModel | ---- |
LensProfileEnable | 0 |
LensProfileSetup | LensDefaults |
LightSource | Unknown |
LuminanceAdjustmentAqua | 0 |
LuminanceAdjustmentBlue | 0 |
LuminanceAdjustmentGreen | 0 |
LuminanceAdjustmentMagenta | 0 |
LuminanceAdjustmentOrange | 0 |
LuminanceAdjustmentPurple | 0 |
LuminanceAdjustmentRed | 0 |
LuminanceAdjustmentYellow | 0 |
LuminanceSmoothing | 0 |
Make | SONY |
Marked | True |
MaxApertureValue | 1.0 |
Megapixels | 10.4 |
MeteringMode | Center-weighted average |
Model | ILCE-7M2 |
ModifyDate (1) | 2020:09:14 13:43:30+02:00 |
ModifyDate | 2020:09:14 13:43:30 |
Orientation | Horizontal (normal) |
OverrideLookVignette | False |
PaintCorrectionActive | true |
PaintCorrectionAmount | 1.000000 |
PaintCorrectionBrightness | 0.000000 |
PaintCorrectionClarity2012 (1) | -0.010863 |
PaintCorrectionClarity2012 | -0.013889 |
PaintCorrectionContrast2012 | 0.000000 |
PaintCorrectionCorrectionRangeMaskColorAmount | 0.500000 |
PaintCorrectionCorrectionRangeMaskLumFeather | 0.500000 |
PaintCorrectionCorrectionRangeMaskLumMax | 1.000000 |
PaintCorrectionCorrectionRangeMaskLumMin | 0.000000 |
PaintCorrectionCorrectionRangeMaskType | 0 |
PaintCorrectionCorrectionRangeMaskVersion | +2 |
PaintCorrectionDefringe | 0.000000 |
PaintCorrectionExposure2012 (2) | 0.610000 |
PaintCorrectionExposure2012 | 0.610330 |
PaintCorrectionHighlights2012 (1) | 0.008487 |
PaintCorrectionHighlights2012 | 0.010851 |
PaintCorrectionHue | 210.302994 |
PaintCorrectionLocalBlacks2012 | 0.000000 |
PaintCorrectionLocalDehaze | 0.000000 |
PaintCorrectionLocalWhites2012 | 0.000000 |
PaintCorrectionLuminanceNoise | 0.000000 |
PaintCorrectionMaskCenterWeight | 0.243429 |
PaintCorrectionMaskFlow | 1.000000 |
PaintCorrectionMaskRadius (3) | 0.006095 |
PaintCorrectionMaskRadius | 0.006090 |
PaintCorrectionMaskValue | 0.725756 |
PaintCorrectionMaskWhat | Mask/Paint |
PaintCorrectionMoire | 0.000000 |
PaintCorrectionSaturation | 0.000000 |
PaintCorrectionShadows2012 | 0.000000 |
PaintCorrectionSharpness | 0.000000 |
PaintCorrectionTemperature | 0.000000 |
PaintCorrectionTint | 0.000000 |
PaintCorrectionWhat | Correction |
ParametricDarks | 0 |
ParametricHighlights | 0 |
ParametricHighlightSplit | 75 |
ParametricLights | 0 |
ParametricMidtoneSplit | 50 |
ParametricShadows | 0 |
ParametricShadowSplit | 25 |
PerspectiveAspect | 0 |
PerspectiveHorizontal | 0 |
PerspectiveRotate | 0.0 |
PerspectiveScale | 100 |
PerspectiveUpright | 0 |
PerspectiveVertical | 0 |
PerspectiveX | 0.00 |
PerspectiveY | 0.00 |
PhotometricInterpretation | RGB |
PostCropVignetteAmount | -16 |
PostCropVignetteFeather | 50 |
PostCropVignetteHighlightContrast | 0 |
PostCropVignetteMidpoint | 50 |
PostCropVignetteRoundness | 0 |
PostCropVignetteStyle | 1 |
ProcessVersion | 10.0 |
ProfileDescription | Adobe RGB (1998) |
RecommendedExposureIndex | 100 |
RedHue | 0 |
RedSaturation | 0 |
Rights | @rofafoto |
SamplesPerPixel | 3 |
Saturation (1) | -2 |
Saturation | Normal |
SaturationAdjustmentAqua | 0 |
SaturationAdjustmentBlue | 0 |
SaturationAdjustmentGreen | 0 |
SaturationAdjustmentMagenta | 0 |
SaturationAdjustmentOrange | 0 |
SaturationAdjustmentPurple | 0 |
SaturationAdjustmentRed | 0 |
SaturationAdjustmentYellow | 0 |
ScaleFactor35efl | 1.6 |
SceneCaptureType | Standard |
SceneType | Directly photographed |
SensitivityType | Recommended Exposure Index |
Shadows2012 | +64 |
ShadowTint | 0 |
SharpenDetail | 25 |
SharpenEdgeMasking | 90 |
SharpenRadius | +1.0 |
Sharpness (1) | 150 |
Sharpness | Normal |
ShutterSpeed | 1/500 |
ShutterSpeedValue | 1/500 |
Software | Adobe Photoshop CC 2018 (Macintosh) |
SplitToningBalance | 0 |
SplitToningHighlightHue | 0 |
SplitToningHighlightSaturation | 0 |
SplitToningShadowHue | 0 |
SplitToningShadowSaturation | 0 |
ToneCurve | 0, 0, 255, 255 |
ToneCurveBlue | 0, 0, 255, 255 |
ToneCurveGreen | 0, 0, 255, 255 |
ToneCurveName | Linear |
ToneCurveName2012 | Linear |
ToneCurvePV2012 | 0, 0, 255, 255 |
ToneCurvePV2012Blue | 0, 0, 255, 255 |
ToneCurvePV2012Green | 0, 0, 255, 255 |
ToneCurvePV2012Red | 0, 0, 255, 255 |
ToneCurveRed | 0, 0, 255, 255 |
ToneMapStrength | 0 |
URL_List | |
Version | 10.3 |
Vibrance | +12 |
VignetteAmount | 0 |
WhiteBalance (1) | As Shot |
WhiteBalance | Auto |
Whites2012 | +42 |