Felt | Verdi |
AbsoluteAltitude | +14.10 |
AlreadyApplied | True |
Aperture | 2.8 |
ApertureValue | 2.8 |
AutoLateralCA | 1 |
BitsPerSample | 8 |
Blacks2012 | +68 |
BlueHue | -5 |
BlueSaturation | -10 |
CameraProfile | Embedded |
CamReverse | 0 |
CircleOfConfusion | 0.006 mm |
City | Nes |
Clarity2012 | +39 |
ColorComponents | 3 |
ColorGradeBlending | 100 |
ColorGradeGlobalHue | 0 |
ColorGradeGlobalLum | -45 |
ColorGradeGlobalSat | 0 |
ColorGradeHighlightLum | +33 |
ColorGradeMidtoneHue | 16 |
ColorGradeMidtoneLum | 0 |
ColorGradeMidtoneSat | 16 |
ColorGradeShadowLum | +18 |
ColorNoiseReduction | 25 |
ColorNoiseReductionDetail | 50 |
ColorNoiseReductionSmoothness | 50 |
ColorSpace | sRGB |
ColorTemperature | 6195 |
ColorTransform | YCbCr |
Contrast | Normal |
Contrast2012 | +19 |
ConvertToGrayscale | False |
Country | Norway |
Country-PrimaryLocationCode | NO |
Country-PrimaryLocationName | Norway |
CountryCode | NO |
CreateDate (1) | 2020:10:26 15:53:36.1 |
CreateDate | 2020:10:26 15:53:36 |
CreatorTool | Adobe Photoshop Lightroom Classic 10.0 (Macintosh) |
CropAngle | 0 |
CropBottom | 0.968985 |
CropConstrainToWarp | 0 |
CropLeft | 0.140448 |
CropRight | 0.847641 |
CropTop | 0.02606 |
DateCreated (1) | 2020:10:26 |
DateCreated | 2020:10:26 15:53:19 |
DateTimeOriginal | 2020:10:26 15:53:36 |
DefringeGreenAmount | 0 |
DefringeGreenHueHi | 60 |
DefringeGreenHueLo | 40 |
DefringePurpleAmount | 0 |
DefringePurpleHueHi | 70 |
DefringePurpleHueLo | 30 |
Dehaze | +10 |
DigitalZoomRatio | 1 |
DistortionCorrectionAlreadyApplied | True |
Exposure2012 | -0.20 |
ExposureCompensation | 0 |
ExposureMode | Auto |
ExposureProgram | Program AE |
ExposureTime | 1/40 |
Flash | No Flash |
FlightPitchDegree | -0.70 |
FlightRollDegree | -0.10 |
FlightYawDegree | -119.40 |
FNumber | 2.8 |
FocalLength | 4.5 mm |
FocalLength35efl | 4.5 mm (35 mm equivalent: 24.0 mm) |
FocalLengthIn35mmFormat | 24 mm |
Format | image/jpeg |
FOV | 73.7 deg |
GainControl | None |
GimbalPitchDegree | -30.20 |
GimbalReverse | 0 |
GimbalRollDegree | +0.00 |
GimbalYawDegree | -121.60 |
GPSAltitude | 14.1 m |
GPSLatitude (2) | 60 deg 34' 29.60" |
GPSLatitude | 60 deg 34' 29.60" N |
GPSLatitudeRef | North |
GPSLongitude (2) | 9 deg 11' 39.05" |
GPSLongitude | 9 deg 11' 39.05" E |
GPSLongitudeRef | East |
GPSPosition | 60 deg 34' 29.60" N, 9 deg 11' 39.05" E |
GPSVersionID | 2.3.0.0 |
GradientBasedCorrActive | true |
GradientBasedCorrAmount | 1.000000 |
GradientBasedCorrBrightness | 0.000000 |
GradientBasedCorrClarity2012 | 0.000000 |
GradientBasedCorrContrast2012 | 0.000000 |
GradientBasedCorrCorrectionRangeMaskColorAmount | 0.500000 |
GradientBasedCorrCorrectionRangeMaskDepthFeather | 0.500000 |
GradientBasedCorrCorrectionRangeMaskDepthMax | 1.000000 |
GradientBasedCorrCorrectionRangeMaskDepthMin | 0.000000 |
GradientBasedCorrCorrectionRangeMaskLumFeather | 0.500000 |
GradientBasedCorrCorrectionRangeMaskLumMax | 1.000000 |
GradientBasedCorrCorrectionRangeMaskLumMin | 0.000000 |
GradientBasedCorrCorrectionRangeMaskType | 0 |
GradientBasedCorrCorrectionRangeMaskVersion | +2 |
GradientBasedCorrDefringe | 0.000000 |
GradientBasedCorrExposure2012 (1) | -0.118150 |
GradientBasedCorrExposure2012 (2) | -0.169987 |
GradientBasedCorrExposure2012 | -0.178318 |
GradientBasedCorrHighlights2012 (2) | 0.000000 |
GradientBasedCorrHighlights2012 | 1.000000 |
GradientBasedCorrHue | 240.000000 |
GradientBasedCorrLocalBlacks2012 (2) | 0.089196 |
GradientBasedCorrLocalBlacks2012 | 0.000000 |
GradientBasedCorrLocalDehaze | 0.000000 |
GradientBasedCorrLocalHue | 0.000000 |
GradientBasedCorrLocalTexture | 0.000000 |
GradientBasedCorrLocalWhites2012 (2) | 0.645772 |
GradientBasedCorrLocalWhites2012 | 0.000000 |
GradientBasedCorrLuminanceNoise | 0.000000 |
GradientBasedCorrMaskFullX (1) | 0.658327 |
GradientBasedCorrMaskFullX (2) | 0.275925 |
GradientBasedCorrMaskFullX | 0.487544 |
GradientBasedCorrMaskFullY (1) | 0.819642 |
GradientBasedCorrMaskFullY (2) | 0.765333 |
GradientBasedCorrMaskFullY | 0.260231 |
GradientBasedCorrMaskValue | 1.000000 |
GradientBasedCorrMaskWhat | Mask/Gradient |
GradientBasedCorrMaskZeroX (1) | 0.335883 |
GradientBasedCorrMaskZeroX (2) | 0.547195 |
GradientBasedCorrMaskZeroX | 0.487215 |
GradientBasedCorrMaskZeroY (1) | 0.563017 |
GradientBasedCorrMaskZeroY (2) | 0.601703 |
GradientBasedCorrMaskZeroY | 0.566746 |
GradientBasedCorrMoire | 0.000000 |
GradientBasedCorrSaturation | 0.000000 |
GradientBasedCorrShadows2012 (1) | 0.000000 |
GradientBasedCorrShadows2012 | -1.000000 |
GradientBasedCorrSharpness | 0.000000 |
GradientBasedCorrTemperature | 0.000000 |
GradientBasedCorrTint | 0.000000 |
GradientBasedCorrWhat | Correction |
GrainAmount | 0 |
GreenHue | +75 |
GreenSaturation | -48 |
HasCrop | True |
HasSettings | True |
Highlights2012 | -23 |
HueAdjustmentAqua | -12 |
HueAdjustmentBlue | -10 |
HueAdjustmentGreen | +20 |
HueAdjustmentMagenta | +20 |
HueAdjustmentOrange | +3 |
HueAdjustmentPurple | +15 |
HueAdjustmentRed | +6 |
HueAdjustmentYellow | +5 |
HyperfocalDistance | 1.28 m |
ImageHeight | 5658 |
ImageSize | 5658x5658 |
ImageWidth | 5658 |
IsMergedHDR | True |
ISO | 100 |
Keywords | bestemor, dronefoto, nesbyen |
LateralChromaticAberrationCorrectionAlreadyApplied | True |
Lens | 24.0 mm f/2.8 |
LensInfo | 24mm f/2.8 |
LensManualDistortionAmount | 0 |
LensModel | 24.0 mm f/2.8 |
LensProfileDistortionScale | 100 |
LensProfileEnable | 1 |
LensProfileFilename | SONY (TAMRON 28-75mm F_2.8 Di III RXD A036) - RAW.lcp |
LensProfileIsEmbedded | False |
LensProfileName | Adobe (TAMRON 28-75mm F/2.8 Di III RXD A036, SONY) |
LensProfileSetup | Custom |
LensProfileVignettingScale | 0 |
LightSource | Unknown |
LightValue | 8.3 |
LuminanceAdjustmentAqua | +10 |
LuminanceAdjustmentBlue | -10 |
LuminanceAdjustmentGreen | -10 |
LuminanceAdjustmentMagenta | 0 |
LuminanceAdjustmentOrange | +4 |
LuminanceAdjustmentPurple | +5 |
LuminanceAdjustmentRed | +10 |
LuminanceAdjustmentYellow | -10 |
LuminanceNoiseReductionContrast | 0 |
LuminanceNoiseReductionDetail | 50 |
LuminanceSmoothing | 5 |
Make | DJI |
MaxApertureValue | 2.8 |
Megapixels | 32.0 |
MeteringMode | Spot |
Model | FC3170 |
ModifyDate (1) | 2020:10:29 11:24:50+01:00 |
ModifyDate | 2020:10:29 11:24:50 |
OverrideLookVignette | False |
PaintCorrectionActive | true |
PaintCorrectionAmount | 1.000000 |
PaintCorrectionBrightness | 0.000000 |
PaintCorrectionClarity2012 | 0.000000 |
PaintCorrectionContrast2012 | 0.000000 |
PaintCorrectionCorrectionRangeMaskColorAmount | 0.500000 |
PaintCorrectionCorrectionRangeMaskDepthFeather | 0.500000 |
PaintCorrectionCorrectionRangeMaskDepthMax | 1.000000 |
PaintCorrectionCorrectionRangeMaskDepthMin | 0.000000 |
PaintCorrectionCorrectionRangeMaskLumFeather | 0.500000 |
PaintCorrectionCorrectionRangeMaskLumMax | 1.000000 |
PaintCorrectionCorrectionRangeMaskLumMin | 0.000000 |
PaintCorrectionCorrectionRangeMaskType | 0 |
PaintCorrectionCorrectionRangeMaskVersion | +2 |
PaintCorrectionDefringe | 0.000000 |
PaintCorrectionExposure2012 | 0.047572 |
PaintCorrectionHighlights2012 | 0.000000 |
PaintCorrectionHue | 240.000000 |
PaintCorrectionLocalBlacks2012 | 0.000000 |
PaintCorrectionLocalDehaze | 0.000000 |
PaintCorrectionLocalHue | 0.000000 |
PaintCorrectionLocalTexture | 0.000000 |
PaintCorrectionLocalWhites2012 | 0.000000 |
PaintCorrectionLuminanceNoise | 0.000000 |
PaintCorrectionMaskCenterWeight | 0.000000 |
PaintCorrectionMaskFlow | 1.000000 |
PaintCorrectionMaskRadius (10) | 0.016526 |
PaintCorrectionMaskRadius (14) | 0.016519 |
PaintCorrectionMaskRadius (15) | 0.016516 |
PaintCorrectionMaskRadius (16) | 0.016515 |
PaintCorrectionMaskRadius (18) | 0.016523 |
PaintCorrectionMaskRadius (2) | 0.016521 |
PaintCorrectionMaskRadius (21) | 0.016530 |
PaintCorrectionMaskRadius (22) | 0.016517 |
PaintCorrectionMaskRadius (23) | 0.016518 |
PaintCorrectionMaskRadius (24) | 0.016522 |
PaintCorrectionMaskRadius (33) | 0.016529 |
PaintCorrectionMaskRadius (7) | 0.016524 |
PaintCorrectionMaskRadius (8) | 0.016525 |
PaintCorrectionMaskRadius | 0.016520 |
PaintCorrectionMaskValue | 1.000000 |
PaintCorrectionMaskWhat | Mask/Paint |
PaintCorrectionMoire | 0.000000 |
PaintCorrectionSaturation | 0.000000 |
PaintCorrectionShadows2012 | 0.023067 |
PaintCorrectionSharpness | 0.000000 |
PaintCorrectionTemperature | 0.000000 |
PaintCorrectionTint | 0.000000 |
PaintCorrectionWhat | Correction |
ParametricDarks | 0 |
ParametricHighlights | 0 |
ParametricHighlightSplit | 87 |
ParametricLights | 0 |
ParametricMidtoneSplit | 40 |
ParametricShadows | 0 |
ParametricShadowSplit | 20 |
PerspectiveAspect | 0 |
PerspectiveHorizontal | 0 |
PerspectiveRotate | 0.0 |
PerspectiveScale | 100 |
PerspectiveUpright | 0 |
PerspectiveVertical | 0 |
PerspectiveX | 0.00 |
PerspectiveY | 0.00 |
PostCropVignetteAmount | 0 |
PreservedFileName | DJI_0048.DNG |
ProcessVersion | 11.0 |
ProfileDescription | sRGB IEC61966-2.1 |
Province-State | Viken |
RawFileName | |
RedHue | +5 |
RedSaturation | +10 |
RelativeAltitude | +14.10 |
Saturation (1) | -21 |
Saturation | Normal |
SaturationAdjustmentAqua | -10 |
SaturationAdjustmentBlue | -20 |
SaturationAdjustmentGreen | -40 |
SaturationAdjustmentMagenta | -30 |
SaturationAdjustmentOrange | -2 |
SaturationAdjustmentPurple | -30 |
SaturationAdjustmentRed | -20 |
SaturationAdjustmentYellow | -10 |
ScaleFactor35efl | 5.3 |
SceneCaptureType | Standard |
SceneType | Directly photographed |
SelfData | |
SerialNumber | 1TCLH1C03BJ1P9 |
Shadows2012 | -3 |
ShadowTint | 0 |
SharpenDetail | 100 |
SharpenEdgeMasking | 68 |
SharpenRadius | +0.6 |
Sharpness (1) | 78 |
Sharpness | Normal |
ShutterSpeed | 1/40 |
ShutterSpeedValue | 1/40 |
Software | Adobe Photoshop Lightroom Classic 10.0 (Macintosh) |
SplitToningBalance | +70 |
SplitToningHighlightHue | 205 |
SplitToningHighlightSaturation | 12 |
SplitToningShadowHue | 176 |
SplitToningShadowSaturation | 18 |
State | Viken |
Subject | bestemor, dronefoto, nesbyen |
Texture | +52 |
Tint | +10 |
ToneCurveName2012 | Custom |
ToneCurvePV2012 | 1, 7, 255, 255 |
ToneCurvePV2012Blue | 0, 0, 49, 38, 118, 129, 190, 198, 255, 250 |
ToneCurvePV2012Green | 0, 0, 46, 37, 116, 129, 144, 158, 188, 196, 255, 252 |
ToneCurvePV2012Red | 0, 0, 50, 39, 116, 127, 188, 199, 255, 255 |
Version | 13.0 |
Vibrance | 0 |
VignetteAmount | 0 |
WhiteBalance (1) | Custom |
WhiteBalance | Auto |
Whites2012 | -10 |