Felt | Verdi |
AlreadyApplied | True |
Aperture | 13.0 |
ApertureValue | 13.0 |
ApproximateFocusDistance | 16.2 |
Artist | Sven E Fredriksen |
AutoLateralCA | 1 |
BitsPerSample | 8 |
Blacks2012 | 0 |
BlueHue | 0 |
BlueSaturation | 0 |
By-line | Sven E Fredriksen |
CameraProfile | Adobe Standard |
CircleOfConfusion | 0.030 mm |
Clarity2012 | 0 |
ColorComponents | 3 |
ColorGradeBlending | 50 |
ColorGradeGlobalHue | 0 |
ColorGradeGlobalLum | 0 |
ColorGradeGlobalSat | 0 |
ColorGradeHighlightLum | 0 |
ColorGradeMidtoneHue | 0 |
ColorGradeMidtoneLum | 0 |
ColorGradeMidtoneSat | 0 |
ColorGradeShadowLum | 0 |
ColorNoiseReduction | 25 |
ColorNoiseReductionDetail | 50 |
ColorNoiseReductionSmoothness | 50 |
ColorSpace | sRGB |
ColorTemperature | 5500 |
ColorTransform | YCbCr |
Contrast2012 | +10 |
Copyright | Copywright - All rigths reserved Tlf 0047 905 57 417 |
CopyrightNotice | Copywright - All rigths reserved Tlf 0047 905 57 417 |
CreateDate (1) | 2021:01:16 13:11:50.88+01:00 |
CreateDate | 2021:01:16 13:11:50 |
Creator | Sven E Fredriksen |
CreatorTool | Adobe Photoshop Lightroom Classic 10.1.1 (Macintosh) |
CropAngle | 0 |
CropBottom | 1 |
CropConstrainToWarp | 0 |
CropLeft | 0 |
CropRight | 1 |
CropTop | 0 |
CustomRendered | Normal |
DateCreated (1) | 2021:01:16 |
DateCreated | 2021:01:16 13:11:50.88+01:00 |
DateTimeOriginal | 2021:01:16 13:11:50 |
DefringeGreenAmount | 0 |
DefringeGreenHueHi | 60 |
DefringeGreenHueLo | 40 |
DefringePurpleAmount | 0 |
DefringePurpleHueHi | 70 |
DefringePurpleHueLo | 30 |
Dehaze | 0 |
DistortionCorrectionAlreadyApplied | True |
DOF | inf (4.59 m - inf) |
Exposure2012 | +0.60 |
ExposureCompensation | 0 |
ExposureMode | Manual |
ExposureProgram | Manual |
ExposureTime | 1/45 |
Firmware | 1.2.0 |
Flash | No Flash |
FlashCompensation | 0 |
FNumber | 13.0 |
FocalLength | 50.0 mm |
FocalLength35efl | 50.0 mm (35 mm equivalent: 49.9 mm) |
Format | image/jpeg |
FOV | 39.7 deg |
GradientBasedCorrActive | true |
GradientBasedCorrAmount | 1.000000 |
GradientBasedCorrBrightness | 0.000000 |
GradientBasedCorrClarity2012 (1) | 0.151985 |
GradientBasedCorrClarity2012 | 0.000000 |
GradientBasedCorrContrast2012 (1) | 0.075257 |
GradientBasedCorrContrast2012 | -0.002503 |
GradientBasedCorrCorrectionRangeMaskColorAmount | 0.500000 |
GradientBasedCorrCorrectionRangeMaskDepthFeather | 0.500000 |
GradientBasedCorrCorrectionRangeMaskDepthMax | 1.000000 |
GradientBasedCorrCorrectionRangeMaskDepthMin | 0.000000 |
GradientBasedCorrCorrectionRangeMaskLumFeather | 0.500000 |
GradientBasedCorrCorrectionRangeMaskLumMax | 1.000000 |
GradientBasedCorrCorrectionRangeMaskLumMin | 0.000000 |
GradientBasedCorrCorrectionRangeMaskType | 0 |
GradientBasedCorrCorrectionRangeMaskVersion | +2 |
GradientBasedCorrDefringe | 1.000000 |
GradientBasedCorrExposure2012 (1) | -0.040195 |
GradientBasedCorrExposure2012 (2) | 0.064123 |
GradientBasedCorrExposure2012 | 0.000000 |
GradientBasedCorrHighlights2012 (1) | -0.600015 |
GradientBasedCorrHighlights2012 (2) | 0.198219 |
GradientBasedCorrHighlights2012 | 0.000000 |
GradientBasedCorrHue | 240.000000 |
GradientBasedCorrLocalBlacks2012 | 0.000000 |
GradientBasedCorrLocalDehaze | 0.008912 |
GradientBasedCorrLocalHue (2) | 0.010190 |
GradientBasedCorrLocalHue | 0.004283 |
GradientBasedCorrLocalTexture | 0.000000 |
GradientBasedCorrLocalWhites2012 (1) | 0.000000 |
GradientBasedCorrLocalWhites2012 | 0.055895 |
GradientBasedCorrLuminanceNoise | 0.000000 |
GradientBasedCorrMaskFullX (1) | 0.448853 |
GradientBasedCorrMaskFullX (2) | 0.526992 |
GradientBasedCorrMaskFullX | 0.468719 |
GradientBasedCorrMaskFullY (1) | 0.245406 |
GradientBasedCorrMaskFullY (2) | 0.922070 |
GradientBasedCorrMaskFullY | 0.009925 |
GradientBasedCorrMaskValue | 1.000000 |
GradientBasedCorrMaskWhat | Mask/Gradient |
GradientBasedCorrMaskZeroX (1) | 0.440105 |
GradientBasedCorrMaskZeroX (2) | 0.520460 |
GradientBasedCorrMaskZeroX | 0.468583 |
GradientBasedCorrMaskZeroY (1) | 0.807563 |
GradientBasedCorrMaskZeroY (2) | 0.778486 |
GradientBasedCorrMaskZeroY | 0.018540 |
GradientBasedCorrMoire | 0.000000 |
GradientBasedCorrSaturation (1) | 0.101751 |
GradientBasedCorrSaturation | 0.000000 |
GradientBasedCorrShadows2012 | 0.000000 |
GradientBasedCorrSharpness (1) | 0.005461 |
GradientBasedCorrSharpness | 0.000000 |
GradientBasedCorrTemperature | 0.099932 |
GradientBasedCorrTint | 0.000000 |
GradientBasedCorrWhat | Correction |
GrainAmount | 0 |
GreenHue | 0 |
GreenSaturation | 0 |
HasCrop | False |
HasSettings | True |
Highlights2012 | -56 |
HueAdjustmentAqua | 0 |
HueAdjustmentBlue | 0 |
HueAdjustmentGreen | 0 |
HueAdjustmentMagenta | 0 |
HueAdjustmentOrange | 0 |
HueAdjustmentPurple | 0 |
HueAdjustmentRed | 0 |
HueAdjustmentYellow | 0 |
HyperfocalDistance | 6.39 m |
ImageHeight | 683 |
ImageNumber | 0 |
ImageSize | 1024x683 |
ImageWidth | 1024 |
ISO | 400 |
Keywords | Hadsel, Melbumarka, Vardheia, Vesterålen, Åse |
LateralChromaticAberrationCorrectionAlreadyApplied | True |
Lens | RF24-105mm F4 L IS USM |
LensID (1) | 61182 |
LensID | Canon RF 24-105mm F4 L IS USM |
LensInfo | 24-105mm f/? |
LensManualDistortionAmount | 0 |
LensModel | RF24-105mm F4 L IS USM |
LensProfileDistortionScale | 100 |
LensProfileEnable | 1 |
LensProfileFilename | Canon (Canon RF 24-105mm F4L IS USM) - RAW.lcp |
LensProfileIsEmbedded | False |
LensProfileName | Adobe (Canon RF 24-105mm F4 L IS USM) |
LensProfileSetup | Auto |
LensProfileVignettingScale | 100 |
LensSerialNumber | 9544000509 |
LightValue | 10.9 |
LookAmount | 1.000000 |
LookGroup | Profiles |
LookName | Adobe Landscape |
LookParametersCameraProfile | Adobe Standard |
LookParametersClarity2012 | +10 |
LookParametersConvertToGrayscale | False |
LookParametersHighlights2012 | -12 |
LookParametersLookTable | 0B3BFB5CFB7DBF7FF175E98F24D316B0 |
LookParametersProcessVersion | 11.0 |
LookParametersShadows2012 | +12 |
LookParametersToneCurvePV2012 | 0, 0, 64, 60, 128, 128, 192, 196, 255, 255 |
LookParametersVersion | 13.1 |
LookSupportsAmount | false |
LookSupportsMonochrome | false |
LookSupportsOutputReferred | false |
LuminanceAdjustmentAqua | 0 |
LuminanceAdjustmentBlue | -10 |
LuminanceAdjustmentGreen | 0 |
LuminanceAdjustmentMagenta | 0 |
LuminanceAdjustmentOrange | -5 |
LuminanceAdjustmentPurple | 0 |
LuminanceAdjustmentRed | -1 |
LuminanceAdjustmentYellow | -9 |
LuminanceSmoothing | 0 |
Make | Canon |
MaxApertureValue | 4.2 |
Megapixels | 0.699 |
MeteringMode | Multi-segment |
Model | Canon EOS R5 |
ModifyDate (1) | 2021:01:21 23:11:45+01:00 |
ModifyDate | 2021:01:21 23:11:45 |
OverrideLookVignette | False |
PaintCorrectionActive | true |
PaintCorrectionAmount | 1.000000 |
PaintCorrectionBrightness | 0.000000 |
PaintCorrectionClarity2012 | 0.000000 |
PaintCorrectionContrast2012 | -0.002503 |
PaintCorrectionCorrectionRangeMaskColorAmount | 0.500000 |
PaintCorrectionCorrectionRangeMaskDepthFeather | 0.500000 |
PaintCorrectionCorrectionRangeMaskDepthMax | 1.000000 |
PaintCorrectionCorrectionRangeMaskDepthMin | 0.000000 |
PaintCorrectionCorrectionRangeMaskLumFeather | 0.500000 |
PaintCorrectionCorrectionRangeMaskLumMax | 1.000000 |
PaintCorrectionCorrectionRangeMaskLumMin | 0.000000 |
PaintCorrectionCorrectionRangeMaskType | 0 |
PaintCorrectionCorrectionRangeMaskVersion | +2 |
PaintCorrectionDefringe | 1.000000 |
PaintCorrectionExposure2012 (1) | 0.099034 |
PaintCorrectionExposure2012 | 0.025777 |
PaintCorrectionHighlights2012 | 0.197577 |
PaintCorrectionHue | 240.000000 |
PaintCorrectionLocalBlacks2012 | 0.000000 |
PaintCorrectionLocalDehaze | 0.008912 |
PaintCorrectionLocalHue | 0.010190 |
PaintCorrectionLocalTexture | 0.000000 |
PaintCorrectionLocalWhites2012 | 0.000000 |
PaintCorrectionLuminanceNoise | 0.000000 |
PaintCorrectionMaskCenterWeight | 0.064315 |
PaintCorrectionMaskFlow (13) | 1.000000 |
PaintCorrectionMaskFlow | 0.500000 |
PaintCorrectionMaskRadius (1) | 0.064590 |
PaintCorrectionMaskRadius (10) | 0.031109 |
PaintCorrectionMaskRadius (11) | 0.030713 |
PaintCorrectionMaskRadius (12) | 0.030784 |
PaintCorrectionMaskRadius (13) | 0.031197 |
PaintCorrectionMaskRadius (14) | 0.085291 |
PaintCorrectionMaskRadius (15) | 0.082077 |
PaintCorrectionMaskRadius (16) | 0.081707 |
PaintCorrectionMaskRadius (17) | 0.081781 |
PaintCorrectionMaskRadius (18) | 0.082136 |
PaintCorrectionMaskRadius (19) | 0.082857 |
PaintCorrectionMaskRadius (2) | 0.063822 |
PaintCorrectionMaskRadius (20) | 0.084015 |
PaintCorrectionMaskRadius (21) | 0.082204 |
PaintCorrectionMaskRadius (22) | 0.082398 |
PaintCorrectionMaskRadius (23) | 0.081854 |
PaintCorrectionMaskRadius (24) | 0.082011 |
PaintCorrectionMaskRadius (25) | 0.057983 |
PaintCorrectionMaskRadius (26) | 0.064197 |
PaintCorrectionMaskRadius (27) | 0.069386 |
PaintCorrectionMaskRadius (3) | 0.063391 |
PaintCorrectionMaskRadius (4) | 0.063502 |
PaintCorrectionMaskRadius (5) | 0.041408 |
PaintCorrectionMaskRadius (6) | 0.041334 |
PaintCorrectionMaskRadius (7) | 0.041304 |
PaintCorrectionMaskRadius (8) | 0.041747 |
PaintCorrectionMaskRadius (9) | 0.031085 |
PaintCorrectionMaskRadius | 0.070150 |
PaintCorrectionMaskValue | 0.601600 |
PaintCorrectionMaskWhat | Mask/Paint |
PaintCorrectionMoire | 0.000000 |
PaintCorrectionSaturation | 0.000000 |
PaintCorrectionShadows2012 | 0.000000 |
PaintCorrectionSharpness | 0.005461 |
PaintCorrectionTemperature | 0.099932 |
PaintCorrectionTint | 0.000000 |
PaintCorrectionWhat | Correction |
ParametricDarks | 0 |
ParametricHighlights | 0 |
ParametricHighlightSplit | 75 |
ParametricLights | 0 |
ParametricMidtoneSplit | 50 |
ParametricShadows | 0 |
ParametricShadowSplit | 25 |
PerspectiveAspect | 0 |
PerspectiveHorizontal | 0 |
PerspectiveRotate | 0.0 |
PerspectiveScale | 100 |
PerspectiveUpright | 0 |
PerspectiveVertical | 0 |
PerspectiveX | 0.00 |
PerspectiveY | 0.00 |
PostCropVignetteAmount | 0 |
PreservedFileName | _M8A0760.CR3 |
ProcessVersion | 11.0 |
ProfileDescription | sRGB IEC61966-2.1 |
Rating | 5 |
RawFileName | _M8A0760.CR3 |
RecommendedExposureIndex | 400 |
RedHue | 0 |
RedSaturation | 0 |
Rights | Copywright - All rigths reserved Tlf 0047 905 57 417 |
Saturation | 0 |
SaturationAdjustmentAqua | 0 |
SaturationAdjustmentBlue | -2 |
SaturationAdjustmentGreen | 0 |
SaturationAdjustmentMagenta | 0 |
SaturationAdjustmentOrange | 0 |
SaturationAdjustmentPurple | 0 |
SaturationAdjustmentRed | 0 |
SaturationAdjustmentYellow | 0 |
ScaleFactor35efl | 1.0 |
SceneCaptureType | Standard |
SensitivityType | Recommended Exposure Index |
SerialNumber | 063021000228 |
Shadows2012 | +29 |
ShadowTint | 0 |
SharpenDetail | 25 |
SharpenEdgeMasking | 0 |
SharpenRadius | +1.0 |
Sharpness | 40 |
ShutterSpeed | 1/45 |
ShutterSpeedValue | 1/45 |
Software | Adobe Photoshop Lightroom Classic 10.1.1 (Macintosh) |
SplitToningBalance | 0 |
SplitToningHighlightHue | 0 |
SplitToningHighlightSaturation | 0 |
SplitToningShadowHue | 0 |
SplitToningShadowSaturation | 0 |
Subject | Hadsel, Melbumarka, Vardheia, Vesterålen, Åse |
Texture | 0 |
Tint | +10 |
ToneCurveName2012 | Custom |
ToneCurvePV2012 | 0, 0, 64, 64, 128, 140, 166, 179, 217, 230, 255, 255 |
ToneCurvePV2012Blue | 0, 0, 255, 255 |
ToneCurvePV2012Green | 0, 0, 255, 255 |
ToneCurvePV2012Red | 0, 0, 255, 255 |
Version | 13.1 |
Vibrance | 0 |
VignetteAmount | 0 |
VignetteCorrectionAlreadyApplied | True |
WhiteBalance (1) | Daylight |
WhiteBalance | Manual |
Whites2012 | 0 |