Felt | Verdi |
AlreadyApplied | True |
Aperture | 5.6 |
ApertureValue | 5.6 |
ApproximateFocusDistance | 23.8 |
Artist | Ole Arne Schlytter |
AutoLateralCA | 1 |
BitsPerSample (1) | 8 8 8 |
BitsPerSample | 8 |
Blacks2012 | -13 |
BlueHue | 0 |
BlueSaturation | 0 |
By-line | Ole Arne Schlytter |
CameraProfile | Adobe Standard |
Clarity2012 | +17 |
ColorComponents | 3 |
ColorGradeBlending | 50 |
ColorGradeGlobalHue | 0 |
ColorGradeGlobalLum | 0 |
ColorGradeGlobalSat | 0 |
ColorGradeHighlightLum | 0 |
ColorGradeMidtoneHue | 0 |
ColorGradeMidtoneLum | 0 |
ColorGradeMidtoneSat | 0 |
ColorGradeShadowLum | 0 |
ColorMode | RGB |
ColorNoiseReduction | 34 |
ColorNoiseReductionDetail | 50 |
ColorNoiseReductionSmoothness | 50 |
ColorSpace | sRGB |
ColorTemperature | 6333 |
ColorTransform | YCbCr |
Contrast2012 | 0 |
Copyright | Ole Arne Schlytter |
CopyrightNotice | Ole Arne Schlytter |
CreateDate | 2021:07:14 16:42:40 |
Creator | Ole Arne Schlytter |
CreatorTool | Adobe Lightroom 4.3 (Macintosh) |
CropAngle | 0 |
CropBottom | 0.707613 |
CropConstrainToWarp | 0 |
CropLeft | 0.442671 |
CropRight | 0.999675 |
CropTop | 0.150609 |
CustomRendered | Normal |
DateCreated (1) | 2021:07:14 |
DateCreated | 2021:07:14 16:42:40 |
DateTimeOriginal | 2021:07:14 16:42:40 |
DefringeGreenAmount | 0 |
DefringeGreenHueHi | 60 |
DefringeGreenHueLo | 40 |
DefringePurpleAmount | 0 |
DefringePurpleHueHi | 70 |
DefringePurpleHueLo | 30 |
Dehaze | 0 |
DistortionCorrectionAlreadyApplied | True |
ExifImageHeight | 920 |
ExifImageWidth | 1380 |
Exposure2012 | -0.59 |
ExposureCompensation | 0 |
ExposureMode | Auto |
ExposureProgram | Aperture-priority AE |
ExposureTime | 1/2500 |
Firmware | 1.1.0 |
Flash | No Flash |
FlashCompensation | 0 |
FNumber | 5.6 |
FocalLength | 560.0 mm |
FocalLength35efl | 560.0 mm |
Format | image/jpeg |
GrainAmount | 0 |
GreenHue | 0 |
GreenSaturation | 0 |
HasCrop | True |
HasSettings | True |
Highlights2012 | -71 |
HueAdjustmentAqua | 0 |
HueAdjustmentBlue | 0 |
HueAdjustmentGreen | -6 |
HueAdjustmentMagenta | 0 |
HueAdjustmentOrange | 0 |
HueAdjustmentPurple | 0 |
HueAdjustmentRed | 0 |
HueAdjustmentYellow | 0 |
ICCProfileName | sRGB v1.31 (Canon) |
ImageHeight (1) | 3831 |
ImageHeight | 920 |
ImageNumber | 0 |
ImageSize | 1380x920 |
ImageWidth (1) | 5750 |
ImageWidth | 1380 |
ISO | 1600 |
LateralChromaticAberrationCorrectionAlreadyApplied | True |
Lens | EF200-400mm f/4L IS USM EXT |
LensID (1) | 499 |
LensID | Canon EF 200-400mm f/4L IS USM + 1.4x |
LensInfo | 280-560mm f/? |
LensManualDistortionAmount | 0 |
LensModel | EF200-400mm f/4L IS USM EXT |
LensProfileDistortionScale | 100 |
LensProfileEnable | 1 |
LensProfileFilename | Canon EOS 5D Mark III (Canon EF 200-400mm f4 L IS USM EXT) - RAW.lcp |
LensProfileIsEmbedded | False |
LensProfileName | Adobe (Canon EF 200-400mm f/4 L IS USM EXT) |
LensProfileSetup | LensDefaults |
LensProfileVignettingScale | 100 |
LensSerialNumber | 2810000027 |
LightValue | 12.3 |
LookAmount | 1.000000 |
LookGroup | Profiles |
LookName | Adobe Color |
LookParametersCameraProfile | Adobe Standard |
LookParametersConvertToGrayscale | False |
LookParametersLookTable | E1095149FDB39D7A057BAB208837E2E1 |
LookParametersProcessVersion | 11.0 |
LookParametersToneCurvePV2012 | 0, 0, 22, 16, 40, 35, 127, 127, 224, 230, 240, 246, 255, 255 |
LookParametersToneCurvePV2012Blue | 0, 0, 255, 255 |
LookParametersToneCurvePV2012Green | 0, 0, 255, 255 |
LookParametersToneCurvePV2012Red | 0, 0, 255, 255 |
LookParametersVersion | 13.3 |
LookSupportsAmount | false |
LookSupportsMonochrome | false |
LookSupportsOutputReferred | false |
LuminanceAdjustmentAqua | 0 |
LuminanceAdjustmentBlue | 0 |
LuminanceAdjustmentGreen | 0 |
LuminanceAdjustmentMagenta | 0 |
LuminanceAdjustmentOrange | 0 |
LuminanceAdjustmentPurple | 0 |
LuminanceAdjustmentRed | 0 |
LuminanceAdjustmentYellow | 0 |
LuminanceNoiseReductionContrast | 0 |
LuminanceNoiseReductionDetail | 50 |
LuminanceSmoothing | 55 |
Make | Canon |
MaxApertureValue | 5.7 |
Megapixels | 1.3 |
MeteringMode | Multi-segment |
Model | Canon EOS-1D X Mark III |
ModifyDate (1) | 2021:07:17 09:34:38+02:00 |
ModifyDate | 2021:07:17 09:34:38 |
Orientation | Horizontal (normal) |
OverrideLookVignette | False |
ParametricDarks | 0 |
ParametricHighlights | 0 |
ParametricHighlightSplit | 75 |
ParametricLights | 0 |
ParametricMidtoneSplit | 50 |
ParametricShadows | 0 |
ParametricShadowSplit | 25 |
PerspectiveAspect | 0 |
PerspectiveHorizontal | 0 |
PerspectiveRotate | 0.0 |
PerspectiveScale | 100 |
PerspectiveUpright | 0 |
PerspectiveVertical | 0 |
PerspectiveX | 0.00 |
PerspectiveY | 0.00 |
PhotometricInterpretation | RGB |
PostCropVignetteAmount | 0 |
ProcessVersion | 11.0 |
ProfileDescription | sRGB v1.31 (Canon) |
RawFileName | A01I5743.CR3 |
RecommendedExposureIndex | 1600 |
RedHue | 0 |
RedSaturation | 0 |
RelatedImageHeight | 3831 |
RelatedImageWidth | 5750 |
Rights | Ole Arne Schlytter |
SamplesPerPixel | 3 |
Saturation | 0 |
SaturationAdjustmentAqua | 0 |
SaturationAdjustmentBlue | 0 |
SaturationAdjustmentGreen | 0 |
SaturationAdjustmentMagenta | 0 |
SaturationAdjustmentOrange | +11 |
SaturationAdjustmentPurple | 0 |
SaturationAdjustmentRed | 0 |
SaturationAdjustmentYellow | 0 |
SceneCaptureType | Standard |
SensitivityType | Recommended Exposure Index |
SerialNumber | 083033000001 |
Shadows2012 | +97 |
ShadowTint | 0 |
SharpenDetail | 25 |
SharpenEdgeMasking | 0 |
SharpenRadius | +1.0 |
Sharpness | 84 |
ShutterSpeed | 1/2500 |
ShutterSpeedValue | 1/2500 |
Software | Adobe Photoshop 22.4 (Macintosh) |
SplitToningBalance | 0 |
SplitToningHighlightHue | 0 |
SplitToningHighlightSaturation | 0 |
SplitToningShadowHue | 0 |
SplitToningShadowSaturation | 0 |
Texture | 0 |
Tint | +41 |
ToneCurveName2012 | Linear |
ToneCurvePV2012 | 0, 0, 255, 255 |
ToneCurvePV2012Blue | 0, 0, 255, 255 |
ToneCurvePV2012Green | 0, 0, 255, 255 |
ToneCurvePV2012Red | 0, 0, 255, 255 |
URL_List | |
Version | 13.3 |
Vibrance | +1 |
VignetteAmount | 0 |
VignetteCorrectionAlreadyApplied | True |
WhiteBalance (1) | Custom |
WhiteBalance | Auto |
Whites2012 | +24 |