Felt | Verdi |
AbsoluteAltitude | +60.281 |
AlreadyApplied | True |
AltitudeType | RtkAlt |
Aperture | 1.7 |
ApertureValue | 1.7 |
AutoLateralCA | 0 |
BitsPerSample | 8 |
Blacks2012 | 0 |
BlueHue | 0 |
BlueSaturation | 0 |
CameraProfile | Embedded |
CameraSerialNumber | 53HQK430M104Y3 |
CamReverse | 0 |
CircleOfConfusion | 0.008 mm |
Clarity2012 | 0 |
ColorComponents | 3 |
ColorGradeBlending | 50 |
ColorGradeGlobalHue | 0 |
ColorGradeGlobalLum | 0 |
ColorGradeGlobalSat | 0 |
ColorGradeHighlightLum | 0 |
ColorGradeMidtoneHue | 0 |
ColorGradeMidtoneLum | 0 |
ColorGradeMidtoneSat | 0 |
ColorGradeShadowLum | 0 |
ColorNoiseReduction | 0 |
ColorSpace (1) | Uncalibrated |
ColorSpace | sRGB |
ColorTransform | YCbCr |
CompatibleVersion | 234881024 |
Contrast | Normal |
Contrast2012 | 0 |
ConvertToGrayscale | False |
Country | Italy |
Country-PrimaryLocationCode | IT |
Country-PrimaryLocationName | Italy |
CountryCode | IT |
CreateDate (1) | 2022:07:03 18:29:16Z |
CreateDate | 2022:07:03 18:29:16 |
CreatorTool | Adobe Photoshop Lightroom Classic 11.4.1 (Macintosh) |
CropAngle | 0 |
CropBottom | 0.901902 |
CropConstrainToWarp | 0 |
CropLeft | 0 |
CropRight | 1 |
CropTop | 0.101902 |
DateCreated (1) | 2022:07:03 |
DateCreated | 2022:07:03 18:29:16 |
DateTimeOriginal | 2022:07:03 18:29:16 |
DefringeGreenAmount | 0 |
DefringeGreenHueHi | 60 |
DefringeGreenHueLo | 40 |
DefringePurpleAmount | 0 |
DefringePurpleHueHi | 70 |
DefringePurpleHueLo | 30 |
Dehaze | 0 |
DigitalZoomRatio | 1 |
DroneModel | Mini 3 Pro |
DroneSerialNumber | 1581F4XFD224F0 |
Exposure2012 | 0.00 |
ExposureCompensation | 0 |
ExposureMode | Auto |
ExposureProgram | Program AE |
ExposureTime | 1/1600 |
Flash | No Flash |
FlightPitchDegree | -2.90 |
FlightRollDegree | -7.70 |
FlightXSpeed | 0.0 |
FlightYawDegree | -65.70 |
FlightYSpeed | 0.0 |
FlightZSpeed | 0.0 |
FNumber | 1.7 |
FocalLength | 6.7 mm |
FocalLength35efl | 6.7 mm (35 mm equivalent: 24.0 mm) |
FocalLengthIn35mmFormat | 24 mm |
Format | image/jpeg |
FOV | 73.7 deg |
GainControl | None |
GimbalPitchDegree | -17.70 |
GimbalReverse | 0 |
GimbalRollDegree | -90.00 |
GimbalYawDegree | -50.30 |
GPSAltitude (1) | 60.281 m |
GPSAltitude | 60.2 m Above Sea Level |
GPSAltitudeRef | Above Sea Level |
GPSLatitude (2) | 38 deg 53' 11.03" |
GPSLatitude | 38 deg 53' 11.03" N |
GPSLatitudeRef | North |
GPSLongitude (2) | 8 deg 52' 35.16" |
GPSLongitude | 8 deg 52' 35.16" E |
GPSLongitudeRef | East |
GPSMapDatum | WGS-84 |
GPSPosition | 38 deg 53' 11.03" N, 8 deg 52' 35.16" E |
GpsStatus | Invalid |
GPSStatus | Measurement Void |
GPSVersionID | 2.3.0.0 |
GrainAmount | 0 |
GreenHue | 0 |
GreenSaturation | 0 |
HasCrop | True |
HasSettings | True |
Highlights2012 | -38 |
HueAdjustmentAqua | 0 |
HueAdjustmentBlue | 0 |
HueAdjustmentGreen | 0 |
HueAdjustmentMagenta | 0 |
HueAdjustmentOrange | 0 |
HueAdjustmentPurple | 0 |
HueAdjustmentRed | 0 |
HueAdjustmentYellow | 0 |
HyperfocalDistance | 3.16 m |
ImageHeight | 2672 |
ImageSize | 2672x2672 |
ImageSource | DefaultCamera |
ImageWidth | 2672 |
IncrementalTemperature | 0 |
IncrementalTint | 0 |
ISO | 110 |
Lens | 6.7 mm f/1.7 |
LensInfo (2) | 6.72 |
LensInfo | 6.72mm f/1.7 |
LensManualDistortionAmount | 0 |
LensModel | 6.7 mm f/1.7 |
LensProfileEnable | 0 |
LensSerialNumber | |
LightSource | Cloudy |
LightValue | 12.0 |
LuminanceAdjustmentAqua | 0 |
LuminanceAdjustmentBlue | 0 |
LuminanceAdjustmentGreen | 0 |
LuminanceAdjustmentMagenta | 0 |
LuminanceAdjustmentOrange | 0 |
LuminanceAdjustmentPurple | 0 |
LuminanceAdjustmentRed | 0 |
LuminanceAdjustmentYellow | 0 |
LuminanceSmoothing | 0 |
Make | DJI |
MaxApertureValue | 1.7 |
Megapixels | 7.1 |
MeteringMode | Spot |
Model | FC3582 |
ModifyDate (1) | 2022:07:12 20:00:53+02:00 |
ModifyDate | 2022:07:12 20:00:53 |
OverrideLookVignette | False |
ParametricDarks | 0 |
ParametricHighlights | 0 |
ParametricHighlightSplit | 75 |
ParametricLights | 0 |
ParametricMidtoneSplit | 50 |
ParametricShadows | 0 |
ParametricShadowSplit | 25 |
PerspectiveAspect | 0 |
PerspectiveHorizontal | 0 |
PerspectiveRotate | 0.0 |
PerspectiveScale | 100 |
PerspectiveUpright | 0 |
PerspectiveVertical | 0 |
PerspectiveX | 0.00 |
PerspectiveY | 0.00 |
PostCropVignetteAmount | 0 |
PreservedFileName | DJI_0270.DNG |
ProcessVersion | 11.0 |
ProfileDescription | sRGB IEC61966-2.1 |
Province-State | South Sardinia |
Rating | 5 |
RawFileName | DJI_0270-Edit-Edit.tif |
RedHue | 0 |
RedSaturation | 0 |
RelativeAltitude | +91.200 |
Saturation (1) | 0 |
Saturation | Normal |
SaturationAdjustmentAqua | 0 |
SaturationAdjustmentBlue | 0 |
SaturationAdjustmentGreen | 0 |
SaturationAdjustmentMagenta | 0 |
SaturationAdjustmentOrange | 0 |
SaturationAdjustmentPurple | 0 |
SaturationAdjustmentRed | 0 |
SaturationAdjustmentYellow | 0 |
ScaleFactor35efl | 3.6 |
SceneCaptureType | Standard |
SceneType | Directly photographed |
SelfData | |
SensitivityType | Recommended Exposure Index |
SerialNumber | 53HQK430M104Y3 |
Shadows2012 | 0 |
ShadowTint | 0 |
Sharpness (1) | 0 |
Sharpness | Normal |
ShutterSpeed | 1/1600 |
ShutterSpeedValue | 1/1600 |
ShutterType | Electronic |
Software | Adobe Photoshop Lightroom Classic 11.4.1 (Macintosh) |
SplitToningBalance | 0 |
SplitToningHighlightHue | 0 |
SplitToningHighlightSaturation | 0 |
SplitToningShadowHue | 0 |
SplitToningShadowSaturation | 0 |
State | South Sardinia |
SurveyingMode | 0 |
Texture | 0 |
ToneCurveName2012 | Linear |
ToneCurvePV2012 | 0, 0, 255, 255 |
ToneCurvePV2012Blue | 0, 0, 255, 255 |
ToneCurvePV2012Green | 0, 0, 255, 255 |
ToneCurvePV2012Red | 0, 0, 255, 255 |
UTCAtExposure | |
Version (1) | 1.5 |
Version | 14.4.1 |
Vibrance | 0 |
VignetteAmount | 0 |
WhiteBalance (1) | As Shot |
WhiteBalance | Auto |
Whites2012 | 0 |