Felt | Verdi |
AbsoluteAltitude | +55.058 |
AlreadyApplied | True |
AltitudeType | RtkAlt |
Aperture | 1.7 |
ApertureValue | 1.7 |
AutoLateralCA | 1 |
BitsPerSample | 8 |
Blacks2012 | 0 |
BlueHue | -7 |
BlueSaturation | +49 |
CameraProfile | Embedded |
CameraSerialNumber | 53HQK430M104Y3 |
CamReverse | 0 |
CircleOfConfusion | 0.008 mm |
City | Cagliari |
Clarity2012 | +4 |
ColorComponents | 3 |
ColorGradeBlending | 50 |
ColorGradeGlobalHue | 0 |
ColorGradeGlobalLum | 0 |
ColorGradeGlobalSat | 0 |
ColorGradeHighlightLum | 0 |
ColorGradeMidtoneHue | 36 |
ColorGradeMidtoneLum | 0 |
ColorGradeMidtoneSat | 43 |
ColorGradeShadowLum | 0 |
ColorNoiseReduction | 25 |
ColorNoiseReductionDetail | 50 |
ColorNoiseReductionSmoothness | 50 |
ColorSpace | sRGB |
ColorTemperature | 5300 |
ColorTransform | YCbCr |
CompatibleVersion | 234881024 |
Contrast | Normal |
Contrast2012 | 0 |
ConvertToGrayscale | False |
Country | Italy |
Country-PrimaryLocationCode | IT |
Country-PrimaryLocationName | Italy |
CountryCode | IT |
CreateDate (1) | 2022:07:04 21:43:48Z |
CreateDate | 2022:07:04 21:43:48 |
CreatorTool | Adobe Photoshop Lightroom Classic 11.4.1 (Macintosh) |
CropAngle | 0 |
CropBottom | 1 |
CropConstrainToWarp | 0 |
CropLeft | 0.04665 |
CropRight | 1 |
CropTop | 0.117141 |
DateCreated (1) | 2022:07:04 |
DateCreated | 2022:07:04 21:43:48 |
DateTimeOriginal | 2022:07:04 21:43:48 |
DefringeGreenAmount | 0 |
DefringeGreenHueHi | 60 |
DefringeGreenHueLo | 40 |
DefringePurpleAmount | 0 |
DefringePurpleHueHi | 70 |
DefringePurpleHueLo | 30 |
Dehaze | 0 |
DigitalZoomRatio | 1 |
DroneModel | Mini 3 Pro |
DroneSerialNumber | 1581F4XFD224F0 |
Exposure2012 | +0.20 |
ExposureCompensation | -0.7 |
ExposureMode | Auto |
ExposureProgram | Program AE |
ExposureTime | 1/640 |
Flash | No Flash |
FlightPitchDegree | +0.00 |
FlightRollDegree | +2.30 |
FlightXSpeed | 0.0 |
FlightYawDegree | -47.90 |
FlightYSpeed | 0.0 |
FlightZSpeed | 0.0 |
FNumber | 1.7 |
FocalLength | 6.7 mm |
FocalLength35efl | 6.7 mm (35 mm equivalent: 24.0 mm) |
FocalLengthIn35mmFormat | 24 mm |
Format | image/jpeg |
FOV | 73.7 deg |
GainControl | None |
GimbalPitchDegree | -5.90 |
GimbalReverse | 0 |
GimbalRollDegree | +0.00 |
GimbalYawDegree | -48.00 |
GPSAltitude (1) | 55.058 m |
GPSAltitude | 55 m Above Sea Level |
GPSAltitudeRef | Above Sea Level |
GPSLatitude (2) | 39 deg 12' 56.30" |
GPSLatitude | 39 deg 12' 56.30" N |
GPSLatitudeRef | North |
GPSLongitude (2) | 9 deg 7' 1.30" |
GPSLongitude | 9 deg 7' 1.30" E |
GPSLongitudeRef | East |
GPSMapDatum | WGS-84 |
GPSPosition | 39 deg 12' 56.30" N, 9 deg 7' 1.30" E |
GpsStatus | Invalid |
GPSStatus | Measurement Void |
GPSVersionID | 2.3.0.0 |
GrainAmount | 0 |
GreenHue | 0 |
GreenSaturation | 0 |
HasCrop | True |
HasSettings | True |
Highlights2012 | 0 |
HueAdjustmentAqua | 0 |
HueAdjustmentBlue | 0 |
HueAdjustmentGreen | 0 |
HueAdjustmentMagenta | 0 |
HueAdjustmentOrange | -1 |
HueAdjustmentPurple | 0 |
HueAdjustmentRed | 0 |
HueAdjustmentYellow | -41 |
HyperfocalDistance | 3.16 m |
ImageHeight | 2670 |
ImageSize | 3844x2670 |
ImageSource | DefaultCamera |
ImageWidth | 3844 |
ISO | 110 |
LateralChromaticAberrationCorrectionAlreadyApplied | True |
Lens | 6.7 mm f/1.7 |
LensInfo | 6.72mm f/1.7 |
LensManualDistortionAmount | 0 |
LensModel | 6.7 mm f/1.7 |
LensProfileEnable | 1 |
LensProfileSetup | LensDefaults |
LensSerialNumber | |
LightSource | Cloudy |
LightValue | 10.7 |
LuminanceAdjustmentAqua | 0 |
LuminanceAdjustmentBlue | 0 |
LuminanceAdjustmentGreen | 0 |
LuminanceAdjustmentMagenta | 0 |
LuminanceAdjustmentOrange | 0 |
LuminanceAdjustmentPurple | 0 |
LuminanceAdjustmentRed | 0 |
LuminanceAdjustmentYellow | 0 |
LuminanceNoiseReductionContrast | 0 |
LuminanceNoiseReductionDetail | 50 |
LuminanceSmoothing | 7 |
Make | DJI |
MaxApertureValue | 1.7 |
Megapixels | 10.3 |
MeteringMode | Spot |
Model | FC3582 |
ModifyDate (1) | 2022:07:12 19:53:46+02:00 |
ModifyDate | 2022:07:12 19:53:46 |
OverrideLookVignette | False |
ParametricDarks | 0 |
ParametricHighlights | 0 |
ParametricHighlightSplit | 75 |
ParametricLights | 0 |
ParametricMidtoneSplit | 50 |
ParametricShadows | 0 |
ParametricShadowSplit | 25 |
PerspectiveAspect | 0 |
PerspectiveHorizontal | 0 |
PerspectiveRotate | 0.0 |
PerspectiveScale | 100 |
PerspectiveUpright | 0 |
PerspectiveVertical | 0 |
PerspectiveX | 0.00 |
PerspectiveY | 0.00 |
PostCropVignetteAmount | 0 |
PreservedFileName | DJI_0343.DNG |
ProcessVersion | 11.0 |
ProfileDescription | sRGB IEC61966-2.1 |
Province-State | Metropolitan CityCagliari |
Rating | 5 |
RawFileName | DJI_0343.DNG |
RedHue | 0 |
RedSaturation | 0 |
RelativeAltitude | +29.000 |
Saturation (1) | 0 |
Saturation | Normal |
SaturationAdjustmentAqua | 0 |
SaturationAdjustmentBlue | 0 |
SaturationAdjustmentGreen | 0 |
SaturationAdjustmentMagenta | 0 |
SaturationAdjustmentOrange | +8 |
SaturationAdjustmentPurple | 0 |
SaturationAdjustmentRed | 0 |
SaturationAdjustmentYellow | +21 |
ScaleFactor35efl | 3.6 |
SceneCaptureType | Standard |
SceneType | Directly photographed |
SelfData | |
SensitivityType | Recommended Exposure Index |
SerialNumber | 53HQK430M104Y3 |
Shadows2012 | 0 |
ShadowTint | 0 |
SharpenDetail | 25 |
SharpenEdgeMasking | 0 |
SharpenRadius | +1.0 |
Sharpness (1) | 40 |
Sharpness | Normal |
ShutterSpeed | 1/640 |
ShutterSpeedValue | 1/640 |
ShutterType | Electronic |
Software | Adobe Photoshop Lightroom Classic 11.4.1 (Macintosh) |
SplitToningBalance | 0 |
SplitToningHighlightHue | 0 |
SplitToningHighlightSaturation | 0 |
SplitToningShadowHue | 0 |
SplitToningShadowSaturation | 0 |
State | Metropolitan CityCagliari |
SurveyingMode | 0 |
Texture | +3 |
Tint | +5 |
ToneCurveName2012 | Linear |
ToneCurvePV2012 | 0, 0, 255, 255 |
ToneCurvePV2012Blue | 0, 0, 255, 255 |
ToneCurvePV2012Green | 0, 0, 255, 255 |
ToneCurvePV2012Red | 0, 0, 255, 255 |
UTCAtExposure | |
Version (1) | 1.5 |
Version | 14.4.1 |
Vibrance | 0 |
VignetteAmount | 0 |
WhiteBalance (1) | As Shot |
WhiteBalance | Auto |
Whites2012 | 0 |