Felt | Verdi |
2023-01-25T09:46:14+01:00 File 2023_TravelDreams.psd saved
2023-01-26T20:52:29+01:00 File 2023_TravelDreams.psd saved
AlreadyApplied | True |
AutoLateralCA | 0 |
BitsPerSample | 8 |
Blacks2012 | -1 |
BlueHue | 0 |
BlueSaturation | 0 |
CameraProfile | Embedded |
Clarity2012 | +12 |
ColorComponents | 3 |
ColorGradeBlending | 50 |
ColorGradeGlobalHue | 0 |
ColorGradeGlobalLum | 0 |
ColorGradeGlobalSat | 0 |
ColorGradeHighlightLum | +8 |
ColorGradeMidtoneHue | 0 |
ColorGradeMidtoneLum | 0 |
ColorGradeMidtoneSat | 0 |
ColorGradeShadowLum | -19 |
ColorNoiseReduction | 0 |
ColorSpace | Uncalibrated |
ColorTransform | YCbCr |
Contrast2012 | +24 |
ConvertToGrayscale | False |
CreateDate (1) | 2022:10:19 02:32:33+02:00 |
CreateDate | 2022:10:19 02:32:33 |
CreatorTool | Adobe Photoshop Lightroom Classic 12.1 (Macintosh) |
CropAngle | 0 |
CropBottom | 1 |
CropConstrainToWarp | 0 |
CropLeft | 0 |
CropRight | 1 |
CropTop | 0 |
DefringeGreenAmount | 0 |
DefringeGreenHueHi | 60 |
DefringeGreenHueLo | 40 |
DefringePurpleAmount | 0 |
DefringePurpleHueHi | 70 |
DefringePurpleHueLo | 30 |
Dehaze | 0 |
Exposure2012 | 0.00 |
Format | image/jpeg |
GrainAmount | 0 |
GreenHue | 0 |
GreenSaturation | 0 |
HasCrop | False |
HasSettings | True |
Highlights2012 | -34 |
HueAdjustmentAqua | +3 |
HueAdjustmentBlue | -8 |
HueAdjustmentGreen | +16 |
HueAdjustmentMagenta | +9 |
HueAdjustmentOrange | -20 |
HueAdjustmentPurple | -9 |
HueAdjustmentRed | +10 |
HueAdjustmentYellow | -8 |
ImageHeight | 2048 |
ImageSize | 2038x2048 |
ImageWidth | 2038 |
IncrementalTemperature | 0 |
IncrementalTint | 0 |
LensManualDistortionAmount | 0 |
LensProfileEnable | 0 |
LuminanceAdjustmentAqua | +14 |
LuminanceAdjustmentBlue | +7 |
LuminanceAdjustmentGreen | +9 |
LuminanceAdjustmentMagenta | +5 |
LuminanceAdjustmentOrange | -9 |
LuminanceAdjustmentPurple | +16 |
LuminanceAdjustmentRed | -9 |
LuminanceAdjustmentYellow | -8 |
LuminanceSmoothing | 0 |
Megapixels | 4.2 |
ModifyDate (1) | 2023:01:26 20:58:30+01:00 |
ModifyDate | 2023:01:26 20:58:30 |
OverrideLookVignette | False |
ParametricDarks | 0 |
ParametricHighlights | 0 |
ParametricHighlightSplit | 75 |
ParametricLights | 0 |
ParametricMidtoneSplit | 50 |
ParametricShadows | 0 |
ParametricShadowSplit | 25 |
PerspectiveAspect | 0 |
PerspectiveHorizontal | 0 |
PerspectiveRotate | 0.0 |
PerspectiveScale | 100 |
PerspectiveUpright | 0 |
PerspectiveVertical | 0 |
PerspectiveX | 0.00 |
PerspectiveY | 0.00 |
PostCropVignetteAmount | 0 |
PreservedFileName | Skjermbilde 2022-10-19 kl. 02.32.28.png |
ProcessVersion | 11.0 |
ProfileDescription | Display P3 |
Rating | 5 |
RawFileName | 2023_TravelDreams.psd |
RedHue | 0 |
RedSaturation | 0 |
Saturation | -8 |
SaturationAdjustmentAqua | -25 |
SaturationAdjustmentBlue | -47 |
SaturationAdjustmentGreen | -10 |
SaturationAdjustmentMagenta | -33 |
SaturationAdjustmentOrange | -23 |
SaturationAdjustmentPurple | -42 |
SaturationAdjustmentRed | -8 |
SaturationAdjustmentYellow | -31 |
Shadows2012 | +18 |
ShadowTint | 0 |
Sharpness | 0 |
Software | Adobe Photoshop Lightroom Classic 12.1 (Macintosh) |
SplitToningBalance | 0 |
SplitToningHighlightHue | 71 |
SplitToningHighlightSaturation | 7 |
SplitToningShadowHue | 56 |
SplitToningShadowSaturation | 7 |
Texture | +8 |
ToneCurveName2012 | Custom |
ToneCurvePV2012 | 0, 18, 60, 56, 183, 169, 255, 230 |
ToneCurvePV2012Blue | 9, 0, 255, 247 |
ToneCurvePV2012Green | 1, 6, 56, 57, 255, 255 |
ToneCurvePV2012Red | 0, 0, 255, 255 |
UserComment | Screenshot |
Version | 15.1 |
Vibrance | +15 |
VignetteAmount | 0 |
WhiteBalance | As Shot |
Whites2012 | -9 |