Felt | Verdi |
AlreadyApplied | True |
Aperture | 4.5 |
ApertureValue | 4.5 |
ApproximateFocusDistance | 64.4 |
AutoLateralCA | 0 |
AutoWhiteVersion | 134348800 |
BitsPerSample | 8 |
Blacks2012 | 0 |
BlueHue | 0 |
BlueSaturation | 0 |
CameraProfile | Embedded |
CircleOfConfusion | 0.005 mm |
Clarity2012 | 0 |
ColorComponents | 3 |
ColorNoiseReduction | 0 |
ColorSpace | sRGB |
ColorTransform | YCbCr |
Contrast2012 | +22 |
ConvertToGrayscale | True |
CreateDate | 2011:06:03 15:13:55 |
CreatorTool | Adobe Photoshop Lightroom 6.10.1 (Macintosh) |
CropAngle | -1.32048 |
CropBottom | 0.789311 |
CropConstrainToWarp | 0 |
CropLeft | 0.069417 |
CropRight | 0.913061 |
CropTop | 0.02551 |
CustomRendered | Normal |
DateCreated (1) | 2011:06:03 |
DateCreated | 2011:06:03 15:13:55 |
DateTimeOriginal | 2011:06:03 15:13:55 |
Dehaze | 0 |
DigitalZoomRatio | 1 |
DOF | inf (8.14 m - inf) |
Exposure2012 | -0.50 |
ExposureCompensation | 0 |
ExposureMode | Auto |
ExposureTime | 1/800 |
Firmware | 1.01 |
Flash | Auto, Did not fire |
FlashCompensation | 0 |
FNumber | 4.5 |
FocalLength | 14.4 mm |
FocalLength35efl | 14.4 mm (35 mm equivalent: 87.3 mm) |
Format | image/jpeg |
FOV | 23.3 deg |
GrainAmount | 0 |
GrayMixerAqua | -17 |
GrayMixerBlue | +10 |
GrayMixerGreen | -26 |
GrayMixerMagenta | +3 |
GrayMixerOrange | -19 |
GrayMixerPurple | +16 |
GrayMixerRed | -10 |
GrayMixerYellow | -22 |
GreenHue | 0 |
GreenSaturation | 0 |
HasCrop | True |
HasSettings | True |
Highlights2012 | -100 |
HyperfocalDistance | 9.31 m |
ImageHeight | 2140 |
ImageSize | 3000x2140 |
ImageWidth | 3000 |
IncrementalTemperature | 0 |
IncrementalTint | 0 |
ISO | 80 |
Lens | 5.8-17.4 mm |
LensInfo | 5.8-17.4mm f/? |
LensManualDistortionAmount | 0 |
LensModel | 5.8-17.4 mm |
LensProfileEnable | 0 |
LensProfileSetup | LensDefaults |
LightValue | 14.3 |
LuminanceSmoothing | 0 |
Make | Canon |
MaxApertureValue | 4.5 |
Megapixels | 6.4 |
MeteringMode | Multi-segment |
Model | Canon DIGITAL IXUS 75 |
ModifyDate (1) | 2017:06:30 23:44:43+02:00 |
ModifyDate | 2017:06:30 23:44:43 |
ParametricDarks | 0 |
ParametricHighlights | 0 |
ParametricHighlightSplit | 75 |
ParametricLights | 0 |
ParametricMidtoneSplit | 50 |
ParametricShadows | 0 |
ParametricShadowSplit | 25 |
PerspectiveAspect | 0 |
PerspectiveHorizontal | 0 |
PerspectiveRotate | 0.0 |
PerspectiveScale | 100 |
PerspectiveUpright | 0 |
PerspectiveVertical | 0 |
PerspectiveX | 0.00 |
PerspectiveY | 0.00 |
PostCropVignetteAmount | 0 |
ProcessVersion | 6.7 |
ProfileDescription | sRGB IEC61966-2.1 |
RedHue | 0 |
RedSaturation | 0 |
ScaleFactor35efl | 6.1 |
SceneCaptureType | Standard |
SensingMethod | One-chip color area |
Shadows2012 | -15 |
ShadowTint | 0 |
SharpenDetail | 25 |
SharpenEdgeMasking | 0 |
SharpenRadius | +1.0 |
Sharpness | 0 |
ShutterSpeed | 1/800 |
ShutterSpeedValue | 1/800 |
Software | Adobe Photoshop Lightroom 6.10.1 (Macintosh) |
SplitToningBalance | 0 |
SplitToningHighlightHue | 0 |
SplitToningHighlightSaturation | 0 |
SplitToningShadowHue | 0 |
SplitToningShadowSaturation | 0 |
ToneCurve | 0, 0, 255, 255 |
ToneCurveBlue | 0, 0, 255, 255 |
ToneCurveGreen | 0, 0, 255, 255 |
ToneCurveName | Linear |
ToneCurveName2012 | Linear |
ToneCurvePV2012 | 0, 0, 255, 255 |
ToneCurvePV2012Blue | 0, 0, 255, 255 |
ToneCurvePV2012Green | 0, 0, 255, 255 |
ToneCurvePV2012Red | 0, 0, 255, 255 |
ToneCurveRed | 0, 0, 255, 255 |
ToneMapStrength | 0 |
Version | 9.10.1 |
VignetteAmount | 0 |
WhiteBalance (1) | As Shot |
WhiteBalance | Auto |
Whites2012 | +36 |