Felt | Verdi |
AlreadyApplied | True |
Aperture | 8.0 |
ApertureValue | 8.0 |
ApproximateFocusDistance | 4294967295 |
AutoLateralCA | 0 |
BitsPerSample (1) | 8 8 8 |
BitsPerSample (4) | 16, 16, 16 |
BitsPerSample | 16 16 16 |
Blacks2012 | -61 |
BlueHue | 0 |
BlueSaturation | 0 |
CameraProfile | Adobe Standard |
ChromaticityChannel1 | 0.7347 0.2653 |
ChromaticityChannel2 | 0.15961 0.84039 |
ChromaticityChannel3 | 0.03661 0.00011 |
ChromaticityChannels | 3 |
ChromaticityColorant | Unknown (0) |
Clarity2012 | 0 |
ColorGradeBlending | 50 |
ColorGradeGlobalHue | 0 |
ColorGradeGlobalLum | 0 |
ColorGradeGlobalSat | 0 |
ColorGradeHighlightLum | 0 |
ColorGradeMidtoneHue | 0 |
ColorGradeMidtoneLum | 0 |
ColorGradeMidtoneSat | 0 |
ColorGradeShadowLum | 0 |
ColorMode | RGB |
ColorNoiseReduction | 25 |
ColorNoiseReductionDetail | 50 |
ColorNoiseReductionSmoothness | 50 |
ColorSpace | Uncalibrated |
ColorTemperature | 6300 |
CompatibleVersion | 251854848 |
Contrast2012 | 0 |
CreateDate | 2024:01:10 15:56:17 |
CreatorTool | Adobe Photoshop Lightroom Classic 13.1 (Macintosh) |
CropAngle | 0.23 |
CropBottom | 0.797728 |
CropConstrainToWarp | 0 |
CropLeft | 0.038167 |
CropRight | 0.998392 |
CropTop | 0.191029 |
CustomRendered | Normal |
DateCreated (1) | 2024:01:10 15:56:17.082 |
DateCreated | 2024:01:10 |
DateTimeOriginal | 2024:01:10 15:56:17 |
DefringeGreenAmount | 0 |
DefringeGreenHueHi | 60 |
DefringeGreenHueLo | 40 |
DefringePurpleAmount | 0 |
DefringePurpleHueHi | 70 |
DefringePurpleHueLo | 30 |
Dehaze | 0 |
ExifImageHeight | 650 |
ExifImageWidth | 1500 |
Exposure2012 | +1.20 |
ExposureCompensation | -1 |
ExposureMode | Auto |
ExposureProgram | Aperture-priority AE |
ExposureTime | 1/60 |
Firmware | 1.0.3 |
Flash | Off, Did not fire |
FlashCompensation | 0 |
FlashFired | False |
FlashFunction | False |
FlashMode | Off |
FlashRedEyeMode | False |
FlashReturn | No return detection |
FNumber | 8.0 |
FocalLength | 20.0 mm |
FocalLength35efl | 20.0 mm |
Format | image/tiff |
GrainAmount | 0 |
GreenHue | 0 |
GreenSaturation | 0 |
HasCrop | True |
HasSettings | True |
HDREditMode | 0 |
Highlights2012 | 0 |
HueAdjustmentAqua | 0 |
HueAdjustmentBlue | 0 |
HueAdjustmentGreen | 0 |
HueAdjustmentMagenta | 0 |
HueAdjustmentOrange | 0 |
HueAdjustmentPurple | 0 |
HueAdjustmentRed | 0 |
HueAdjustmentYellow | 0 |
ICCProfileName | ProPhoto |
ImageHeight (1) | 325 |
ImageHeight (2) | 163 |
ImageHeight (3) | 82 |
ImageHeight (4) | 2420 |
ImageHeight | 650 |
ImageNumber | 0 |
ImageSize | 1500x650 |
ImageWidth (1) | 750 |
ImageWidth (2) | 375 |
ImageWidth (3) | 188 |
ImageWidth (4) | 6002 |
ImageWidth | 1500 |
ISO | 400 |
Lens | 20mm F1.4 DG HSM | Art 015 |
LensID (1) | 180 |
LensID | Sigma 20mm f/1.4 DG HSM | A |
LensInfo (1) | 20 |
LensInfo (2) | 20mm f/? |
LensInfo | 20mm f/0 |
LensManualDistortionAmount | 0 |
LensModel | 20mm F1.4 DG HSM | Art 015 |
LensProfileEnable | 0 |
LensSerialNumber | 0000000000 |
LightValue | 9.9 |
LookAmount | 1 |
LookGroup | Profiles |
LookName | Adobe Color |
LookParametersCameraProfile | Adobe Standard |
LookParametersConvertToGrayscale | False |
LookParametersLookTable | E1095149FDB39D7A057BAB208837E2E1 |
LookParametersProcessVersion | 15.4 |
LookParametersToneCurvePV2012 | 0, 0, 22, 16, 40, 35, 127, 127, 224, 230, 240, 246, 255, 255 |
LookParametersToneCurvePV2012Blue | 0, 0, 255, 255 |
LookParametersToneCurvePV2012Green | 0, 0, 255, 255 |
LookParametersToneCurvePV2012Red | 0, 0, 255, 255 |
LookParametersVersion | 16.1 |
LookSupportsAmount | false |
LookSupportsMonochrome | false |
LookSupportsOutputReferred | false |
LuminanceAdjustmentAqua | 0 |
LuminanceAdjustmentBlue | 0 |
LuminanceAdjustmentGreen | 0 |
LuminanceAdjustmentMagenta | 0 |
LuminanceAdjustmentOrange | 0 |
LuminanceAdjustmentPurple | 0 |
LuminanceAdjustmentRed | 0 |
LuminanceAdjustmentYellow | 0 |
LuminanceSmoothing | 0 |
Make | Canon |
MaxApertureValue | 1.4 |
Megapixels | 0.975 |
MeteringMode | Partial |
Model | Canon EOS 6D Mark II |
ModifyDate (1) | 2024:01:12 14:50:47+01:00 |
ModifyDate | 2024:01:12 14:50:47 |
Orientation | Horizontal (normal) |
OverrideLookVignette | False |
ParametricDarks | 0 |
ParametricHighlights | 0 |
ParametricHighlightSplit | 75 |
ParametricLights | 0 |
ParametricMidtoneSplit | 50 |
ParametricShadows | 0 |
ParametricShadowSplit | 25 |
PerspectiveAspect | 0 |
PerspectiveHorizontal | 0 |
PerspectiveRotate | 0.0 |
PerspectiveScale | 100 |
PerspectiveUpright | 0 |
PerspectiveVertical | 0 |
PerspectiveX | 0.00 |
PerspectiveY | 0.00 |
PhotometricInterpretation | RGB |
PlanarConfiguration | Chunky |
PointColors | -1.000000, -1.000000, -1.000000, -1.000000, -1.000000, -1.000000, -1.000000, -1.000000, -1.000000, -1.000000, -1.000000, -1.000000, -1.000000, -1.000000, -1.000000, -1.000000, -1.000000, -1.000000, -1.000000 |
PostCropVignetteAmount | 0 |
PreservedFileName | _MG_7428.CR2 |
ProcessVersion | 15.4 |
ProfileDescription | ProPhoto |
RawFileName | _MG_7428.CR2 |
RecommendedExposureIndex | 400 |
RedHue | 0 |
RedSaturation | 0 |
RowsPerStrip (1) | 325 |
RowsPerStrip (2) | 163 |
RowsPerStrip (3) | 82 |
RowsPerStrip | 650 |
SamplesPerPixel | 3 |
Saturation | +44 |
SaturationAdjustmentAqua | 0 |
SaturationAdjustmentBlue | 0 |
SaturationAdjustmentGreen | 0 |
SaturationAdjustmentMagenta | 0 |
SaturationAdjustmentOrange | 0 |
SaturationAdjustmentPurple | 0 |
SaturationAdjustmentRed | 0 |
SaturationAdjustmentYellow | 0 |
SceneCaptureType | Standard |
SensitivityType (1) | 2 |
SensitivityType | Recommended Exposure Index |
SerialNumber | 123051000020 |
Shadows2012 | 0 |
ShadowTint | 0 |
SharpenDetail | 25 |
SharpenEdgeMasking | 0 |
SharpenRadius | +1.0 |
Sharpness | 40 |
ShutterSpeed | 1/60 |
ShutterSpeedValue | 1/60 |
Software | Adobe Photoshop 25.0 (Macintosh) |
SplitToningBalance | 0 |
SplitToningHighlightHue | 0 |
SplitToningHighlightSaturation | 0 |
SplitToningShadowHue | 0 |
SplitToningShadowSaturation | 0 |
StripByteCounts (1) | 5850000 |
StripByteCounts (2) | 731250 |
StripByteCounts (3) | 183375 |
StripByteCounts | 46248 |
StripOffsets (1) | 49834 |
StripOffsets (2) | 5900632 |
StripOffsets (3) | 6632090 |
StripOffsets | 6815674 |
SubfileType (1) | Full-resolution Image |
SubfileType | Reduced-resolution image |
Texture | 0 |
This work is licensed under the Creative Commons Attribution-Share Alike 3.0 United States License. To view a copy of this license, visit http://creativecommons.org/licenses/by-sa/3.0/us/ or send a letter to Creative Commons, 171 Second Street, Suite 300, San Francisco, California, 94105, USA. |
Tint | -2 |
ToneCurveName2012 | Linear |
ToneCurvePV2012 | 0, 0, 255, 255 |
ToneCurvePV2012Blue | 0, 0, 255, 255 |
ToneCurvePV2012Green | 0, 0, 255, 255 |
ToneCurvePV2012Red | 0, 0, 255, 255 |
URL_List | |
Version | 16.1 |
Vibrance | 0 |
VignetteAmount | 0 |
WhiteBalance (2) | Auto |
WhiteBalance | As Shot |
Whites2012 | 0 |