Felt | Verdi |
AlreadyApplied | True |
Aperture | 10.0 |
ApertureValue | 10.0 |
ApproximateFocusDistance | 3.43 |
AutoLateralCA | 0 |
AutoWhiteVersion | 134348800 |
BitsPerSample (1) | 8 8 8 |
BitsPerSample | 8 |
Blacks2012 | -31 |
BlueHue | 0 |
BlueSaturation | 0 |
CameraProfile | Adobe Standard |
CircGradBasedCorrActive | true |
CircGradBasedCorrAmount | 1.000000 |
CircGradBasedCorrBrightness | 0.000000 |
CircGradBasedCorrClarity2012 | 0.000000 |
CircGradBasedCorrContrast2012 | 0.013994 |
CircGradBasedCorrDefringe | 0.000000 |
CircGradBasedCorrExposure2012 | -0.389070 |
CircGradBasedCorrHighlights2012 | -0.011567 |
CircGradBasedCorrHue | 233.000000 |
CircGradBasedCorrLocalBlacks2012 | 0.000000 |
CircGradBasedCorrLocalDehaze | 0.000000 |
CircGradBasedCorrLocalWhites2012 | 0.000000 |
CircGradBasedCorrLuminanceNoise | 0.000000 |
CircGradBasedCorrMaskAngle | -3.592960 |
CircGradBasedCorrMaskBottom | 0.863400 |
CircGradBasedCorrMaskFeather | +50 |
CircGradBasedCorrMaskFlipped | false |
CircGradBasedCorrMaskLeft | 0.153761 |
CircGradBasedCorrMaskMidpoint | +50 |
CircGradBasedCorrMaskRight | 0.804121 |
CircGradBasedCorrMaskRoundness | 0 |
CircGradBasedCorrMaskTop | 0.220979 |
CircGradBasedCorrMaskValue | 1.000000 |
CircGradBasedCorrMaskVersion | +2 |
CircGradBasedCorrMaskWhat | Mask/CircularGradient |
CircGradBasedCorrMoire | 0.000000 |
CircGradBasedCorrSaturation (1) | 0.023665 |
CircGradBasedCorrSaturation | 0.000000 |
CircGradBasedCorrShadows2012 | -0.006864 |
CircGradBasedCorrSharpness | 0.012894 |
CircGradBasedCorrTemperature | 0.001024 |
CircGradBasedCorrTint | 0.001327 |
CircGradBasedCorrWhat | Correction |
CircleOfConfusion | 0.031 mm |
Clarity2012 | +70 |
ColorComponents | 3 |
ColorMode | RGB |
ColorNoiseReduction | 25 |
ColorNoiseReductionDetail | 50 |
ColorNoiseReductionSmoothness | 50 |
ColorSpace | Uncalibrated |
ColorTemperature | 3854 |
ColorTransform | YCbCr |
Contrast2012 | +29 |
ConvertToGrayscale | True |
CreateDate | 2016:10:07 16:26:06 |
CreatorTool | Adobe Photoshop CC 2015 (Macintosh) |
CropAngle | -3.59296 |
CropBottom | 0.793404 |
CropConstrainToWarp | 0 |
CropLeft | 0.071881 |
CropRight | 0.834061 |
CropTop | 0.154427 |
CustomRendered | Normal |
DateCreated (1) | 2016:10:07 |
DateCreated | 2016:10:07 16:26:06 |
DateTimeOriginal | 2016:10:07 16:26:06 |
Dehaze | 0 |
DOF | 8.90 m (2.03 - 10.94 m) |
ExifImageHeight | 1031 |
ExifImageWidth | 1600 |
Exposure2012 | +0.75 |
ExposureCompensation | 0 |
ExposureMode | Manual |
ExposureProgram | Manual |
ExposureTime | 1/250 |
Firmware | 1.0.6 |
Flash | Off, Did not fire |
FlashCompensation | 0 |
FNumber | 10.0 |
FocalLength | 39.0 mm |
FocalLength35efl | 39.0 mm (35 mm equivalent: 38.1 mm) |
Format | image/jpeg |
FOV | 50.6 deg |
GrainAmount | 0 |
GrayMixerAqua | -16 |
GrayMixerBlue | -26 |
GrayMixerGreen | -19 |
GrayMixerMagenta | +5 |
GrayMixerOrange | +81 |
GrayMixerPurple | +20 |
GrayMixerRed | +8 |
GrayMixerYellow | +38 |
GreenHue | 0 |
GreenSaturation | 0 |
HasCrop | True |
HasSettings | True |
Highlights2012 | +7 |
HyperfocalDistance | 4.94 m |
ICCProfileName | Adobe RGB (1998) |
ImageHeight (1) | 2656 |
ImageHeight | 1031 |
ImageNumber | 0 |
ImageSize | 1600x1031 |
ImageWidth (1) | 4122 |
ImageWidth | 1600 |
ISO | 800 |
Label | Red |
Lens | 24-70mm |
LensID (1) | 137 |
LensID | Sigma 24-70mm f/2.8 IF EX DG HSM or Tamron SP 24-70mm f/2.8 Di VC USD |
LensInfo | 24-70mm f/? |
LensManualDistortionAmount | 0 |
LensModel | 24-70mm |
LensProfileEnable | 0 |
LensProfileSetup | LensDefaults |
LightValue | 11.6 |
LuminanceSmoothing | 0 |
Make | Canon |
MaxApertureValue | 2.8 |
Megapixels | 1.6 |
MeteringMode | Partial |
Model | Canon EOS 5D Mark II |
ModifyDate (1) | 2024:01:23 12:32:38+01:00 |
ModifyDate | 2024:01:23 12:32:38 |
Orientation | Horizontal (normal) |
OriginatingProgram | Topaz Labs |
PaintCorrectionActive | true |
PaintCorrectionAmount | 1.000000 |
PaintCorrectionBrightness | 0.000000 |
PaintCorrectionClarity2012 | 0.000000 |
PaintCorrectionContrast2012 | 0.013994 |
PaintCorrectionDefringe | 0.000000 |
PaintCorrectionExposure2012 (1) | 0.216892 |
PaintCorrectionExposure2012 (10) | 0.444099 |
PaintCorrectionExposure2012 (2) | -0.613888 |
PaintCorrectionExposure2012 (3) | 0.756258 |
PaintCorrectionExposure2012 (4) | 0.085938 |
PaintCorrectionExposure2012 (5) | -0.491239 |
PaintCorrectionExposure2012 (6) | 0.131220 |
PaintCorrectionExposure2012 (7) | 0.421458 |
PaintCorrectionExposure2012 (8) | 0.569364 |
PaintCorrectionExposure2012 (9) | -0.671117 |
PaintCorrectionExposure2012 | 0.437652 |
PaintCorrectionHighlights2012 | -0.011567 |
PaintCorrectionHue | 233.000000 |
PaintCorrectionLocalBlacks2012 | 0.000000 |
PaintCorrectionLocalDehaze | 0.000000 |
PaintCorrectionLocalWhites2012 | 0.000000 |
PaintCorrectionLuminanceNoise | 0.000000 |
PaintCorrectionMaskCenterWeight | 0.000000 |
PaintCorrectionMaskFlow | 0.519428 |
PaintCorrectionMaskRadius (1) | 0.095504 |
PaintCorrectionMaskRadius (10) | 0.014705 |
PaintCorrectionMaskRadius (11) | 0.060780 |
PaintCorrectionMaskRadius (2) | 0.039412 |
PaintCorrectionMaskRadius (4) | 0.019468 |
PaintCorrectionMaskRadius (5) | 0.044621 |
PaintCorrectionMaskRadius (6) | 0.114068 |
PaintCorrectionMaskRadius (7) | 0.107791 |
PaintCorrectionMaskRadius (9) | 0.024321 |
PaintCorrectionMaskRadius | 0.049918 |
PaintCorrectionMaskValue | 1.000000 |
PaintCorrectionMaskWhat | Mask/Paint |
PaintCorrectionMoire | 0.000000 |
PaintCorrectionSaturation (17) | 0.023665 |
PaintCorrectionSaturation | 0.000000 |
PaintCorrectionShadows2012 | -0.006864 |
PaintCorrectionSharpness | 0.012894 |
PaintCorrectionTemperature | 0.001024 |
PaintCorrectionTint | 0.001327 |
PaintCorrectionWhat | Correction |
ParametricDarks | 0 |
ParametricHighlights | 0 |
ParametricHighlightSplit | 75 |
ParametricLights | 0 |
ParametricMidtoneSplit | 50 |
ParametricShadows | 0 |
ParametricShadowSplit | 25 |
PerspectiveAspect | 0 |
PerspectiveHorizontal | 0 |
PerspectiveRotate | 0.0 |
PerspectiveScale | 100 |
PerspectiveUpright | 0 |
PerspectiveVertical | 0 |
PhotometricInterpretation | RGB |
PostCropVignetteAmount | 0 |
ProcessVersion | 6.7 |
ProfileDescription | Adobe RGB (1998) |
RedHue | 0 |
RedSaturation | 0 |
SamplesPerPixel | 3 |
ScaleFactor35efl | 1.0 |
SceneCaptureType | Standard |
SerialNumber | 130101597 |
Shadows2012 | +59 |
ShadowTint | 0 |
SharpenDetail | 25 |
SharpenEdgeMasking | 0 |
SharpenRadius | +1.0 |
Sharpness | 25 |
ShutterSpeed | 1/250 |
ShutterSpeedValue | 1/250 |
Software | Adobe Photoshop 25.0 (Macintosh) |
SplitToningBalance | 0 |
SplitToningHighlightHue | 242 |
SplitToningHighlightSaturation | 76 |
SplitToningShadowHue | 242 |
SplitToningShadowSaturation | 65 |
Tint | -48 |
ToneCurve | 0, 0, 255, 255 |
ToneCurveBlue | 0, 0, 255, 255 |
ToneCurveGreen | 0, 0, 255, 255 |
ToneCurveName | Linear |
ToneCurveName2012 | Linear |
ToneCurvePV2012 | 0, 0, 255, 255 |
ToneCurvePV2012Blue | 0, 0, 255, 255 |
ToneCurvePV2012Green | 0, 0, 255, 255 |
ToneCurvePV2012Red | 0, 0, 255, 255 |
ToneCurveRed | 0, 0, 255, 255 |
ToneMapStrength | 0 |
URL_List | |
Version | 9.3 |
VignetteAmount | 0 |
WhiteBalance (1) | Custom |
WhiteBalance | Auto |
Whites2012 | 0 |