Felt | Verdi |
AlreadyApplied | True |
Aperture | 9.0 |
ApertureValue | 9.0 |
AutoLateralCA | 0 |
BitsPerSample | 8 |
Blacks2012 | -18 |
BlueHue | -31 |
BlueSaturation | -20 |
BrightnessValue | 8.8453125 |
CameraProfile | Embedded |
CircleOfConfusion | 0.020 mm |
Clarity2012 | +5 |
ColorComponents | 3 |
ColorGradeBlending | 100 |
ColorGradeGlobalHue | 0 |
ColorGradeGlobalLum | 0 |
ColorGradeGlobalSat | 0 |
ColorGradeHighlightLum | 0 |
ColorGradeMidtoneHue | 0 |
ColorGradeMidtoneLum | 0 |
ColorGradeMidtoneSat | 0 |
ColorGradeShadowLum | 0 |
ColorNoiseReduction | 25 |
ColorNoiseReductionDetail | 13 |
ColorNoiseReductionSmoothness | 12 |
ColorSpace | sRGB |
ColorTransform | YCbCr |
Contrast | Normal |
Contrast2012 | +5 |
ConvertToGrayscale | False |
CreateDate | 2024:02:26 17:07:16 |
CreatorTool | NEX-5N v1.02 |
CropAngle | 0.44 |
CropBottom | 0.855357 |
CropConstrainToWarp | 0 |
CropLeft | 0.063656 |
CropRight | 0.99569 |
CropTop | 0 |
CurveRefineSaturation | 100 |
CustomRendered | Normal |
DateCreated (1) | 2024:02:26 17:07:16 |
DateCreated | 2024:02:26 |
DateTimeOriginal | 2024:02:26 17:07:16 |
DefringeGreenAmount | 0 |
DefringeGreenHueHi | 60 |
DefringeGreenHueLo | 40 |
DefringePurpleAmount | 0 |
DefringePurpleHueHi | 70 |
DefringePurpleHueLo | 30 |
Dehaze | 0 |
Exposure2012 | +0.30 |
ExposureCompensation | 0 |
ExposureMode | Auto |
ExposureProgram | Aperture-priority AE |
ExposureTime | 1/400 |
Flash | Off, Did not fire |
FNumber | 9.0 |
FocalLength | 37.0 mm |
FocalLength35efl | 37.0 mm (35 mm equivalent: 55.0 mm) |
FocalLengthIn35mmFormat | 55 mm |
Format | image/jpeg |
FOV | 36.2 deg |
GrainAmount | 0 |
GreenHue | +25 |
GreenSaturation | -5 |
HasCrop | True |
HasSettings | True |
HDREditMode | 0 |
Highlights2012 | -76 |
HueAdjustmentAqua | +5 |
HueAdjustmentBlue | +11 |
HueAdjustmentGreen | -100 |
HueAdjustmentMagenta | -3 |
HueAdjustmentOrange | -10 |
HueAdjustmentPurple | 0 |
HueAdjustmentRed | -4 |
HueAdjustmentYellow | -40 |
HyperfocalDistance | 7.53 m |
ImageHeight | 2756 |
ImageSize | 4599x2756 |
ImageWidth | 4599 |
IncrementalTemperature | +40 |
IncrementalTint | -11 |
ISO | 200 |
Lens | E 18-55mm F3.5-5.6 OSS |
LensInfo | 18-55mm f/3.5-5.6 |
LensManualDistortionAmount | 0 |
LensModel | E 18-55mm F3.5-5.6 OSS |
LensProfileEnable | 0 |
LightSource | Unknown |
LightValue | 14.0 |
LuminanceAdjustmentAqua | -13 |
LuminanceAdjustmentBlue | -29 |
LuminanceAdjustmentGreen | 0 |
LuminanceAdjustmentMagenta | +1 |
LuminanceAdjustmentOrange | -16 |
LuminanceAdjustmentPurple | +1 |
LuminanceAdjustmentRed | -10 |
LuminanceAdjustmentYellow | 0 |
LuminanceNoiseReductionContrast | 0 |
LuminanceNoiseReductionDetail | 10 |
LuminanceSmoothing | 5 |
Make | SONY |
MaxApertureValue | 4.5 |
Megapixels | 12.7 |
MeteringMode | Multi-segment |
Model | NEX-5N |
ModifyDate (1) | 2024:02:26 17:41:49+01:00 |
ModifyDate | 2024:02:26 17:41:49 |
OverrideLookVignette | False |
ParametricDarks | -2 |
ParametricHighlights | 0 |
ParametricHighlightSplit | 75 |
ParametricLights | -35 |
ParametricMidtoneSplit | 50 |
ParametricShadows | -8 |
ParametricShadowSplit | 25 |
PerspectiveAspect | 0 |
PerspectiveHorizontal | 0 |
PerspectiveRotate | 0.0 |
PerspectiveScale | 100 |
PerspectiveUpright | 0 |
PerspectiveVertical | 0 |
PerspectiveX | 0.00 |
PerspectiveY | 0.00 |
PointColors | -1.000000, -1.000000, -1.000000, -1.000000, -1.000000, -1.000000, -1.000000, -1.000000, -1.000000, -1.000000, -1.000000, -1.000000, -1.000000, -1.000000, -1.000000, -1.000000, -1.000000, -1.000000, -1.000000 |
PostCropVignetteAmount | 0 |
ProcessVersion | 15.4 |
ProfileDescription | sRGB IEC61966-2.1 |
RecommendedExposureIndex | 200 |
RedHue | +35 |
RedSaturation | +15 |
Saturation (1) | -17 |
Saturation | High |
SaturationAdjustmentAqua | -12 |
SaturationAdjustmentBlue | -1 |
SaturationAdjustmentGreen | -54 |
SaturationAdjustmentMagenta | -15 |
SaturationAdjustmentOrange | -14 |
SaturationAdjustmentPurple | -22 |
SaturationAdjustmentRed | 0 |
SaturationAdjustmentYellow | -75 |
ScaleFactor35efl | 1.5 |
SceneCaptureType | Standard |
SceneType | Directly photographed |
SensitivityType | Recommended Exposure Index |
Shadows2012 | +35 |
ShadowTint | 0 |
SharpenDetail | 10 |
SharpenEdgeMasking | 16 |
SharpenRadius | +0.5 |
Sharpness (1) | 41 |
Sharpness | Normal |
ShutterSpeed | 1/400 |
ShutterSpeedValue | 1/400 |
Software | NEX-5N v1.02 |
SplitToningBalance | 0 |
SplitToningHighlightHue | 0 |
SplitToningHighlightSaturation | 0 |
SplitToningShadowHue | 48 |
SplitToningShadowSaturation | 18 |
Texture | 0 |
ToneCurveName2012 | Custom |
ToneCurvePV2012 | 0, 0, 61, 63, 170, 158, 255, 208 |
ToneCurvePV2012Blue | 0, 0, 39, 11, 84, 65, 122, 124, 187, 200, 255, 255 |
ToneCurvePV2012Green | 0, 0, 39, 12, 84, 63, 123, 126, 207, 212, 255, 255 |
ToneCurvePV2012Red | 0, 0, 39, 11, 82, 56, 123, 126, 186, 194, 255, 255 |
Version | 16.2 |
Vibrance | +12 |
VignetteAmount | 0 |
WhiteBalance (1) | Custom |
WhiteBalance | Auto |
Whites2012 | +32 |