Felt | Verdi |
AlreadyApplied | True |
Aperture | 7.1 |
ApertureValue | 7.1 |
BitsPerSample | 8 |
BlueHue | 0 |
BlueSaturation | 0 |
Brightness | +39 |
CameraProfile | ACR 2.4 |
CFAPattern | [Green,Blue][Red,Green] |
ChromaticAberrationB | 0 |
ChromaticAberrationR | 0 |
CircleOfConfusion | 0.020 mm |
ColorComponents | 3 |
ColorMode | RGB |
ColorNoiseReduction | 25 |
ColorSpace | sRGB |
ColorTemperature | 4500 |
Contrast (2) | 0 |
Contrast | Normal |
ConvertToGrayscale | False |
Copyright | Wenche Jensen |
CopyrightFlag | False |
CopyrightNotice | Wenche Jensen |
CreateDate (1) | 2007:03:10 22:36:16+01:00 |
CreateDate | 2007:03:10 13:43:39 |
CreatorTool | Adobe Photoshop CS2 Windows |
CropAngle | 0 |
CropBottom | 0.796912 |
CropHeight | 2571 |
CropLeft | 0.177813 |
CropRight | 0.907946 |
CropTop | 0.051069 |
CropUnit | pixels |
CropWidth | 3800 |
CustomRendered | Normal |
DateTimeDigitized | 2007:03:10 13:43:39.00+01:00 |
DateTimeOriginal (1) | 2007:03:10 13:43:39.00+01:00 |
DateTimeOriginal | 2007:03:10 13:43:39 |
DigitalZoomRatio | 1 |
ExifImageHeight | 768 |
ExifImageWidth | 1135 |
Exposure | +1.40 |
ExposureCompensation | 0 |
ExposureMode | Auto |
ExposureProgram | Aperture-priority AE |
ExposureTime | 1/350 |
FillLight | 0 |
Flash | No Flash |
FlashFired | False |
FlashFunction | False |
FlashMode | Unknown |
FlashRedEyeMode | False |
FlashReturn | No return detection |
FNumber | 7.1 |
FocalLength | 200.0 mm |
FocalLength35efl | 200.0 mm (35 mm equivalent: 300.0 mm) |
FocalLengthIn35mmFormat | 300 mm |
Format | image/jpeg |
FOV | 6.9 deg |
GainControl | None |
GreenHue | 0 |
GreenSaturation | 0 |
HasCrop | True |
HasSettings | True |
HighlightRecovery | 0 |
HueAdjustmentAqua | 0 |
HueAdjustmentBlue | 0 |
HueAdjustmentGreen | 0 |
HueAdjustmentMagenta | 0 |
HueAdjustmentOrange | 0 |
HueAdjustmentPurple | 0 |
HueAdjustmentRed | 0 |
HueAdjustmentYellow | 0 |
HyperfocalDistance | 281.26 m |
ICCProfileName | sRGB IEC61966-2.1 |
ImageHeight (1) | 2571 |
ImageHeight | 768 |
ImageNumber | 53687 |
ImageSize | 1135x768 |
ImageWidth (1) | 3800 |
ImageWidth | 1135 |
ISO | 250 |
Keywords | Finnmarksløpet 2007, Hendelser |
Lens | 70.0-200.0 mm f/2.8 |
LensInfo | 70-200mm f/2.8 |
LightSource | Unknown |
LightValue | 12.8 |
LuminanceAdjustmentAqua | 0 |
LuminanceAdjustmentBlue | 0 |
LuminanceAdjustmentGreen | 0 |
LuminanceAdjustmentMagenta | 0 |
LuminanceAdjustmentOrange | 0 |
LuminanceAdjustmentPurple | 0 |
LuminanceAdjustmentRed | 0 |
LuminanceAdjustmentYellow | 0 |
LuminanceSmoothing | 0 |
Make | NIKON CORPORATION |
MaxApertureValue | 2.8 |
Megapixels | 0.872 |
MeteringMode | Multi-segment |
Model | NIKON D2H |
ModifyDate (1) | 2007:03:10 22:36:16+01:00 |
ModifyDate | 2007:03:10 22:36:16 |
Orientation | Horizontal (normal) |
ParametricDarks | 0 |
ParametricHighlights | +41 |
ParametricHighlightSplit | 75 |
ParametricLights | 0 |
ParametricMidtoneSplit | 50 |
ParametricShadows | 0 |
ParametricShadowSplit | 25 |
PrivateRTKInfo | cHJpdmF0ZVJUS0luZm8gPSB7Cgl7CgkJZmxhdCA9IHsKCQkJIkhlbmRlbHNlciIsCgkJCSJGaW5ubWFya3Nsw7hwZXQgMjAwNyIsCgkJfSwKCQlwYXRoID0gewoJCQkiSGVuZGVsc2VyIiwKCQkJIkZpbm5tYXJrc2zDuHBldCAyMDA3IiwKCQl9LAoJCXByaW1hcnkgPSAiRmlubm1hcmtzbMO4cGV0IDIwMDciLAoJCXV1aWQgPSAiNDM4QzQ1N0EtNDEwNS00QkFGLTk4MTgtM0NFNUY0ODk3NkYzIiwKCX0sCn0K |
ProfileDescription | sRGB IEC61966-2.1 |
Rating | 5 |
RedHue | 0 |
RedSaturation | 0 |
Rights | Wenche Jensen |
Saturation (2) | 0 |
Saturation | Normal |
SaturationAdjustmentAqua | 0 |
SaturationAdjustmentBlue | 0 |
SaturationAdjustmentGreen | 0 |
SaturationAdjustmentMagenta | 0 |
SaturationAdjustmentOrange | 0 |
SaturationAdjustmentPurple | 0 |
SaturationAdjustmentRed | 0 |
SaturationAdjustmentYellow | 0 |
ScaleFactor35efl | 1.5 |
SceneCaptureType | Standard |
SceneType | Directly photographed |
SensingMethod | One-chip color area |
Shadows | 7 |
ShadowTint | 0 |
Sharpness (2) | 25 |
Sharpness | Normal |
ShutterSpeed | 1/350 |
ShutterSpeedValue | 1/350 |
Software | Adobe Photoshop CS2 Windows |
SplitToningBalance | 0 |
SplitToningHighlightHue | 0 |
SplitToningHighlightSaturation | 0 |
SplitToningShadowHue | 0 |
SplitToningShadowSaturation | 0 |
Subject | Finnmarksløpet 2007, Hendelser |
SubjectDistanceRange | Unknown |
Tint | -3 |
ToneCurve | 0, 0, 32, 22, 64, 56, 128, 128, 192, 196, 255, 255 |
ToneCurveName | Medium Contrast |
URL_List | |
Version | 1.0 |
Vibrance | 0 |
VignetteAmount | 0 |
WhiteBalance (2) | Custom |
WhiteBalance | Manual |