Felt | Verdi |
AlreadyApplied | True |
Aperture | 14.0 |
ApertureValue | 14.0 |
BitsPerSample | 8 |
BlueHue | 0 |
BlueSaturation | 0 |
Brightness | +35 |
CameraProfile | ACR 2.4 |
CFAPattern | [Green,Red][Blue,Green] |
ChromaticAberrationB | 0 |
ChromaticAberrationR | 0 |
CircleOfConfusion | 0.020 mm |
ColorComponents | 1 |
ColorMode | Grayscale |
ColorSpace (1) | Unknown (-1) |
ColorSpace | Uncalibrated |
ColorTemperature | 5750 |
Contrast (2) | 0 |
Contrast | Normal |
ConvertToGrayscale | True |
CopyrightFlag | False |
CreateDate (1) | 2007:04:09 17:21:26+02:00 |
CreateDate | 2007:04:07 16:50:31 |
CreatorTool | Adobe Photoshop CS2 Windows |
CropAngle | 0 |
CropBottom | 0.983095 |
CropHeight | 2340 |
CropLeft | 0.317114 |
CropRight | 0.921443 |
CropTop | 0.080331 |
CropUnit | pixels |
CropWidth | 2340 |
CustomRendered | Normal |
DateTimeDigitized | 2007:04:07 16:50:31.49+02:00 |
DateTimeOriginal (1) | 2007:04:07 16:50:31.49+02:00 |
DateTimeOriginal | 2007:04:07 16:50:31 |
DigitalZoomRatio | 1 |
ExifImageHeight | 768 |
ExifImageWidth | 768 |
Exposure | -0.14 |
ExposureCompensation | 0 |
ExposureMode | Auto |
ExposureProgram | Aperture-priority AE |
ExposureTime | 1/20 |
FillLight | 0 |
Flash | No Flash |
FlashFired | False |
FlashFunction | False |
FlashMode | Unknown |
FlashRedEyeMode | False |
FlashReturn | No return detection |
FNumber | 14.0 |
FocalLength | 10.0 mm |
FocalLength35efl | 10.0 mm (35 mm equivalent: 15.0 mm) |
FocalLengthIn35mmFormat | 15 mm |
Format | image/jpeg |
FOV | 100.4 deg |
GainControl | None |
GrayMixerAqua | -18 |
GrayMixerBlue | +9 |
GrayMixerGreen | -27 |
GrayMixerMagenta | +4 |
GrayMixerOrange | -19 |
GrayMixerPurple | +16 |
GrayMixerRed | -10 |
GrayMixerYellow | -23 |
GreenHue | 0 |
GreenSaturation | 0 |
HasCrop | True |
HasSettings | True |
HighlightRecovery | 18 |
HyperfocalDistance | 0.36 m |
ICCProfileName | Dot Gain 20% |
ImageHeight (1) | 2340 |
ImageHeight | 768 |
ImageNumber | 5204 |
ImageSize | 768x768 |
ImageWidth (1) | 2340 |
ImageWidth | 768 |
ISO | 100 |
Lens | 10.0-20.0 mm f/4.0-5.6 |
LensInfo | 10-20mm f/4-5.6 |
LightSource | Unknown |
LightValue | 11.9 |
LuminanceSmoothing | 0 |
Make | NIKON CORPORATION |
MaxApertureValue | 4.0 |
Megapixels | 0.590 |
MeteringMode | Multi-segment |
Model | NIKON D200 |
ModifyDate (1) | 2007:04:09 17:27:10+02:00 |
ModifyDate | 2007:04:09 17:27:10 |
Orientation | Horizontal (normal) |
ParametricDarks | -74 |
ParametricHighlights | 0 |
ParametricHighlightSplit | 75 |
ParametricLights | -59 |
ParametricMidtoneSplit | 50 |
ParametricShadows | -44 |
ParametricShadowSplit | 25 |
ProfileDescription | Dot Gain 20% |
RedHue | 0 |
RedSaturation | 0 |
Saturation | Normal |
ScaleFactor35efl | 1.5 |
SceneCaptureType | Standard |
SceneType | Directly photographed |
SensingMethod | One-chip color area |
Shadows | 16 |
ShadowTint | 0 |
Sharpness (2) | 25 |
Sharpness | Normal |
ShutterSpeed | 1/20 |
ShutterSpeedValue | 1/20 |
Software | Adobe Photoshop CS2 Windows |
SplitToningBalance | 0 |
SplitToningHighlightHue | 0 |
SplitToningHighlightSaturation | 0 |
SplitToningShadowHue | 0 |
SplitToningShadowSaturation | 0 |
SubjectDistanceRange | Unknown |
Tint | 0 |
ToneCurve | 0, 0, 255, 255 |
ToneCurveName | Linear |
URL_List | |
Version | 1.0 |
VignetteAmount | -100 |
VignetteMidpoint | 0 |
WhiteBalance | Auto |