Felt | Verdi |
AlreadyApplied | True |
Aperture | 7.1 |
ApertureValue | 7.1 |
Artist | unknown |
AuthorsPosition | |
BitsPerSample | 8 |
BlueHue | 0 |
BlueSaturation | 0 |
Brightness | +48 |
By-line | Kristoffer Øverli Andersen |
CameraProfile | ACR 3.1 |
Caption-Abstract | Zambezi sun cruise solnedgang ettermiddag Solnedgang Victoria Falls båt |
Category (1) | nat |
Category | natur |
ChromaticAberrationB | 0 |
ChromaticAberrationR | 0 |
CircleOfConfusion | 0.019 mm |
City | Livingstone |
ColorComponents | 3 |
ColorNoiseReduction | 25 |
ColorTemperature | 3900 |
Contrast | +14 |
ConvertToGrayscale | False |
Copyright | Foto: Kristoffer Overli Andersen |
CopyrightNotice | Foto: Kristoffer Øverli Andersen |
Country | Zambia |
Country-PrimaryLocationName | Zambia |
CreateDate | 2007:03:02 18:38:26 |
Creator | Kristoffer Øverli Andersen, Kristoffer Øverli Andersen |
CreatorAddress | Kløverenga 45 |
CreatorCity | Lillehammer |
CreatorCountry | Norway |
CreatorPostalCode | 2611 |
CreatorRegion | Oppland |
CreatorTool | Adobe Photoshop Lightroom |
CreatorWorkEmail | andkris@broadpark.no |
CreatorWorkTelephone | +47 90747320 |
CreatorWorkURL | www.koafoto.com |
CustomRendered | Normal |
DateTimeDigitized | 2007:03:02 18:38:26+01:00 |
DateTimeOriginal (1) | 2007:03:02 18:38:26+01:00 |
DateTimeOriginal | 2007:03:02 18:38:26 |
Description | Zambezi sun cruise solnedgang ettermiddag Solnedgang Victoria Falls båt |
Exposure | 0.00 |
ExposureCompensation | 0 |
ExposureMode | Auto |
ExposureProgram | Aperture-priority AE |
ExposureTime | 1/200 |
FillLight | 0 |
Firmware | 1.0.3 |
Flash | Off, Did not fire |
FlashCompensation | 0 |
FlashFired | False |
FlashFunction | False |
FlashMode | Off |
FlashRedEyeMode | False |
FlashReturn | No return detection |
FNumber | 7.1 |
FocalLength | 21.0 mm |
FocalLength35efl | 21.0 mm (35 mm equivalent: 34.1 mm) |
FOV | 55.7 deg |
GreenHue | 0 |
GreenSaturation | 0 |
HasCrop | False |
HasSettings | True |
Headline | Tv-aksjon's tur våren 2007 |
HighlightRecovery | 20 |
HueAdjustmentAqua | 0 |
HueAdjustmentBlue | 0 |
HueAdjustmentGreen | 0 |
HueAdjustmentMagenta | 0 |
HueAdjustmentOrange | 0 |
HueAdjustmentPurple | 0 |
HueAdjustmentRed | 0 |
HueAdjustmentYellow | 0 |
HyperfocalDistance | 3.35 m |
ImageDescription | Zambezi sun cruise solnedgang ettermiddag Solnedgang Victoria Falls bat |
ImageHeight | 667 |
ImageNumber | 2 |
ImageSize | 1000x667 |
ImageWidth | 1000 |
IntellectualGenre | Natur/landskap |
ISO | 200 |
Lens | 17.0-50.0 mm |
LensInfo | 17-50mm f/? |
LightValue | 12.3 |
Location | Zambezi |
LuminanceAdjustmentAqua | 0 |
LuminanceAdjustmentBlue | 0 |
LuminanceAdjustmentGreen | 0 |
LuminanceAdjustmentMagenta | 0 |
LuminanceAdjustmentOrange | 0 |
LuminanceAdjustmentPurple | 0 |
LuminanceAdjustmentRed | 0 |
LuminanceAdjustmentYellow | 0 |
LuminanceSmoothing | 0 |
Make | Canon |
MaxApertureValue | 2.8 |
Megapixels | 0.667 |
MeteringMode | Average |
Model | Canon EOS 350D DIGITAL |
ModifyDate (1) | 2007:05:18 10:05:19+02:00 |
ModifyDate | 2007:05:18 10:05:19 |
OwnerName | unknown |
ParametricDarks | 0 |
ParametricHighlights | 0 |
ParametricHighlightSplit | 75 |
ParametricLights | 0 |
ParametricMidtoneSplit | 50 |
ParametricShadows | 0 |
ParametricShadowSplit | 25 |
ProfileDescription | Adobe RGB (1998) |
Province-State | Livingstone |
RedHue | 0 |
RedSaturation | 0 |
Rights | Foto: Kristoffer Øverli Andersen |
Saturation | 0 |
SaturationAdjustmentAqua | 0 |
SaturationAdjustmentBlue | 0 |
SaturationAdjustmentGreen | 0 |
SaturationAdjustmentMagenta | 0 |
SaturationAdjustmentOrange | 0 |
SaturationAdjustmentPurple | 0 |
SaturationAdjustmentRed | 0 |
SaturationAdjustmentYellow | 0 |
ScaleFactor35efl | 1.6 |
Scene | Solnedgang Zambezi/Victoria Falls |
SceneCaptureType | Standard |
SerialNumber | 1930773710 |
Shadows | 1 |
ShadowTint | 0 |
Sharpness | 25 |
ShutterSpeed | 1/200 |
ShutterSpeedValue | 1/200 |
SplitToningBalance | 0 |
SplitToningHighlightHue | 0 |
SplitToningHighlightSaturation | 0 |
SplitToningShadowHue | 0 |
SplitToningShadowSaturation | 0 |
State | Livingstone |
Sub-location | Zambezi |
SupplementalCategories | Landskap |
Tint | 0 |
ToneCurve | 0, 0, 32, 22, 64, 56, 128, 128, 192, 196, 255, 255 |
ToneCurveName | Medium Contrast |
UsageTerms | |
Version | 1.0 |
Vibrance | 0 |
VignetteAmount | 0 |
WebStatement | |
WhiteBalance | Auto |