Felt | Verdi |
AlreadyApplied | True |
Aperture | 16.0 |
ApertureValue | 16.0 |
Artist | Daniel N Heimstad |
AuthorsPosition | photographer |
BitsPerSample (1) | 8, 8, 8 |
BitsPerSample (2) | 8 8 8 |
BitsPerSample | 8 |
BlueHue | 0 |
BlueSaturation | 0 |
Brightness | 0 |
By-line | Daniel N Heimstad |
By-lineTitle | photographer |
CameraProfile | ACR 3.7 |
Caption-Abstract | Nature photography |
ChromaticAberrationB | 0 |
ChromaticAberrationR | 0 |
CircleOfConfusion | 0.020 mm |
City | Lesja |
ColorComponents | 3 |
ColorMode | RGB |
ColorNoiseReduction | 25 |
ColorSpace (1) | Unknown (-1) |
ColorSpace | Uncalibrated |
ColorTemperature | 50000 |
Contrast (2) | -13 |
Contrast | Normal |
ConvertToGrayscale | False |
Copyright | (c) Daniel N Heimstad |
CopyrightFlag | False |
CopyrightNotice | (c) Daniel N Heimstad |
Country | Norway |
Country-PrimaryLocationName | Norway |
CreateDate (1) | 2007:07:29 20:48:32+02:00 |
CreateDate | 2007:07:26 21:57:53 |
Creator | Daniel N Heimstad |
CreatorAddress | Biristrandv 424 |
CreatorCity | Biristrand |
CreatorCountry | Norway |
CreatorPostalCode | N-2837 |
CreatorRegion | Oppland |
CreatorTool | Adobe Photoshop CS3 Macintosh |
CreatorWorkEmail | heimstad@mac.com
CreatorWorkTelephone | +47 94891388 |
CustomRendered | Normal |
DateCreated | 2007:07:26 |
DateTimeDigitized | 2007:07:26 21:57:53+02:00 |
DateTimeOriginal (1) | 2007:07:26 21:57:53+02:00 |
DateTimeOriginal | 2007:07:26 21:57:53 |
Description | Nature photography |
ExifImageHeight | 680 |
ExifImageWidth | 1000 |
Exposure | +0.80 |
ExposureCompensation | 0 |
ExposureMode | Manual |
ExposureProgram | Manual |
ExposureTime | 0.5 |
FillLight | 6 |
Flash | Off, Did not fire |
FlashFired | False |
FlashFunction | False |
FlashMode | Off |
FlashRedEyeMode | False |
FlashReturn | No return detection |
FNumber | 16.0 |
FocalLength | 14.0 mm |
FocalLength35efl | 14.0 mm (35 mm equivalent: 21.0 mm) |
FocalLengthIn35mmFormat | 21 mm |
Format | image/jpeg |
FOV | 81.2 deg |
GreenHue | 0 |
GreenSaturation | 0 |
HasCrop | False |
HasSettings | True |
Headline | Fishers in sunset |
HighlightRecovery | 0 |
HueAdjustmentAqua | 0 |
HueAdjustmentBlue | 0 |
HueAdjustmentGreen | 0 |
HueAdjustmentMagenta | 0 |
HueAdjustmentOrange | 0 |
HueAdjustmentPurple | 0 |
HueAdjustmentRed | 0 |
HueAdjustmentYellow | 0 |
HyperfocalDistance | 0.61 m |
ICCProfileName | Adobe RGB (1998) |
ImageDescription | Nature photography |
ImageHeight (1) | 870 |
ImageHeight (2) | 2592 |
ImageHeight | 680 |
ImageSize | 1000x680 |
ImageWidth (1) | 1280 |
ImageWidth (2) | 3872 |
ImageWidth | 1000 |
IntellectualGenre | landscapes |
ISO | 100 |
Lens | smc PENTAX-DA 14mm F2.8 ED[IF] |
LensID (1) | 4 253 |
LensID | smc PENTAX-DA 14mm F2.8 ED[IF] |
LensInfo | 14mm f/2.8 |
LightValue | 9.0 |
Location | Tjongsvatnet |
LuminanceAdjustmentAqua | 0 |
LuminanceAdjustmentBlue | 0 |
LuminanceAdjustmentGreen | 0 |
LuminanceAdjustmentMagenta | 0 |
LuminanceAdjustmentOrange | 0 |
LuminanceAdjustmentPurple | 0 |
LuminanceAdjustmentRed | 0 |
LuminanceAdjustmentYellow | 0 |
LuminanceSmoothing | 0 |
Make | PENTAX Corporation |
Megapixels | 0.680 |
MeteringMode | Spot |
Model | PENTAX K10D |
ModifyDate (1) | 2007:07:29 20:48:32+02:00 |
ModifyDate | 2007:07:29 20:48:32 |
Orientation | Horizontal (normal) |
ParametricDarks | 0 |
ParametricHighlights | 0 |
ParametricHighlightSplit | 75 |
ParametricLights | 0 |
ParametricMidtoneSplit | 50 |
ParametricShadows | 0 |
ParametricShadowSplit | 25 |
PhotometricInterpretation | RGB |
PlanarConfiguration | Chunky |
ProfileDescription | Adobe RGB (1998) |
Province-State | Oppland |
Rating | 0 |
RawFileName | _IGP1991.DNG |
RedHue | 0 |
RedSaturation | 0 |
Rights | (c) Daniel N Heimstad |
SamplesPerPixel | 3 |
Saturation (2) | +9 |
Saturation | Normal |
SaturationAdjustmentAqua | 0 |
SaturationAdjustmentBlue | 0 |
SaturationAdjustmentGreen | 0 |
SaturationAdjustmentMagenta | 0 |
SaturationAdjustmentOrange | 0 |
SaturationAdjustmentPurple | 0 |
SaturationAdjustmentRed | 0 |
SaturationAdjustmentYellow | 0 |
ScaleFactor35efl | 1.5 |
SceneCaptureType | Standard |
SensingMethod | One-chip color area |
Shadows | 4 |
ShadowTint | 0 |
Sharpness (2) | 25 |
Sharpness | Normal |
ShutterSpeed | 0.5 |
ShutterSpeedValue | 0.5 |
Software | Adobe Photoshop CS3 Macintosh |
SplitToningBalance | 0 |
SplitToningHighlightHue | 0 |
SplitToningHighlightSaturation | 0 |
SplitToningShadowHue | 0 |
SplitToningShadowSaturation | 0 |
State | Oppland |
SubjectDistanceRange | Distant |
Tint | +9 |
ToneCurve | 0, 0, 32, 22, 64, 56, 128, 128, 192, 196, 255, 255 |
ToneCurveName | Medium Contrast |
URL_List | |
Version | 4.0 |
Vibrance | +36 |
VignetteAmount | 0 |
WhiteBalance (2) | Custom |
WhiteBalance | Auto |