Felt | Verdi |
AlreadyApplied | True |
Aperture | 8.0 |
ApertureValue | 8.0 |
BitsPerSample (1) | 8, 8, 8 |
BitsPerSample (2) | 8 8 8 |
BitsPerSample | 8 |
BlueHue | 0 |
BlueSaturation | 0 |
Brightness | +50 |
CameraProfile | ACR 2.4 |
CFAPattern | [Blue,Green][Green,Red] |
ChromaticAberrationB | 0 |
ChromaticAberrationR | 0 |
CircleOfConfusion | 0.020 mm |
ColorComponents | 1 |
ColorMode | RGB |
ColorNoiseReduction | 25 |
ColorSpace | sRGB |
ColorTemperature | 5550 |
Contrast (2) | +25 |
Contrast | Normal |
ConvertToGrayscale | False |
CopyrightFlag | False |
CreateDate (1) | 2007:11:21 19:00:52+01:00 |
CreateDate | 2007:11:18 15:25:10 |
CreatorTool | Adobe Photoshop CS3 Windows |
CustomRendered | Normal |
DateTimeDigitized | 2007:11:18 15:25:10.40+01:00 |
DateTimeOriginal (1) | 2007:11:18 15:25:10.40+01:00 |
DateTimeOriginal | 2007:11:18 15:25:10 |
DigitalZoomRatio | 1 |
ExifImageHeight | 710 |
ExifImageWidth | 710 |
Exposure | +0.61 |
ExposureCompensation | -1 |
ExposureMode | Auto |
ExposureProgram | Aperture-priority AE |
ExposureTime | 1/13 |
FillLight | 0 |
Flash | No Flash |
FlashFired | False |
FlashFunction | False |
FlashMode | Unknown |
FlashRedEyeMode | False |
FlashReturn | No return detection |
FNumber | 8.0 |
FocalLength | 18.0 mm |
FocalLength35efl | 18.0 mm (35 mm equivalent: 27.0 mm) |
FocalLengthIn35mmFormat | 27 mm |
Format | image/jpeg |
FOV | 67.4 deg |
GainControl | Low gain up |
GreenHue | 0 |
GreenSaturation | 0 |
HasCrop | False |
HasSettings | True |
HighlightRecovery | 0 |
HueAdjustmentAqua | 0 |
HueAdjustmentBlue | 0 |
HueAdjustmentGreen | 0 |
HueAdjustmentMagenta | 0 |
HueAdjustmentOrange | 0 |
HueAdjustmentPurple | 0 |
HueAdjustmentRed | 0 |
HueAdjustmentYellow | 0 |
HyperfocalDistance | 2.02 m |
ICCProfileName | sRGB IEC61966-2.1 |
ImageHeight (1) | 2000 |
ImageHeight | 710 |
ImageNumber | 32508 |
ImageSize | 710x710 |
ImageWidth (1) | 3008 |
ImageWidth | 710 |
ISO | 800 |
Keywords | Tåke, hund |
Lens | 18.0-135.0 mm f/3.5-5.6 |
LensInfo | 18-135mm f/3.5-5.6 |
LightSource | Unknown |
LightValue | 6.7 |
LuminanceAdjustmentAqua | 0 |
LuminanceAdjustmentBlue | 0 |
LuminanceAdjustmentGreen | 0 |
LuminanceAdjustmentMagenta | 0 |
LuminanceAdjustmentOrange | 0 |
LuminanceAdjustmentPurple | 0 |
LuminanceAdjustmentRed | 0 |
LuminanceAdjustmentYellow | 0 |
LuminanceSmoothing | 0 |
Make | NIKON CORPORATION |
MaxApertureValue | 3.5 |
Megapixels | 0.504 |
MeteringMode | Multi-segment |
Model | NIKON D50 |
ModifyDate (1) | 2007:11:21 19:00:52+01:00 |
ModifyDate | 2007:11:21 19:00:52 |
Orientation | Horizontal (normal) |
ParametricDarks | 0 |
ParametricHighlights | 0 |
ParametricHighlightSplit | 75 |
ParametricLights | -8 |
ParametricMidtoneSplit | 50 |
ParametricShadows | 0 |
ParametricShadowSplit | 25 |
PhotometricInterpretation | RGB |
PlanarConfiguration | Chunky |
PrivateRTKInfo | cHJpdmF0ZVJUS0luZm8gPSB7Cgl7CgkJZmxhdCA9IHsKCQkJIlTDpWtlIiwKCQl9LAoJCXBhdGggPSB7CgkJCSJUw6VrZSIsCgkJfSwKCQlwcmltYXJ5ID0gIlTDpWtlIiwKCQl1dWlkID0gIjg5MTlCM0NDLTMzOTEtNDYzQy1BMEFFLTU4MEQzQ0NBM0MwQSIsCgl9LAoJewoJCWZsYXQgPSB7CgkJCSJodW5kIiwKCQl9LAoJCXBhdGggPSB7CgkJCSJodW5kIiwKCQl9LAoJCXByaW1hcnkgPSAiaHVuZCIsCgkJdXVpZCA9ICJCMDExNDE5Qy1CMUM5LTQ4MkQtQjgyOS00QzBGQUFCRUYyQzkiLAoJfSwKfQo= |
ProfileDescription | sRGB IEC61966-2.1 |
RedHue | 0 |
RedSaturation | 0 |
SamplesPerPixel | 3 |
Saturation (2) | 0 |
Saturation | Normal |
SaturationAdjustmentAqua | 0 |
SaturationAdjustmentBlue | 0 |
SaturationAdjustmentGreen | 0 |
SaturationAdjustmentMagenta | 0 |
SaturationAdjustmentOrange | 0 |
SaturationAdjustmentPurple | 0 |
SaturationAdjustmentRed | 0 |
SaturationAdjustmentYellow | 0 |
ScaleFactor35efl | 1.5 |
SceneCaptureType | Standard |
SceneType | Directly photographed |
SensingMethod | One-chip color area |
Shadows | 0 |
ShadowTint | 0 |
Sharpness (2) | 25 |
Sharpness | Normal |
ShutterSpeed | 1/13 |
ShutterSpeedValue | 1/13 |
Software | Adobe Photoshop CS3 Windows |
SplitToningBalance | 0 |
SplitToningHighlightHue | 0 |
SplitToningHighlightSaturation | 0 |
SplitToningShadowHue | 0 |
SplitToningShadowSaturation | 0 |
Subject | Tåke, hund |
SubjectDistanceRange | Unknown |
Tint | -18 |
ToneCurve | 0, 0, 32, 22, 64, 56, 128, 128, 192, 196, 255, 255 |
ToneCurveName | Medium Contrast |
URL_List | |
UserComment | SB2006 |
Version | 1.0 |
Vibrance | 0 |
VignetteAmount | 0 |
WhiteBalance (2) | As Shot |
WhiteBalance | Auto |