Felt | Verdi |
AlreadyApplied | True |
Aperture | 32.0 |
ApertureValue | 32.0 |
Artist | unknown |
BitsPerSample | 8 |
BlueHue | 0 |
BlueSaturation | 0 |
Brightness | +50 |
By-line | unknown |
CameraProfile | ACR 3.1 |
ChromaticAberrationB | 0 |
ChromaticAberrationR | 0 |
CircleOfConfusion | 0.019 mm |
Clarity | 100 |
ColorComponents | 1 |
ColorMode | RGB |
ColorNoiseReduction | 25 |
ColorSpace (1) | Unknown (-1) |
ColorSpace | Uncalibrated |
ColorTemperature | 3900 |
Contrast | +56 |
ConvertToGrayscale | False |
CopyrightFlag | False |
CreateDate (1) | 2008:04:13 16:14:12+02:00 |
CreateDate | 2008:04:13 14:58:51 |
Creator | unknown |
CreatorTool | Adobe Photoshop CS3 Windows |
CustomRendered | Normal |
DateTimeDigitized | 2008:04:13 14:58:51+02:00 |
DateTimeOriginal (1) | 2008:04:13 14:58:51+02:00 |
DateTimeOriginal | 2008:04:13 14:58:51 |
Defringe | 0 |
ExifImageHeight | 567 |
ExifImageWidth | 378 |
Exposure | 0.00 |
ExposureCompensation | 0 |
ExposureMode | Manual |
ExposureProgram | Manual |
ExposureTime | 1 |
FillLight | 20 |
Firmware | 1.0.2 |
Flash | Off, Did not fire |
FlashCompensation | 0 |
FlashFired | False |
FlashFunction | False |
FlashMode | Off |
FlashRedEyeMode | False |
FlashReturn | No return detection |
FNumber | 32.0 |
FocalLength | 300.0 mm |
FocalLength35efl | 300.0 mm (35 mm equivalent: 486.7 mm) |
Format | image/jpeg |
FOV | 4.2 deg |
GreenHue | 0 |
GreenSaturation | 0 |
HasCrop | False |
HasSettings | True |
HighlightRecovery | 61 |
HueAdjustmentAqua | 0 |
HueAdjustmentBlue | 0 |
HueAdjustmentGreen | 0 |
HueAdjustmentMagenta | 0 |
HueAdjustmentOrange | 0 |
HueAdjustmentPurple | 0 |
HueAdjustmentRed | 0 |
HueAdjustmentYellow | 0 |
HyperfocalDistance | 151.85 m |
ICCProfileName | Adobe RGB (1998) |
ImageHeight (1) | 3456 |
ImageHeight | 567 |
ImageNumber | 56 |
ImageSize | 378x567 |
ImageWidth (1) | 2304 |
ImageWidth | 378 |
ISO | 100 |
Lens | 70.0-300.0 mm |
LensInfo | 70-300mm f/? |
LightValue | 10.0 |
LuminanceAdjustmentAqua | 0 |
LuminanceAdjustmentBlue | 0 |
LuminanceAdjustmentGreen | 0 |
LuminanceAdjustmentMagenta | 0 |
LuminanceAdjustmentOrange | 0 |
LuminanceAdjustmentPurple | 0 |
LuminanceAdjustmentRed | 0 |
LuminanceAdjustmentYellow | 0 |
LuminanceSmoothing | 0 |
Make | Canon |
MaxApertureValue | 5.6 |
Megapixels | 0.214 |
MeteringMode | Multi-segment |
Model | Canon EOS 350D DIGITAL |
ModifyDate (1) | 2008:04:13 16:23:51+02:00 |
ModifyDate | 2008:04:13 16:23:51 |
Orientation | Horizontal (normal) |
OwnerName | unknown |
ParametricDarks | 0 |
ParametricHighlights | 0 |
ParametricHighlightSplit | 75 |
ParametricLights | 0 |
ParametricMidtoneSplit | 50 |
ParametricShadows | 0 |
ParametricShadowSplit | 25 |
ProfileDescription | Adobe RGB (1998) |
Rating | 0 |
RawFileName | _MG_3128.CR2 |
RedHue | 0 |
RedSaturation | 0 |
Saturation | 0 |
SaturationAdjustmentAqua | 0 |
SaturationAdjustmentBlue | 0 |
SaturationAdjustmentGreen | 0 |
SaturationAdjustmentMagenta | 0 |
SaturationAdjustmentOrange | 0 |
SaturationAdjustmentPurple | 0 |
SaturationAdjustmentRed | 0 |
SaturationAdjustmentYellow | 0 |
ScaleFactor35efl | 1.6 |
SceneCaptureType | Standard |
SerialNumber | 930523837 |
Shadows | 5 |
ShadowTint | 0 |
SharpenDetail | 25 |
SharpenEdgeMasking | 0 |
SharpenRadius | +1.0 |
Sharpness | 25 |
ShutterSpeed | 1 |
ShutterSpeedValue | 1 |
Software | Adobe Photoshop CS3 Windows |
SplitToningBalance | 0 |
SplitToningHighlightHue | 0 |
SplitToningHighlightSaturation | 0 |
SplitToningShadowHue | 0 |
SplitToningShadowSaturation | 0 |
Tint | -2 |
ToneCurve | 0, 0, 32, 22, 64, 56, 128, 128, 192, 196, 255, 255 |
ToneCurveName | Medium Contrast |
URL_List | |
Version | 4.3.1 |
Vibrance | 0 |
VignetteAmount | 0 |
WhiteBalance (2) | As Shot |
WhiteBalance | Auto |