Felt | Verdi |
AlreadyApplied | True |
Aperture | 5.0 |
ApertureValue | 5.0 |
Artist | jøran frisvold |
BitsPerSample (1) | 16, 16, 16 |
BitsPerSample | 8 |
BlueHue | 0 |
BlueSaturation | 0 |
Brightness | +50 |
By-line | jøran frisvold |
CameraProfile | ACR 4.4 |
CFAPattern | [Green,Red][Blue,Green] |
ChromaticAberrationB | 0 |
ChromaticAberrationR | 0 |
CircleOfConfusion | 0.020 mm |
Clarity | 0 |
ColorComponents | 3 |
ColorMode | RGB |
ColorNoiseReduction | 25 |
ColorSpace (1) | Unknown (-1) |
ColorSpace | Uncalibrated |
ColorTemperature | 5000 |
Contrast (2) | +25 |
Contrast | Normal |
ConvertToGrayscale | False |
CopyrightFlag | False |
CreateDate (1) | 2008:07:18 14:38:53+02:00 |
CreateDate | 2008:06:28 15:09:54 |
Creator | jøran frisvold |
CreatorAddress | mortensrudveien 8c |
CreatorCity | oslo |
CreatorCountry | norway |
CreatorPostalCode | 1283 |
CreatorTool | Adobe Photoshop CS3 Windows |
CreatorWorkEmail | jran.frisvold@hotmail.com |
CreatorWorkTelephone | 41637790 |
CustomRendered | Normal |
DateTimeDigitized | 2008:06:28 15:09:54.82+02:00 |
DateTimeOriginal (1) | 2008:06:28 15:09:54.82+02:00 |
DateTimeOriginal | 2008:06:28 15:09:54 |
Defringe | 0 |
DigitalZoomRatio | 1 |
ExifImageHeight | 750 |
ExifImageWidth | 626 |
Exposure | 0.00 |
ExposureCompensation | 0 |
ExposureMode | Auto |
ExposureProgram | Aperture-priority AE |
ExposureTime | 1/200 |
FillLight | 17 |
Flash | No Flash |
FlashFired | False |
FlashFunction | False |
FlashMode | Unknown |
FlashRedEyeMode | False |
FlashReturn | No return detection |
FNumber | 5.0 |
FocalLength | 70.0 mm |
FocalLength35efl | 70.0 mm (35 mm equivalent: 105.0 mm) |
FocalLengthIn35mmFormat | 105 mm |
Format | image/jpeg |
FOV | 19.5 deg |
GainControl | None |
GreenHue | 0 |
GreenSaturation | 0 |
HasCrop | False |
HasSettings | True |
HighlightRecovery | 15 |
HueAdjustmentAqua | 0 |
HueAdjustmentBlue | 0 |
HueAdjustmentGreen | 0 |
HueAdjustmentMagenta | 0 |
HueAdjustmentOrange | 0 |
HueAdjustmentPurple | 0 |
HueAdjustmentRed | 0 |
HueAdjustmentYellow | 0 |
HyperfocalDistance | 48.92 m |
ICCProfileName | Adobe RGB (1998) |
ImageHeight (1) | 3105 |
ImageHeight | 750 |
ImageNumber | 12140 |
ImageSize | 626x750 |
ImageWidth (1) | 2592 |
ImageWidth | 626 |
ISO | 100 |
Lens | 24.0-70.0 mm f/2.8 |
LensInfo | 24-70mm f/2.8 |
LightSource | Unknown |
LightValue | 12.3 |
LuminanceAdjustmentAqua | 0 |
LuminanceAdjustmentBlue | 0 |
LuminanceAdjustmentGreen | 0 |
LuminanceAdjustmentMagenta | 0 |
LuminanceAdjustmentOrange | 0 |
LuminanceAdjustmentPurple | 0 |
LuminanceAdjustmentRed | 0 |
LuminanceAdjustmentYellow | 0 |
LuminanceSmoothing | 0 |
Make | NIKON CORPORATION |
MaxApertureValue | 2.8 |
Megapixels | 0.469 |
MeteringMode | Multi-segment |
Model | NIKON D200 |
ModifyDate (1) | 2008:07:18 14:38:53+02:00 |
ModifyDate | 2008:07:18 14:38:53 |
Orientation | Horizontal (normal) |
ParametricDarks | 0 |
ParametricHighlights | 0 |
ParametricHighlightSplit | 75 |
ParametricLights | 0 |
ParametricMidtoneSplit | 50 |
ParametricShadows | 0 |
ParametricShadowSplit | 25 |
PhotometricInterpretation | RGB |
PlanarConfiguration | Chunky |
ProfileDescription | Adobe RGB (1998) |
Rating | 0 |
RawFileName | 28jun2008_1506.dng |
RedHue | 0 |
RedSaturation | 0 |
SamplesPerPixel | 3 |
Saturation (2) | 0 |
Saturation | Normal |
SaturationAdjustmentAqua | 0 |
SaturationAdjustmentBlue | 0 |
SaturationAdjustmentGreen | 0 |
SaturationAdjustmentMagenta | 0 |
SaturationAdjustmentOrange | 0 |
SaturationAdjustmentPurple | 0 |
SaturationAdjustmentRed | 0 |
SaturationAdjustmentYellow | 0 |
ScaleFactor35efl | 1.5 |
SceneCaptureType | Standard |
SceneType | Directly photographed |
SensingMethod | One-chip color area |
Shadows | 5 |
ShadowTint | 0 |
SharpenDetail | 25 |
SharpenEdgeMasking | 0 |
SharpenRadius | +1.0 |
Sharpness (2) | 25 |
Sharpness | Normal |
ShutterSpeed | 1/200 |
ShutterSpeedValue | 1/200 |
Software | Adobe Photoshop CS3 Windows |
SplitToningBalance | 0 |
SplitToningHighlightHue | 0 |
SplitToningHighlightSaturation | 0 |
SplitToningShadowHue | 0 |
SplitToningShadowSaturation | 0 |
SubjectDistanceRange | Unknown |
Tint | -4 |
ToneCurve | 0, 0, 32, 22, 64, 56, 128, 128, 192, 196, 255, 255 |
ToneCurveName | Medium Contrast |
URL_List | |
UsageTerms | Kun etter avtale/kontrakt med fotograf |
Version | 4.4.1 |
Vibrance | 0 |
VignetteAmount | 0 |
WhiteBalance (2) | As Shot |
WhiteBalance | Auto |