Felt | Verdi |
AlreadyApplied | True |
Aperture | 5.6 |
ApertureValue | 5.6 |
BitsPerSample | 8 |
BlueHue | 0 |
BlueSaturation | 0 |
Brightness | +50 |
By-line | Arnold Hoddevik |
CameraProfile | ACR 4.4 |
CFAPattern | [Red,Green][Green,Blue] |
ChromaticAberrationB | 0 |
ChromaticAberrationR | 0 |
CircleOfConfusion | 0.020 mm |
Clarity | 45 |
ColorComponents | 3 |
ColorNoiseReduction | 25 |
ColorTemperature | 5000 |
Contrast (2) | +41 |
Contrast | Normal |
ConvertToGrayscale | False |
CreateDate | 2008:07:27 18:22:09 |
Creator | Arnold Hoddevik |
CreatorAddress | Fylling |
CreatorCity | Skodje |
CreatorCountry | Norway |
CreatorPostalCode | 6260 |
CreatorTool | Adobe Photoshop Lightroom |
CreatorWorkEmail | skrue2ah@adsl.no |
CreatorWorkTelephone | +4770275621 |
CreatorWorkURL | www.evyogarnold.no |
CropAngle | 0 |
CropBottom | 0.992493 |
CropHeight | 768 |
CropLeft | 0.241517 |
CropRight | 0.572854 |
CropTop | 0.022523 |
CropUnit | pixels |
CropWidth | 395 |
CustomRendered | Normal |
DateTimeDigitized | 2008:07:27 18:22:09.48+02:00 |
DateTimeOriginal (1) | 2008:07:27 18:22:09.48+02:00 |
DateTimeOriginal | 2008:07:27 18:22:09 |
Defringe | 0 |
DigitalZoomRatio | 1 |
Exposure | -2.29 |
ExposureCompensation | 0 |
ExposureMode | Auto |
ExposureProgram | Shutter speed priority AE |
ExposureTime | 1/500 |
FillLight | 0 |
Flash | No Flash |
FlashFired | False |
FlashFunction | False |
FlashMode | Unknown |
FlashRedEyeMode | False |
FlashReturn | No return detection |
FNumber | 5.6 |
FocalLength | 85.0 mm |
FocalLength35efl | 85.0 mm (35 mm equivalent: 127.0 mm) |
FocalLengthIn35mmFormat | 127 mm |
FOV | 16.1 deg |
GainControl | None |
GreenHue | 0 |
GreenSaturation | 0 |
HasCrop | True |
HasSettings | True |
HighlightRecovery | 40 |
HueAdjustmentAqua | 0 |
HueAdjustmentBlue | 0 |
HueAdjustmentGreen | 0 |
HueAdjustmentMagenta | 0 |
HueAdjustmentOrange | 0 |
HueAdjustmentPurple | 0 |
HueAdjustmentRed | 0 |
HueAdjustmentYellow | 0 |
HyperfocalDistance | 64.16 m |
ImageHeight | 768 |
ImageNumber | 11817 |
ImageSize | 395x768 |
ImageWidth | 395 |
ISO | 200 |
Lens | 85.0 mm f/1.8 |
LensInfo | 85mm f/1.8 |
LightSource | Fine Weather |
LightValue | 12.9 |
LuminanceAdjustmentAqua | 0 |
LuminanceAdjustmentBlue | 0 |
LuminanceAdjustmentGreen | 0 |
LuminanceAdjustmentMagenta | 0 |
LuminanceAdjustmentOrange | 0 |
LuminanceAdjustmentPurple | 0 |
LuminanceAdjustmentRed | 0 |
LuminanceAdjustmentYellow | 0 |
LuminanceSmoothing | 0 |
Make | NIKON CORPORATION |
Marked | True |
MaxApertureValue | 1.7 |
Megapixels | 0.303 |
MeteringMode | Center-weighted average |
Model | NIKON D300 |
ModifyDate (1) | 2008:07:28 00:07:09+02:00 |
ModifyDate | 2008:07:28 00:07:09 |
ParametricDarks | -3 |
ParametricHighlights | 0 |
ParametricHighlightSplit | 75 |
ParametricLights | +3 |
ParametricMidtoneSplit | 50 |
ParametricShadows | 0 |
ParametricShadowSplit | 25 |
ProfileDescription | Adobe RGB (1998) |
RedHue | 0 |
RedSaturation | 0 |
Saturation (2) | 0 |
Saturation | Normal |
SaturationAdjustmentAqua | 0 |
SaturationAdjustmentBlue | 0 |
SaturationAdjustmentGreen | 0 |
SaturationAdjustmentMagenta | 0 |
SaturationAdjustmentOrange | 0 |
SaturationAdjustmentPurple | 0 |
SaturationAdjustmentRed | 0 |
SaturationAdjustmentYellow | 0 |
ScaleFactor35efl | 1.5 |
SceneCaptureType | Standard |
SceneType | Directly photographed |
SensingMethod | One-chip color area |
Shadows | 5 |
ShadowTint | 0 |
SharpenDetail | 25 |
SharpenEdgeMasking | 0 |
SharpenRadius | +1.0 |
Sharpness (2) | 25 |
Sharpness | Normal |
ShutterSpeed | 1/500 |
ShutterSpeedValue | 1/500 |
Software | Nikon Transfer 1.0 W |
SplitToningBalance | 0 |
SplitToningHighlightHue | 0 |
SplitToningHighlightSaturation | 0 |
SplitToningShadowHue | 0 |
SplitToningShadowSaturation | 0 |
SubjectDistanceRange | Unknown |
Tint | +1 |
ToneCurve | 0, 0, 32, 22, 64, 56, 128, 128, 192, 196, 255, 255 |
ToneCurveName | Medium Contrast |
Version | 4.4.1 |
Vibrance | 0 |
VignetteAmount | 0 |
WhiteBalance (2) | As Shot |
WhiteBalance | Manual |