Felt | Verdi |
AlreadyApplied | True |
Aperture | 2.8 |
ApertureValue | 2.8 |
Artist | Roy Sigurd Karlsbakk |
BitsPerSample | 8 |
BlueHue | 0 |
BlueSaturation | 0 |
Brightness | +98 |
By-line | Roy Sigurd Karlsbakk |
CameraProfile | ACR 2.4 |
ChromaticAberrationB | 0 |
ChromaticAberrationR | 0 |
CircleOfConfusion | 0.019 mm |
Clarity | 0 |
ColorComponents | 1 |
ColorNoiseReduction | 25 |
ColorTemperature | 2850 |
Contrast | +5 |
ConvertToGrayscale | True |
Copyright | Roy Sigurd Karlsbakk |
CopyrightNotice | Roy Sigurd Karlsbakk |
CreateDate | 2006:03:13 01:39:30 |
Creator | Roy Sigurd Karlsbakk |
CreatorAddress | Glads Vei 64 |
CreatorCity | Oslo |
CreatorCountry | Norway |
CreatorPostalCode | 0489 |
CreatorTool | Adobe Photoshop Lightroom |
CreatorWorkEmail | roy@karlsbakk.net |
CreatorWorkTelephone | (+47) 98013356 |
CropAngle | 0 |
CropBottom | 1 |
CropHeight | 683 |
CropLeft | 0 |
CropRight | 0.6736 |
CropTop | 0.3264 |
CropUnit | pixels |
CropWidth | 1024 |
CustomRendered | Normal |
DateTimeDigitized | 2006:03:13 01:39:30+01:00 |
DateTimeOriginal (1) | 2006:03:13 01:39:30+01:00 |
DateTimeOriginal | 2006:03:13 01:39:30 |
Defringe | 0 |
Exposure | -0.25 |
ExposureCompensation | 0 |
ExposureMode | Auto |
ExposureProgram | Program AE |
ExposureTime | 1/50 |
FillLight | 0 |
Firmware | 1.1.0 |
Flash | Off, Did not fire |
FlashCompensation | 0 |
FlashFired | False |
FlashFunction | False |
FlashMode | Off |
FlashRedEyeMode | False |
FlashReturn | No return detection |
FNumber | 2.8 |
FocalLength | 200.0 mm |
FocalLength35efl | 200.0 mm (35 mm equivalent: 320.3 mm) |
FOV | 6.4 deg |
GrayMixerAqua | 0 |
GrayMixerBlue | 0 |
GrayMixerGreen | -18 |
GrayMixerMagenta | +13 |
GrayMixerOrange | -15 |
GrayMixerPurple | 0 |
GrayMixerRed | +24 |
GrayMixerYellow | -33 |
GreenHue | 0 |
GreenSaturation | 0 |
HasCrop | True |
HasSettings | True |
HighlightRecovery | 0 |
HyperfocalDistance | 761.44 m |
ImageHeight | 683 |
ImageNumber | 199 |
ImageSize | 1024x683 |
ImageWidth | 1024 |
ISO | 800 |
Label | Bilder fra konsert med Rockettothesky, Kampen Bistro |
Lens | 80.0-200.0 mm |
LensInfo | 80-200mm f/? |
LightValue | 5.6 |
LuminanceSmoothing | 0 |
Make | Canon |
Marked | True |
MaxApertureValue | 2.8 |
Megapixels | 0.699 |
MeteringMode | Multi-segment |
Model | Canon EOS 20D |
ModifyDate (1) | 2008:09:07 13:34:37+02:00 |
ModifyDate | 2008:09:07 13:34:37 |
OwnerName | unknown |
ParametricDarks | -30 |
ParametricHighlights | -11 |
ParametricHighlightSplit | 75 |
ParametricLights | -66 |
ParametricMidtoneSplit | 50 |
ParametricShadows | -62 |
ParametricShadowSplit | 25 |
ProfileDescription | sRGB IEC61966-2.1 |
Rating | 5 |
RedHue | 0 |
RedSaturation | 0 |
Rights | Roy Sigurd Karlsbakk |
ScaleFactor35efl | 1.6 |
SceneCaptureType | Standard |
SerialNumber | 430111203 |
Shadows | 14 |
ShadowTint | 0 |
SharpenDetail | 25 |
SharpenEdgeMasking | 0 |
SharpenRadius | +1.0 |
Sharpness | 25 |
ShutterSpeed | 1/50 |
ShutterSpeedValue | 1/50 |
SplitToningBalance | 0 |
SplitToningHighlightHue | 0 |
SplitToningHighlightSaturation | 0 |
SplitToningShadowHue | 0 |
SplitToningShadowSaturation | 0 |
Tint | -36 |
ToneCurve | 0, 0, 255, 255 |
ToneCurveName | Linear |
Version | 4.4.1 |
VignetteAmount | 0 |
WhiteBalance (2) | Custom |
WhiteBalance | Auto |