Felt | Verdi |
AlreadyApplied | True |
Aperture | 7.1 |
ApertureValue | 7.1 |
Artist | halvor hilmersen |
BitsPerSample | 8 |
BlueHue | 0 |
BlueSaturation | 0 |
Brightness | +50 |
By-line | halvor hilmersen |
CameraProfile | ACR 4.4 |
ChromaticAberrationB | 0 |
ChromaticAberrationR | 0 |
CircleOfConfusion | 0.024 mm |
Clarity | 43 |
ColorComponents | 3 |
ColorMode | RGB |
ColorNoiseReduction | 25 |
ColorSpace | sRGB |
ColorTemperature | 5500 |
Contrast | +25 |
ConvertToGrayscale | False |
Copyright | halvor hilmersen 2008 |
CopyrightFlag | False |
CopyrightNotice | halvor hilmersen 2008 |
CreateDate (1) | 2008:09:07 17:48+02:00 |
CreateDate | 2008:08:13 21:08:53 |
Creator | halvor hilmersen |
CreatorAddress | teienveien 8 |
CreatorCity | Nesna |
CreatorCountry | Norway |
CreatorPostalCode | 8700 |
CreatorTool | Adobe Photoshop Elements 5.0 (20060914.r.77) Windows |
CreatorWorkEmail | hilmers@hilmersmedia.no |
CreatorWorkURL | www.nesnafoto.com |
CropAngle | -1.262 |
CropBottom | 0.975098 |
CropHeight | 2154 |
CropLeft | 0.009568 |
CropRight | 0.776697 |
CropTop | 0.078487 |
CropUnit | pixels |
CropWidth | 2642 |
CustomRendered | Normal |
DateTimeDigitized | 2008:08:13 21:08:53+02:00 |
DateTimeOriginal (1) | 2008:08:13 21:08:53+02:00 |
DateTimeOriginal | 2008:08:13 21:08:53 |
Defringe | 0 |
ExifImageHeight | 1200 |
ExifImageWidth | 978 |
Exposure | -0.48 |
ExposureCompensation | 0 |
ExposureMode | Auto |
ExposureProgram | Program AE |
ExposureTime | 1/800 |
FillLight | 0 |
Firmware | 1.1.2 |
Flash | Off, Did not fire |
FlashCompensation | 0 |
FlashFired | False |
FlashFunction | False |
FlashMode | Off |
FlashRedEyeMode | False |
FlashReturn | No return detection |
FNumber | 7.1 |
FocalLength | 300.0 mm |
FocalLength35efl | 300.0 mm (35 mm equivalent: 375.9 mm) |
Format | image/jpeg |
FOV | 5.5 deg |
GreenHue | 0 |
GreenSaturation | 0 |
HasCrop | True |
HasSettings | True |
HighlightRecovery | 54 |
HueAdjustmentAqua | 0 |
HueAdjustmentBlue | 0 |
HueAdjustmentGreen | 0 |
HueAdjustmentMagenta | 0 |
HueAdjustmentOrange | 0 |
HueAdjustmentPurple | 0 |
HueAdjustmentRed | 0 |
HueAdjustmentYellow | 0 |
HyperfocalDistance | 528.69 m |
ICCProfileName | sRGB IEC61966-2.1 |
ImageHeight (1) | 2642 |
ImageHeight | 1200 |
ImageNumber | 53862 |
ImageSize | 978x1200 |
ImageWidth (1) | 2154 |
ImageWidth | 978 |
ISO | 200 |
Keywords | Helgeland, kyst, natur, sjonfjellet, solnedgang, sommer2008 |
Lens | EF300mm f/4L IS USM |
LensInfo | 300mm f/? |
LightValue | 14.3 |
LuminanceAdjustmentAqua | 0 |
LuminanceAdjustmentBlue | 0 |
LuminanceAdjustmentGreen | 0 |
LuminanceAdjustmentMagenta | 0 |
LuminanceAdjustmentOrange | 0 |
LuminanceAdjustmentPurple | 0 |
LuminanceAdjustmentRed | 0 |
LuminanceAdjustmentYellow | 0 |
LuminanceSmoothing | 0 |
Make | Canon |
MaxApertureValue | 4.0 |
Megapixels | 1.2 |
MeteringMode | Multi-segment |
Model | Canon EOS-1D Mark II N |
ModifyDate (1) | 2008:09:07 17:48+02:00 |
ModifyDate | 2008:09:07 17:48:00 |
Orientation | Horizontal (normal) |
ParametricDarks | 0 |
ParametricHighlights | 0 |
ParametricHighlightSplit | 75 |
ParametricLights | 0 |
ParametricMidtoneSplit | 50 |
ParametricShadows | 0 |
ParametricShadowSplit | 25 |
ProfileDescription | sRGB IEC61966-2.1 |
RedHue | 0 |
RedSaturation | 0 |
Rights | halvor hilmersen 2008 |
Saturation | +12 |
SaturationAdjustmentAqua | 0 |
SaturationAdjustmentBlue | 0 |
SaturationAdjustmentGreen | 0 |
SaturationAdjustmentMagenta | 0 |
SaturationAdjustmentOrange | 0 |
SaturationAdjustmentPurple | 0 |
SaturationAdjustmentRed | 0 |
SaturationAdjustmentYellow | 0 |
ScaleFactor35efl | 1.3 |
SceneCaptureType | Standard |
SerialNumber | 405175 |
Shadows | 14 |
ShadowTint | 0 |
SharpenDetail | 25 |
SharpenEdgeMasking | 0 |
SharpenRadius | +1.0 |
Sharpness | 25 |
ShutterSpeed | 1/800 |
ShutterSpeedValue | 1/800 |
Software | Adobe Photoshop Elements 5.0 (20060914.r.77) Windows |
SplitToningBalance | 0 |
SplitToningHighlightHue | 0 |
SplitToningHighlightSaturation | 0 |
SplitToningShadowHue | 0 |
SplitToningShadowSaturation | 0 |
Subject | Helgeland, kyst, natur, sjonfjellet, solnedgang, sommer2008 |
Tint | +10 |
ToneCurve | 0, 0, 32, 22, 64, 56, 128, 128, 192, 196, 255, 255 |
ToneCurveName | Medium Contrast |
URL_List | |
UsageTerms | no usage authorized without prior written permission |
Version | 4.4.1 |
Vibrance | +7 |
VignetteAmount | 0 |
WhiteBalance (2) | Daylight |
WhiteBalance | Auto |