Felt | Verdi |
AlreadyApplied | True |
Aperture | 3.5 |
ApertureValue | 3.5 |
BitsPerSample | 8 |
BlueHue | 0 |
BlueSaturation | 0 |
Brightness | 0 |
CameraProfile | Embedded |
ChromaticAberrationB | -10 |
ChromaticAberrationR | 0 |
ColorComponents | 3 |
ColorMode | RGB |
ColorNoiseReduction | 0 |
ColorSpace (1) | Unknown (-1) |
ColorSpace | Uncalibrated |
Contrast | +39 |
ConvertToGrayscale | False |
CopyrightFlag | False |
CreateDate (1) | 2008:11:11 13:02:23+01:00 |
CreateDate | 2005:02:13 04:57:44 |
CreatorTool | Adobe Photoshop CS3 Macintosh |
DateTimeDigitized | 2005:02:13 04:57:44+01:00 |
DateTimeOriginal (1) | 2005:02:13 04:57:44+01:00 |
DateTimeOriginal | 2005:02:13 04:57:44 |
DerivedFrom | |
ExifImageHeight | 809 |
ExifImageWidth | 1240 |
Exposure | 0.00 |
ExposureCompensation | 0 |
ExposureProgram | Not Defined |
ExposureTime | 0.5 |
FillLight | 67 |
Flash | Off, Did not fire |
FlashFired | False |
FlashFunction | False |
FlashMode | Off |
FlashRedEyeMode | False |
FlashReturn | No return detection |
FNumber | 3.5 |
FocalLength | 16.0 mm |
FocalLength35efl | 16.0 mm |
Format | image/jpeg |
GreenHue | 0 |
GreenSaturation | 0 |
HasCrop | False |
HasSettings | True |
HighlightRecovery | 100 |
HueAdjustmentAqua | -23 |
HueAdjustmentBlue | -8 |
HueAdjustmentGreen | 0 |
HueAdjustmentMagenta | -38 |
HueAdjustmentOrange | -2 |
HueAdjustmentPurple | -23 |
HueAdjustmentRed | -46 |
HueAdjustmentYellow | 0 |
ICCProfileName | Adobe RGB (1998) |
ImageHeight | 809 |
ImageSize | 1240x809 |
ImageWidth | 1240 |
IncrementalTemperature | 0 |
IncrementalTint | 0 |
ISO | 200 |
LightSource | Unknown |
LightValue | 3.6 |
LuminanceAdjustmentAqua | 0 |
LuminanceAdjustmentBlue | 0 |
LuminanceAdjustmentGreen | 0 |
LuminanceAdjustmentMagenta | 0 |
LuminanceAdjustmentOrange | 0 |
LuminanceAdjustmentPurple | 0 |
LuminanceAdjustmentRed | 0 |
LuminanceAdjustmentYellow | 0 |
LuminanceSmoothing | 0 |
Make | NIKON CORPORATION |
MaxApertureValue | 3.5 |
Megapixels | 1.0 |
MeteringMode | Multi-segment |
Model | NIKON D70s |
ModifyDate (1) | 2008:11:11 13:02:23+01:00 |
ModifyDate | 2008:11:11 13:02:23 |
Orientation | Horizontal (normal) |
ParametricDarks | 0 |
ParametricHighlights | 0 |
ParametricHighlightSplit | 75 |
ParametricLights | 0 |
ParametricMidtoneSplit | 50 |
ParametricShadows | 0 |
ParametricShadowSplit | 25 |
ProfileDescription | Adobe RGB (1998) |
Rating | 0 |
RawFileName | DSC_0190.jpg |
RedHue | 0 |
RedSaturation | 0 |
Saturation | 0 |
SaturationAdjustmentAqua | 0 |
SaturationAdjustmentBlue | 0 |
SaturationAdjustmentGreen | 0 |
SaturationAdjustmentMagenta | 0 |
SaturationAdjustmentOrange | 0 |
SaturationAdjustmentPurple | 0 |
SaturationAdjustmentRed | 0 |
SaturationAdjustmentYellow | 0 |
SensingMethod | One-chip color area |
Shadows | 3 |
ShadowTint | 0 |
Sharpness | 0 |
ShutterSpeed | 0.5 |
ShutterSpeedValue | 0.5 |
Software | Adobe Photoshop CS3 Macintosh |
SplitToningBalance | -4 |
SplitToningHighlightHue | 0 |
SplitToningHighlightSaturation | 0 |
SplitToningShadowHue | 0 |
SplitToningShadowSaturation | 0 |
TimeZoneOffset | 1 2 |
ToneCurve | 0, 0, 255, 255 |
ToneCurveName | Linear |
URL_List | |
Version | 4.0 |
Vibrance | 0 |
VignetteAmount | -100 |
VignetteMidpoint | 84 |
WhiteBalance | As Shot |