Felt | Verdi |
AlreadyApplied | True |
Aperture | 10.0 |
ApertureValue | 10.0 |
Artist | Arnold Hoddevik |
BitsPerSample | 8 |
BlueHue | 0 |
BlueSaturation | 0 |
Brightness | 0 |
By-line | Arnold Hoddevik |
CameraProfile | Embedded |
CFAPattern | [Red,Green][Green,Blue] |
ChromaticAberrationB | 0 |
ChromaticAberrationR | 0 |
CircleOfConfusion | 0.020 mm |
Clarity | 38 |
ColorComponents | 3 |
ColorNoiseReduction | 0 |
ColorSpace | Unknown (-1) |
Contrast (2) | 0 |
Contrast | Normal |
ConvertToGrayscale | False |
CreateDate (1) | 2008:11:20 20:23:55.31+01:00 |
CreateDate | 2008:11:20 20:23:55 |
Creator | Arnold Hoddevik |
CreatorAddress | Fylling |
CreatorCity | Skodje |
CreatorCountry | Norway |
CreatorPostalCode | 6260 |
CreatorTool | Adobe Photoshop Lightroom |
CreatorWorkEmail | skrue2ah@adsl.no |
CreatorWorkTelephone | +4770275621 |
CreatorWorkURL | www.evyogarnold.no |
CustomRendered | Normal |
DateTimeDigitized | 2008:11:20 20:23:55.31+01:00 |
DateTimeOriginal (1) | 2008:11:20 20:23:55.31+01:00 |
DateTimeOriginal | 2008:11:20 20:23:55 |
Defringe | 0 |
DigitalZoomRatio | 1 |
ExifImageHeight | 2848 |
ExifImageWidth | 4288 |
Exposure | 0.00 |
ExposureCompensation | 0 |
ExposureMode | Auto |
ExposureProgram | Aperture-priority AE |
ExposureTime | 2.5 |
FillLight | 20 |
Flash | No Flash |
FlashFired | False |
FlashFunction | False |
FlashMode | Unknown |
FlashRedEyeMode | False |
FlashReturn | No return detection |
FNumber | 10.0 |
FocalLength | 17.0 mm |
FocalLength35efl | 17.0 mm (35 mm equivalent: 25.0 mm) |
FocalLengthIn35mmFormat | 25 mm |
Format | image/tiff |
FOV | 71.5 deg |
GainControl | None |
GreenHue | 0 |
GreenSaturation | 0 |
HasCrop | False |
HasSettings | True |
HighlightRecovery | 75 |
HueAdjustmentAqua | 0 |
HueAdjustmentBlue | 0 |
HueAdjustmentGreen | 0 |
HueAdjustmentMagenta | 0 |
HueAdjustmentOrange | 0 |
HueAdjustmentPurple | 0 |
HueAdjustmentRed | 0 |
HueAdjustmentYellow | 0 |
HyperfocalDistance | 1.41 m |
ImageHeight | 680 |
ImageNumber | 17264 |
ImageSize | 1024x680 |
ImageWidth | 1024 |
IncrementalTemperature | 0 |
IncrementalTint | 0 |
ISO | 200 |
Lens | 17.0-55.0 mm f/2.8 |
LensInfo | 17-55mm f/2.8 |
LightSource | Unknown |
LightValue | 4.3 |
LuminanceAdjustmentAqua | 0 |
LuminanceAdjustmentBlue | 0 |
LuminanceAdjustmentGreen | 0 |
LuminanceAdjustmentMagenta | 0 |
LuminanceAdjustmentOrange | 0 |
LuminanceAdjustmentPurple | 0 |
LuminanceAdjustmentRed | 0 |
LuminanceAdjustmentYellow | 0 |
LuminanceSmoothing | 0 |
Make | NIKON CORPORATION |
Marked | True |
MaxApertureValue | 2.8 |
Megapixels | 0.696 |
MeteringMode | Center-weighted average |
Model | NIKON D300 |
ModifyDate (1) | 2008:12:08 23:10:59+01:00 |
ModifyDate | 2008:12:08 23:10:59 |
ParametricDarks | -19 |
ParametricHighlights | 0 |
ParametricHighlightSplit | 75 |
ParametricLights | +15 |
ParametricMidtoneSplit | 50 |
ParametricShadows | +10 |
ParametricShadowSplit | 25 |
ProfileDescription | Adobe RGB (1998) |
RatingPercent | 0 |
RedHue | 0 |
RedSaturation | 0 |
Saturation (2) | 0 |
Saturation | Normal |
SaturationAdjustmentAqua | 0 |
SaturationAdjustmentBlue | 0 |
SaturationAdjustmentGreen | 0 |
SaturationAdjustmentMagenta | 0 |
SaturationAdjustmentOrange | 0 |
SaturationAdjustmentPurple | 0 |
SaturationAdjustmentRed | 0 |
SaturationAdjustmentYellow | 0 |
ScaleFactor35efl | 1.5 |
SceneCaptureType | Standard |
SceneType | Directly photographed |
SensingMethod | One-chip color area |
Shadows | 0 |
ShadowTint | 0 |
SharpenDetail | 25 |
SharpenEdgeMasking | 0 |
SharpenRadius | +1.0 |
Sharpness (2) | 0 |
Sharpness | Hard |
ShutterSpeed | 2.5 |
ShutterSpeedValue | 2.5 |
Software | Adobe Photoshop CS3 Windows |
SplitToningBalance | 0 |
SplitToningHighlightHue | 0 |
SplitToningHighlightSaturation | 0 |
SplitToningShadowHue | 0 |
SplitToningShadowSaturation | 0 |
SubjectDistanceRange | Unknown |
ToneCurve | 0, 0, 255, 255 |
ToneCurveName | Linear |
Version | 4.4.1 |
Vibrance | 0 |
VignetteAmount | 0 |
WhiteBalance (2) | As Shot |
WhiteBalance | Auto |