Felt | Verdi |
AlreadyApplied | True |
Aperture | 16.0 |
ApertureValue | 16.0 |
BitsPerSample (1) | 8, 8, 8 |
BitsPerSample | 8 |
BlueHue | 0 |
BlueSaturation | 0 |
Brightness | +36 |
CameraProfile | ACR 3.3 |
ChromaticAberrationB | 0 |
ChromaticAberrationR | 0 |
CircleOfConfusion | 0.030 mm |
Clarity | 0 |
ColorComponents | 3 |
ColorMode | RGB |
ColorNoiseReduction | 25 |
ColorSpace (1) | Unknown (-1) |
ColorSpace | Uncalibrated |
ColorTemperature | 4950 |
Contrast | +58 |
ConvertToGrayscale | False |
CopyrightFlag | False |
CreateDate (1) | 2008:11:28 13:31:41+01:00 |
CreateDate | 2008:11:27 20:16:00 |
CreatorTool | Adobe Photoshop CS3 Macintosh |
CustomRendered | Normal |
DateTimeDigitized | 2008:11:27 20:16:00+01:00 |
DateTimeOriginal (1) | 2008:11:27 20:16:00+01:00 |
DateTimeOriginal | 2008:11:27 20:16:00 |
Defringe | 0 |
ExifImageHeight | 900 |
ExifImageWidth | 600 |
Exposure | +0.60 |
ExposureCompensation | 0 |
ExposureMode | Manual |
ExposureProgram | Manual |
ExposureTime | 1/125 |
FillLight | 0 |
Firmware | 1.1.0 |
Flash | Off, Did not fire |
FlashCompensation | 0 |
FlashFired | False |
FlashFunction | False |
FlashMode | Off |
FlashRedEyeMode | False |
FlashReturn | No return detection |
FNumber | 16.0 |
FocalLength | 82.0 mm |
FocalLength35efl | 82.0 mm (35 mm equivalent: 82.2 mm) |
Format | image/jpeg |
FOV | 24.7 deg |
GreenHue | 0 |
GreenSaturation | 0 |
HasCrop | False |
HasSettings | True |
HighlightRecovery | 45 |
HueAdjustmentAqua | -3 |
HueAdjustmentBlue | +1 |
HueAdjustmentGreen | +6 |
HueAdjustmentMagenta | +16 |
HueAdjustmentOrange | +16 |
HueAdjustmentPurple | +3 |
HueAdjustmentRed | +32 |
HueAdjustmentYellow | 0 |
HyperfocalDistance | 14.02 m |
ICCProfileName | Adobe RGB (1998) |
ImageHeight (1) | 6144 |
ImageHeight | 900 |
ImageNumber | 45 |
ImageSize | 600x900 |
ImageWidth (1) | 4096 |
ImageWidth | 600 |
ISO | 100 |
Lens | EF24-105mm f/4L IS USM |
LensInfo | 24-105mm f/? |
LightValue | 15.0 |
LuminanceAdjustmentAqua | -3 |
LuminanceAdjustmentBlue | -26 |
LuminanceAdjustmentGreen | -1 |
LuminanceAdjustmentMagenta | -100 |
LuminanceAdjustmentOrange | -8 |
LuminanceAdjustmentPurple | -100 |
LuminanceAdjustmentRed | +31 |
LuminanceAdjustmentYellow | +35 |
LuminanceSmoothing | 22 |
Make | Canon |
MaxApertureValue | 4.0 |
Megapixels | 0.540 |
MeteringMode | Multi-segment |
Model | Canon EOS 5D |
ModifyDate (1) | 2008:11:28 13:31:41+01:00 |
ModifyDate | 2008:11:28 13:31:41 |
Orientation | Horizontal (normal) |
ParametricDarks | 0 |
ParametricHighlights | 0 |
ParametricHighlightSplit | 75 |
ParametricLights | 0 |
ParametricMidtoneSplit | 50 |
ParametricShadows | 0 |
ParametricShadowSplit | 25 |
PhotometricInterpretation | RGB |
PlanarConfiguration | Chunky |
ProfileDescription | Adobe RGB (1998) |
Rating | 0 |
RawFileName | IMG_5804.CR2 |
RedHue | 0 |
RedSaturation | 0 |
SamplesPerPixel | 3 |
Saturation | 0 |
SaturationAdjustmentAqua | 0 |
SaturationAdjustmentBlue | 0 |
SaturationAdjustmentGreen | 0 |
SaturationAdjustmentMagenta | 0 |
SaturationAdjustmentOrange | -2 |
SaturationAdjustmentPurple | 0 |
SaturationAdjustmentRed | 0 |
SaturationAdjustmentYellow | -3 |
ScaleFactor35efl | 1.0 |
SceneCaptureType | Standard |
SerialNumber | 2131204575 |
Shadows | 7 |
ShadowTint | 0 |
SharpenDetail | 25 |
SharpenEdgeMasking | 0 |
SharpenRadius | +1.0 |
Sharpness | 48 |
ShutterSpeed | 1/125 |
ShutterSpeedValue | 1/125 |
SidecarForExtension | CR2 |
Software | Adobe Photoshop CS3 Macintosh |
SplitToningBalance | 0 |
SplitToningHighlightHue | 0 |
SplitToningHighlightSaturation | 1 |
SplitToningShadowHue | 186 |
SplitToningShadowSaturation | 16 |
Tint | +5 |
ToneCurve | 0, 0, 32, 22, 64, 56, 128, 128, 192, 196, 255, 255 |
ToneCurveName | Medium Contrast |
URL_List | |
Version | 4.3.1 |
Vibrance | 0 |
VignetteAmount | 0 |
WhiteBalance (2) | As Shot |
WhiteBalance | Auto |