Felt | Verdi |
Aperture | 2.8 |
ApertureValue | 2.8 |
Artist | Jon Anders Skau |
BitsPerSample | 8 |
BlueHue | 0 |
BlueSaturation | 0 |
Brightness | +50 |
By-line | Jon Anders Skau |
CameraProfile | ACR 4.4 |
Caption-Abstract |
ChromaticAberrationB | 0 |
ChromaticAberrationR | 0 |
CircleOfConfusion | 0.023 mm |
City | LA MANGA |
Clarity | +54 |
ColorComponents | 3 |
ColorMode | RGB |
ColorNoiseReduction | 25 |
ColorSpace (1) | Unknown (-1) |
ColorSpace | Uncalibrated |
ColorTemperature | 4550 |
Contrast | +25 |
ConvertToGrayscale | False |
CopyrightFlag | False |
CreateDate (1) | 2009:03:12 15:35:51+01:00 |
CreateDate | 2009:03:05 20:08:42 |
Creator | Jon Anders Skau |
CreatorTool | Adobe Photoshop CS3 Windows |
Credit | Fædrelandsvennen |
CustomRendered | Normal |
DateCreated | 2009:03:05 |
DateTimeDigitized | 2009:03:05 20:08:42+01:00 |
DateTimeOriginal (1) | 2009:03:05 20:08:42+01:00 |
DateTimeOriginal | 2009:03:05 20:08:42 |
Defringe | 0 |
Description |
ExifImageHeight | 686 |
ExifImageWidth | 1000 |
Exposure | +0.80 |
ExposureCompensation | 0 |
ExposureMode | Manual |
ExposureProgram | Manual |
ExposureTime | 1/640 |
FillLight | 11 |
Firmware | 1.2.3 |
Flash | No Flash |
FlashCompensation | 0 |
FlashFired | False |
FlashFunction | False |
FlashMode | Unknown |
FlashRedEyeMode | False |
FlashReturn | No return detection |
FNumber | 2.8 |
FocalLength | 75.0 mm |
FocalLength35efl | 75.0 mm (35 mm equivalent: 96.1 mm) |
Format | image/jpeg |
FOTO: JON ANDERS SKAU |
FOV | 21.2 deg |
GreenHue | 0 |
GreenSaturation | 0 |
HasSettings | True |
Headline | LA MANGA: GEIR LUDVIG FEVANG (START-SOGNDAL 1-1) |
HighlightRecovery | 100 |
HueAdjustmentAqua | 0 |
HueAdjustmentBlue | 0 |
HueAdjustmentGreen | 0 |
HueAdjustmentMagenta | 0 |
HueAdjustmentOrange | 0 |
HueAdjustmentPurple | 0 |
HueAdjustmentRed | 0 |
HueAdjustmentYellow | 0 |
HyperfocalDistance | 85.68 m |
ICCProfileName | Adobe RGB (1998) |
ImageDescription |
ImageHeight | 686 |
ImageNumber | 0 |
ImageSize | 1000x686 |
ImageWidth | 1000 |
ISO | 1000 |
Keywords | OBS! Bildet er ferdig behandlet |
Lens | EF70-200mm f/2.8L USM |
LensInfo | 70-200mm f/? |
LightValue | 9.0 |
LuminanceAdjustmentAqua | 0 |
LuminanceAdjustmentBlue | 0 |
LuminanceAdjustmentGreen | 0 |
LuminanceAdjustmentMagenta | 0 |
LuminanceAdjustmentOrange | 0 |
LuminanceAdjustmentPurple | 0 |
LuminanceAdjustmentRed | 0 |
LuminanceAdjustmentYellow | 0 |
LuminanceSmoothing | 0 |
Make | Canon |
MaxApertureValue | 2.8 |
Megapixels | 0.686 |
MeteringMode | Multi-segment |
Model | Canon EOS-1D Mark III |
ModifyDate (1) | 2009:03:12 15:35:51+01:00 |
ModifyDate | 2009:03:12 15:35:51 |
ObjectName | 05.03.2009 |
Orientation | Horizontal (normal) |
OriginatingProgram | FotoWare FotoStation |
OwnerName | Terje Grindheim |
ParametricDarks | 0 |
ParametricHighlights | 0 |
ParametricHighlightSplit | 75 |
ParametricLights | 0 |
ParametricMidtoneSplit | 50 |
ParametricShadows | 0 |
ParametricShadowSplit | 25 |
PostCropVignetteAmount | 0 |
ProfileDescription | Adobe RGB (1998) |
Rating | 0 |
RawFileName | JOSK5648.CR2 |
RedHue | 0 |
RedSaturation | 0 |
Saturation | 0 |
SaturationAdjustmentAqua | 0 |
SaturationAdjustmentBlue | 0 |
SaturationAdjustmentGreen | 0 |
SaturationAdjustmentMagenta | 0 |
SaturationAdjustmentOrange | 0 |
SaturationAdjustmentPurple | 0 |
SaturationAdjustmentRed | 0 |
SaturationAdjustmentYellow | 0 |
ScaleFactor35efl | 1.3 |
SceneCaptureType | Standard |
SerialNumber | 524425 |
Shadows | 11 |
ShadowTint | 0 |
SharpenDetail | 25 |
SharpenEdgeMasking | 0 |
SharpenRadius | +1.0 |
Sharpness | 25 |
ShutterSpeed | 1/640 |
ShutterSpeedValue | 1/640 |
SidecarForExtension | CR2 |
Software | Adobe Photoshop CS3 Windows |
SplitToningBalance | 0 |
SplitToningHighlightHue | 0 |
SplitToningHighlightSaturation | 0 |
SplitToningShadowHue | 0 |
SplitToningShadowSaturation | 0 |
Subject | OBS! Bildet er ferdig behandlet |
Tint | -5 |
Title | 05.03.2009 |
ToneCurve | 0, 0, 32, 22, 64, 56, 128, 128, 192, 196, 255, 255 |
ToneCurveName | Medium Contrast |
URL_List | |
Version | 4.6 |
Vibrance | 0 |
VignetteAmount | 0 |
WhiteBalance (2) | As Shot |
WhiteBalance | Auto |
XMPFileStamps | 2009:03:05 20:42:56+01:00 |