Felt | Verdi |
-1
0
0.5
2
2009-04-24T21:17:20+02:00 File _MG_8822_3_snegle_.psd saved
2009-04-24T22:17:27+02:00 File _MG_8822_3_snegle_.psd opened
2009-04-24T22:17:39+02:00 File _MG_8822_3_snegle_.psd saved
2009-04-24T22:34:02+02:00 File _MG_8822_3_snegle_.psd opened
2009-04-24T22:34:27+02:00 File _MG_8822_3_snegle_.jpg saved
Alignment: left
AlreadyApplied | True |
Angle: 0°
Anti-alias: sharp
Aperture | 8.0 |
ApertureValue | 8.0 |
Artist | Geir Ellingsrud |
AuthorsPosition | Professor |
Auto Justify
Auto Kern: manual
Auto Kern: metrics
Auto Leading Percentage: 1.2
AutoTCY: 1
Axis: horizontal
Base: 0, 0
Baseline Direction: rotated
Baseline Direction: with stream
Baseline Position: normal
Baseline Shift: 0 points
Bend: 0
BitsPerSample | 8 |
Blending Change
Blue: 0
Blue: 103.469
Blue: 131.663
Blue: 135.484
Blue: 188.792
Blue: 71.844
BlueHue | 0 |
BlueSaturation | 0 |
Bottom: 10.72 cm
Bottom: 19.51 cm
Bottom: 20.12 cm
Brightness | +5 |
Brightness/Contrast 1 Layer
Brightness: -4
Brightness: 13.725
Brightness: 58.431
Burasagari: None
By-line | Geir Ellingsrud |
By-lineTitle | Professor |
CameraProfile | Adobe Standard |
Canvas Size
Canvas Size With Relative
CaptionWriter | Ge |
ChromaticAberrationB | 0 |
ChromaticAberrationR | 0 |
CircleOfConfusion | 0.019 mm |
Clarity | 0 |
Color: HSB color
Color: RGB color
ColorComponents | 3 |
ColorMode | RGB |
ColorNoiseReduction | 25 |
ColorSpace | Uncalibrated |
ColorTemperature | 4700 |
Column Count: 1
Column Gutter: 0 points
Column Spacing: 0 points
Contrast | +53 |
ConvertToGrayscale | False |
CreateDate (1) | 2009:04:24 17:23:25.03+02:00 |
CreateDate | 2009:04:24 17:23:25 |
Creator | Geir Ellingsrud |
CreatorAddress | Ekebergveien 224c |
CreatorCity | Oslo |
CreatorCountry | Norway |
CreatorPostalCode | N-1162 |
Crop
Crop To: rectangle
CustomRendered | Normal |
DateTimeDigitized | 2009:04:24 17:23:25.03+02:00 |
DateTimeOriginal (1) | 2009:04:24 17:23:25.03+02:00 |
DateTimeOriginal | 2009:04:24 17:23:25 |
Default Character Style: text style
Default Tab Width: 36
Defringe | 0 |
Delete current layer
Delete Layer
Deselect
Desired Glyph Scaling Percent: 1
Desired Letter Spacing Percent: 0
Desired Word Spacing Percent: 1
Drop Cap Multiplier: 1
Edit Type Layer
End Indent: 0 points
ExifImageHeight | 1276 |
ExifImageWidth | 2130 |
Exposure | 0.00 |
ExposureCompensation | 0 |
ExposureMode | Manual |
ExposureProgram | Manual |
ExposureTime | 1/160 |
Extension Color: color
false
Figure Style: normal
FillLight | 0 |
Firmware | 1.0.4 |
First Line Alignment: Ascent
First Line Indent: 0 points
First Line Minimum Height: 0 points
Flash | Off, Did not fire |
FlashCompensation | 0 |
FlashFired | False |
FlashFunction | False |
FlashMode | Off |
FlashRedEyeMode | False |
FlashReturn | No return detection |
FNumber | 8.0 |
FocalLength | 154.0 mm |
FocalLength35efl | 154.0 mm (35 mm equivalent: 248.8 mm) |
Font Caps Option: normal
Font Name: “Didot”
Font Name: “Myriad Pro”
Font Style: “Italic”
Font Style: “Regular”
Font Technology: 0
Font Technology: 1
Format | image/jpeg |
FOV | 8.3 deg |
From: 0
Green: 0
Green: 144.402
Green: 170.145
Green: 171.359
Green: 192.803
Green: 76.446
Green: 76.447
GreenHue | 0 |
GreenSaturation | 0 |
Grid Alignment: Roman Baseline
HasCrop | False |
HasSettings | True |
Height: 0.8%
Hide current layer
Hide layer “Background copy”
Hide layer “Brightness/Contrast 1”
Hide layer “ge”
Hide layer “Layer 1”
HighlightRecovery | 24 |
Horizontal Distortion: 0
Horizontal Scale: 100
Horizontal: center
Hue: 262.2°
HueAdjustmentAqua | 0 |
HueAdjustmentBlue | 0 |
HueAdjustmentGreen | 0 |
HueAdjustmentMagenta | 0 |
HueAdjustmentOrange | 0 |
HueAdjustmentPurple | 0 |
HueAdjustmentRed | 0 |
HueAdjustmentYellow | 0 |
HyperfocalDistance | 159.38 m |
Hyphenate After Length: 2
Hyphenate Before Length: 2
Hyphenation Minimum Word Length: 6
Hyphenation Preference: 0.5
Hyphenation Zone: 36
ICCProfileName | Adobe RGB (1998) |
ImageHeight | 1276 |
ImageNumber | 0 |
ImageSize | 2130x1276 |
ImageWidth | 2130 |
ISO | 200 |
Japanese Alternate: Default Form
Kerning Style Range: none
Kinsoku Order: Push In First
Label | Select |
Layer Order
Layer Via Copy
Leading Type: bottom-to-bottom leading
Left: 2.19 cm
Left: 4.74 cm
Left: 5.53 cm
Lens | 18-200mm |
LensInfo | 18-200mm f/? |
LightValue | 12.3 |
Line Cap: Butt
Line Join: Miter
Line Width: 0 points
Line Width: 0.2 points
LuminanceAdjustmentAqua | 0 |
LuminanceAdjustmentBlue | 0 |
LuminanceAdjustmentGreen | 0 |
LuminanceAdjustmentMagenta | 0 |
LuminanceAdjustmentOrange | 0 |
LuminanceAdjustmentPurple | 0 |
LuminanceAdjustmentRed | 0 |
LuminanceAdjustmentYellow | 0 |
LuminanceSmoothing | 0 |
Make adjustment layer Using: adjustment layer
Make text layer Using: text layer
Make | Canon |
Master Opacity Change
MaxApertureValue | 6.2 |
Maximum Consecutive Hyphens: 0
Maximum Glyph Scaling Percent: 1
Maximum Letter Spacing Percent: 0
Maximum Word Spacing Percent: 1.33
Megapixels | 2.7 |
MeteringMode | Partial |
Minimum Glyph Scaling Percent: 1
Minimum Letter Spacing Percent: 0
Minimum Word Spacing Percent: 0.8
Miter Limit: 0 points
Miter Limit: 1 points
Mode: luminosity
Model | Canon EOS 450D |
Modify Brightness/Contrast Layer
ModifyDate (1) | 2009:04:24 22:34:27+02:00 |
ModifyDate | 2009:04:24 22:34:27 |
Move current layer To: layer 3
Opacity: 100%
Opacity: 9%
Open Macintosh HD:Users:geirellingsrud:Pictures:20090424:_MG_8822_3_snegle_.psd
Open Type Baseline Position: normal
Orientation | Horizontal (normal) |
Orientation: horizontal
paragraph style range
Paragraph Style Range: paragraph style range list
paragraph style: paragraph style
ParametricDarks | 0 |
ParametricHighlights | 0 |
ParametricHighlightSplit | 75 |
ParametricLights | 0 |
ParametricMidtoneSplit | 50 |
ParametricShadows | 0 |
ParametricShadowSplit | 25 |
PostCropVignetteAmount | 0 |
PostScript Name: “Didot-Italic”
PostScript Name: “MyriadPro-Regular”
ProfileDescription | Adobe RGB (1998) |
Radius: 1.1 pixels
Rating | 5 |
RawFileName | _MG_8822.CR2 |
Red: 0
Red: 151.375
Red: 174.923
Red: 175.888
Red: 194.833
Red: 80
Red: 80.001
RedHue | 0 |
RedSaturation | 0 |
Right: 20.08 cm
Right: 25.61 cm
Right: 34.34 cm
Row Count: 1
Row Gutter: 0 points
Saturation | 0 |
Saturation: 2.353
Saturation: 2.745
SaturationAdjustmentAqua | 0 |
SaturationAdjustmentBlue | 0 |
SaturationAdjustmentGreen | 0 |
SaturationAdjustmentMagenta | 0 |
SaturationAdjustmentOrange | 0 |
SaturationAdjustmentPurple | 0 |
SaturationAdjustmentRed | 0 |
SaturationAdjustmentYellow | 0 |
ScaleFactor35efl | 1.6 |
SceneCaptureType | Standard |
Script: 0
Select Canvas
Select current layer Without Make Visible
Select layer “Background” Without Make Visible
Select layer “Brightness/Contrast 1” Without Make Visible
Select layer “ge09” Without Make Visible
Select layer “ge” Without Make Visible
Select layer “Layer 1” Without Make Visible
Select layer “Layer 2” Without Make Visible
Select layer “Layer 3” Without Make Visible
Select layer “Vår i hagen II - Tyslevseter 2009t” Without Make Visible
Select previous history state
SerialNumber | 680121782 |
Set current adjustment layer To: brightness/contrast
Set current layer To: layer
Set current text layer To: text layer
Set Selection To: all
Set Selection To: none
Shadows | 18 |
ShadowTint | 0 |
SharpenDetail | 25 |
SharpenEdgeMasking | 0 |
SharpenRadius | +1.0 |
Sharpness | 25 |
Show current layer
Show layer “Background copy”
Show layer “Brightness/Contrast 1”
ShutterSpeed | 1/160 |
ShutterSpeedValue | 1/160 |
Single Word Justification: justify all
Size: 11 points
Size: 2.9 points
Software | Adobe Photoshop CS4 Macintosh |
Space After: 0 points
Space Before: 0 points
SplitToningBalance | 0 |
SplitToningHighlightHue | 0 |
SplitToningHighlightSaturation | 0 |
SplitToningShadowHue | 0 |
SplitToningShadowSaturation | 0 |
Start Indent: 0 points
Strikethrough: Strikethrough Off
Stroke Color: RGB color
style range
Style Range: none
Style Range: style range list
Style: None
style: text style
Target Height: 0 pixels
Target Resolution: 0 per cm
Target Width: 0 pixels
Text Click Point: 69%, 99.3%
Text Click Point: 91.1%, 9.1%
Text Click Point: 91.4%, 4.3%
Text Click Point: 91.7%, 6%
Text Click Point: 92.4%, 5.5%
Text Click Point: 94%, 4.3%
Text Click Point: 95.3%, 3.8%
Text Gridding: none
Text Language: English: USA
Text Orientation: horizontal
Text Shape
Text Shape Type: point
Text Shape: Text Shape list
Text: “ge09”
Text: “ge”
Text: “Vår i hagen II - Tyslevseter 2009t”
Text: “Vår i hagen III - Tyslevseter 2009t”
Text: “”
Threshold: 8
Tint | +13 |
To: 3
To: 35
To: 36
To: 5
ToneCurve | 0, 0, 32, 22, 64, 56, 128, 128, 192, 196, 255, 255 |
ToneCurveName | Medium Contrast |
Top: 0 cm
Top: 0.61 cm
Top: 8.79 cm
Tracking: 0
Transform: transform
true
Tsume: 0
tx: 0
ty: 0
Type Tool
Type: brightness/contrast
Underline Offset: 0 points
Underline: Underline Off
Undo
Unsharp Mask
Unsharp Mask Amount: 273%
URL_List | |
Version | 5.3 |
Vertical Distortion: 0
Vertical Scale: 100
Vertical: center
Vibrance | 0 |
VignetteAmount | 0 |
Warp: Warp
WhiteBalance (2) | As Shot |
WhiteBalance | Auto |
Width: 0.8%
With Auto Hyphenate
With Auto-Leading
With Fill
With Fill First
With Hide
With Hyphenate Capitalized Words
With Use Contextual Alternates
With Use Keep Together
With Use Ligatures
With Use Row Major Order
Without Adjust Selection
Without Every Line Composer
Without Faux Bold
Without Faux Italic
Without Fill First
Without No Break
Without Roman Hanging Punctuation
Without Stroke
Without Use Alternate Ligatures
Without Use Contextual Alternates
Without Use Fill OverPrint
Without Use Fractions
Without Use Italics
Without Use Kana
Without Use Moji Shori
Without Use Oldstyle
Without Use Ordinals
Without Use Ornaments
Without Use Proportional Metrics
Without Use Stroke OverPrint
Without Use Stylistic Alternates
Without Use Swash Characters
Without Use Titling Characters
Writer-Editor | Ge |
xx: 1
xy: 0
yx: 0
yy: 1