Felt | Verdi |
-1
0
0.5
2
2009-04-24T21:06:25+02:00 File _MG_8821_2_snegle_.psd saved
2009-04-24T21:07:14+02:00 File _MG_8821_2_snegle_.psd saved
2009-04-24T23:15:54+02:00 File _MG_8821_2_snegle_.psd opened
2009-04-24T23:16:15+02:00 File _MG_8821_2_snegle_.jpg saved
2009-04-24T23:17+02:00 File _MG_8821_2_snegle_.psd saved
2009-04-24T23:17:42+02:00 File _MG_8821_2_snegle_.psd opened
2009-04-24T23:17:55+02:00 File _MG_8821_2_snegle_.jpg saved
Alignment: left
AlreadyApplied | True |
Angle: 0°
Anti-alias: sharp
Aperture | 8.0 |
ApertureValue | 8.0 |
Artist | Geir Ellingsrud |
AuthorsPosition | Professor |
Auto Justify
Auto Kern: manual
Auto Kern: metrics
Auto Leading Percentage: 1.2
AutoTCY: 1
Axis: horizontal
Base: 0, 0
Baseline Direction: rotated
Baseline Direction: with stream
Baseline Position: normal
Baseline Shift: 0 points
Bend: 0
BitsPerSample | 8 |
Blue: 188.792
BlueHue | 0 |
BlueSaturation | 0 |
Bottom: 21.02 cm
Bottom: 21.93 cm
Bottom: 22.12 cm
Brightness | +29 |
Brightness: 13.725
Burasagari: None
By-line | Geir Ellingsrud |
By-lineTitle | Professor |
CameraProfile | Adobe Standard |
Canvas Size
Canvas Size With Relative
CaptionWriter | Ge |
ChromaticAberrationB | 0 |
ChromaticAberrationR | 0 |
CircleOfConfusion | 0.019 mm |
Clarity | 0 |
Color: HSB color
Color: RGB color
ColorComponents | 3 |
ColorMode | RGB |
ColorNoiseReduction | 25 |
ColorSpace | Uncalibrated |
ColorTemperature | 4750 |
Column Count: 1
Column Gutter: 0 points
Column Spacing: 0 points
Contrast | +46 |
ConvertToGrayscale | False |
CreateDate (1) | 2009:04:24 17:23:16.03+02:00 |
CreateDate | 2009:04:24 17:23:16 |
Creator | Geir Ellingsrud |
CreatorAddress | Ekebergveien 224c |
CreatorCity | Oslo |
CreatorCountry | Norway |
CreatorPostalCode | N-1162 |
Crop
Crop To: rectangle
CustomRendered | Normal |
DateTimeDigitized | 2009:04:24 17:23:16.03+02:00 |
DateTimeOriginal (1) | 2009:04:24 17:23:16.03+02:00 |
DateTimeOriginal | 2009:04:24 17:23:16 |
Default Character Style: text style
Default Tab Width: 36
Defringe | 0 |
Desired Glyph Scaling Percent: 1
Desired Letter Spacing Percent: 0
Desired Word Spacing Percent: 1
Drop Cap Multiplier: 1
End Indent: 0 points
ExifImageHeight | 2275 |
ExifImageWidth | 3380 |
Exposure | -0.75 |
ExposureCompensation | 0 |
ExposureMode | Manual |
ExposureProgram | Manual |
ExposureTime | 1/160 |
Extension Color: color
false
Figure Style: normal
FillLight | 9 |
Firmware | 1.0.4 |
First Line Alignment: Ascent
First Line Indent: 0 points
First Line Minimum Height: 0 points
Flash | Off, Did not fire |
FlashCompensation | 0 |
FlashFired | False |
FlashFunction | False |
FlashMode | Off |
FlashRedEyeMode | False |
FlashReturn | No return detection |
FNumber | 8.0 |
FocalLength | 154.0 mm |
FocalLength35efl | 154.0 mm (35 mm equivalent: 248.8 mm) |
Font Caps Option: normal
Font Name: “Didot”
Font Name: “Myriad Pro”
Font Style: “Italic”
Font Style: “Regular”
Font Technology: 0
Font Technology: 1
Format | image/jpeg |
FOV | 8.3 deg |
From: 0
Green: 192.803
GreenHue | 0 |
GreenSaturation | 0 |
Grid Alignment: Roman Baseline
HasCrop | False |
HasSettings | True |
Height: 1%
Hide layer “Snegle - Tyslevseter 2009”
HighlightRecovery | 100 |
Horizontal Distortion: 0
Horizontal Scale: 100
Horizontal: center
Hue: 262.2°
HueAdjustmentAqua | 0 |
HueAdjustmentBlue | 0 |
HueAdjustmentGreen | 0 |
HueAdjustmentMagenta | 0 |
HueAdjustmentOrange | 0 |
HueAdjustmentPurple | 0 |
HueAdjustmentRed | 0 |
HueAdjustmentYellow | 0 |
HyperfocalDistance | 159.38 m |
Hyphenate After Length: 2
Hyphenate Before Length: 2
Hyphenation Minimum Word Length: 6
Hyphenation Preference: 0.5
Hyphenation Zone: 36
ICCProfileName | Adobe RGB (1998) |
ImageHeight | 2275 |
ImageNumber | 0 |
ImageSize | 3380x2275 |
ImageWidth | 3380 |
In: Macintosh HD:Users:geirellingsrud:Pictures:20090424:
ISO | 200 |
Japanese Alternate: Default Form
Kerning Style Range: none
Kinsoku Order: Push In First
Label | Select |
Leading Type: bottom-to-bottom leading
Left: 0 cm
Left: 5.01 cm
Left: 6.66 cm
Lens | 18-200mm |
LensInfo | 18-200mm f/? |
Levels 1 Layer
LightValue | 12.3 |
Line Cap: Butt
Line Join: Miter
Line Width: 0 points
Line Width: 0.2 points
LuminanceAdjustmentAqua | 0 |
LuminanceAdjustmentBlue | 0 |
LuminanceAdjustmentGreen | 0 |
LuminanceAdjustmentMagenta | 0 |
LuminanceAdjustmentOrange | 0 |
LuminanceAdjustmentPurple | 0 |
LuminanceAdjustmentRed | 0 |
LuminanceAdjustmentYellow | 0 |
LuminanceSmoothing | 0 |
Make adjustment layer Using: adjustment layer
Make text layer Using: text layer
Make | Canon |
Matte: none
MaxApertureValue | 6.2 |
Maximum Consecutive Hyphens: 0
Maximum Glyph Scaling Percent: 1
Maximum Letter Spacing Percent: 0
Maximum Word Spacing Percent: 1.33
Megapixels | 7.7 |
MeteringMode | Partial |
Minimum Glyph Scaling Percent: 1
Minimum Letter Spacing Percent: 0
Minimum Word Spacing Percent: 0.8
Miter Limit: 0 points
Miter Limit: 1 points
Model | Canon EOS 450D |
ModifyDate (1) | 2009:04:24 23:17:55+02:00 |
ModifyDate | 2009:04:24 23:17:55 |
Open Macintosh HD:Users:geirellingsrud:Pictures:20090424:_MG_8821_2_snegle_.psd
Open Type Baseline Position: normal
Orientation | Horizontal (normal) |
Orientation: horizontal
paragraph style range
Paragraph Style Range: paragraph style range list
paragraph style: paragraph style
ParametricDarks | 0 |
ParametricHighlights | 0 |
ParametricHighlightSplit | 75 |
ParametricLights | 0 |
ParametricMidtoneSplit | 50 |
ParametricShadows | 0 |
ParametricShadowSplit | 25 |
PostCropVignetteAmount | 0 |
PostScript Name: “Didot-Italic”
PostScript Name: “MyriadPro-Regular”
Preset Kind: Default
ProfileDescription | Adobe RGB (1998) |
Quality: 9
Rating | 5 |
RawFileName | _MG_8821.CR2 |
Red: 194.833
RedHue | 0 |
RedSaturation | 0 |
Right: 33.35 cm
Right: 33.48 cm
Right: 33.97 cm
Row Count: 1
Row Gutter: 0 points
Saturation | 0 |
Saturation: 2.745
SaturationAdjustmentAqua | 0 |
SaturationAdjustmentBlue | 0 |
SaturationAdjustmentGreen | 0 |
SaturationAdjustmentMagenta | 0 |
SaturationAdjustmentOrange | 0 |
SaturationAdjustmentPurple | 0 |
SaturationAdjustmentRed | 0 |
SaturationAdjustmentYellow | 0 |
Save As: JPEG
ScaleFactor35efl | 1.6 |
SceneCaptureType | Standard |
Script: 0
Select clone stamp
Select layer “Background” Without Make Visible
Select previous history state
SerialNumber | 680121782 |
Shadows | 22 |
ShadowTint | 0 |
SharpenDetail | 25 |
SharpenEdgeMasking | 0 |
SharpenRadius | +1.0 |
Sharpness | 25 |
ShutterSpeed | 1/160 |
ShutterSpeedValue | 1/160 |
Single Word Justification: justify all
Size: 18 points
Size: 2.9 points
Software | Adobe Photoshop CS4 Macintosh |
Space After: 0 points
Space Before: 0 points
SplitToningBalance | 0 |
SplitToningHighlightHue | 0 |
SplitToningHighlightSaturation | 0 |
SplitToningShadowHue | 0 |
SplitToningShadowSaturation | 0 |
Start Indent: 0 points
Strikethrough: Strikethrough Off
Stroke Color: RGB color
style range
Style Range: style range list
Style: None
style: text style
Target Height: 0 pixels
Target Resolution: 0 per cm
Target Width: 0 pixels
Text Click Point: 2.2%, 96.7%
Text Gridding: none
Text Language: English: USA
Text Orientation: horizontal
Text Shape
Text Shape Type: point
Text Shape: Text Shape list
Text: “Snegle - Tyslevseter 2009”
Tint | +17 |
To: 26
ToneCurve | 0, 0, 32, 22, 64, 56, 128, 128, 192, 196, 255, 255 |
ToneCurveName | Medium Contrast |
Top: 0 cm
Top: 1.96 cm
Top: 5.39 cm
Tracking: 0
Transform: transform
true
Tsume: 0
tx: 0
ty: 0
Type Tool
Type: levels
Underline Offset: 0 points
Underline: Underline Off
Undo
URL_List | |
Version | 5.3 |
Vertical Distortion: 0
Vertical Scale: 100
Vertical: center
Vibrance | 0 |
VignetteAmount | 0 |
Warp: Warp
WhiteBalance (2) | As Shot |
WhiteBalance | Auto |
Width: 1%
With Auto Hyphenate
With Auto-Leading
With Copy
With Fill
With Fill First
With Hide
With Hyphenate Capitalized Words
With Lower Case
With Optimized
With Use Contextual Alternates
With Use Keep Together
With Use Ligatures
With Use Row Major Order
Without Every Line Composer
Without Faux Bold
Without Faux Italic
Without Fill First
Without No Break
Without Roman Hanging Punctuation
Without Stroke
Without Use Alternate Ligatures
Without Use Contextual Alternates
Without Use Fill OverPrint
Without Use Fractions
Without Use Italics
Without Use Kana
Without Use Moji Shori
Without Use Oldstyle
Without Use Ordinals
Without Use Ornaments
Without Use Proportional Metrics
Without Use Stroke OverPrint
Without Use Stylistic Alternates
Without Use Swash Characters
Without Use Titling Characters
Writer-Editor | Ge |
xx: 1
xy: 0
yx: 0
yy: 1