Felt | Verdi |
2009-04-26T17:38:18+02:00 File _MG_8438_krokus__1.psd saved
2009-04-26T18:49:13+02:00 File _MG_8438_krokus__1.psd opened
2009-04-26T18:49:37+02:00 File _MG_8438_krokus__1.jpg saved
Add Layer Mask
Adjustment: curves adjustment list
AlreadyApplied | True |
Angle: 0°
Aperture | 11.0 |
ApertureValue | 11.0 |
Artist | Geir Ellingsrud |
At: mask channel
AuthorsPosition | Professor |
BitsPerSample | 8 |
blend range
Blend Range List: blend range list
Blending Change
Blending Options
BlueHue | 0 |
BlueSaturation | 0 |
Bottom: 28.9 cm
Brightness | +54 |
Brightness: 52.941
Brush Tool
By-line | Geir Ellingsrud |
By-lineTitle | Professor |
CameraProfile | Adobe Standard |
Canvas Size
Canvas Size With Relative
CaptionWriter | Ge |
Channel: composite channel
Channel: gray channel
ChromaticAberrationB | 0 |
ChromaticAberrationR | 0 |
CircleOfConfusion | 0.019 mm |
Clarity | +60 |
Color: HSB color
ColorComponents | 3 |
ColorMode | RGB |
ColorNoiseReduction | 25 |
ColorSpace | Uncalibrated |
ColorTemperature | 5050 |
Contrast | +4 |
Convert to Smart Object
ConvertToGrayscale | False |
CreateDate (1) | 2009:04:11 17:01:24.03+02:00 |
CreateDate | 2009:04:11 17:01:24 |
Creator | Geir Ellingsrud |
CreatorAddress | Ekebergveien 224c |
CreatorCity | Oslo |
CreatorCountry | Norway |
CreatorPostalCode | N-1162 |
Crop
Crop To: rectangle
Curve: point list
Curves 1 Layer
Curves 2 Layer
Curves 3 Layer
curves adjustment
CustomRendered | Normal |
DateTimeDigitized | 2009:04:11 17:01:24.03+02:00 |
DateTimeOriginal (1) | 2009:04:11 17:01:24.03+02:00 |
DateTimeOriginal | 2009:04:11 17:01:24 |
Defringe | 0 |
Delete current channel
Delete current layer
Delete Layer
Delete Layer Mask
Deselect
Disable Layer Mask
ExifImageHeight | 2915 |
ExifImageWidth | 2971 |
Exposure | -1.30 |
ExposureCompensation | +2/3 |
ExposureMode | Auto |
ExposureProgram | Aperture-priority AE |
ExposureTime | 1/160 |
Extension Color: color
FillLight | 15 |
Firmware | 1.0.4 |
Flash | Off, Did not fire |
FlashCompensation | 0 |
FlashFired | False |
FlashFunction | False |
FlashMode | Off |
FlashRedEyeMode | False |
FlashReturn | No return detection |
FNumber | 11.0 |
FocalLength | 134.0 mm |
FocalLength35efl | 134.0 mm (35 mm equivalent: 216.5 mm) |
Format | image/jpeg |
FOV | 9.5 deg |
GreenHue | 0 |
GreenSaturation | 0 |
HasCrop | False |
HasSettings | True |
Height: 0.8%
Hide current layer
Hide layer “Background copy”
Hide layer “Curves 1”
Hide layer “Curves 2”
Hide layer “Curves 3” of layer “Curves 2” of layer “Curves 1” of layer “kronbladene lysere”
Hide layer “kronbladene lysere”
Hide layer “skjerping” of layer “knoppbalerst lysere” of layer “all over lysere” of layer “snøen lysere” of layer “kronbladene lysere”
HighlightRecovery | 65 |
Horizontal: center
Hue: 264.4°
HueAdjustmentAqua | 0 |
HueAdjustmentBlue | 0 |
HueAdjustmentGreen | 0 |
HueAdjustmentMagenta | 0 |
HueAdjustmentOrange | 0 |
HueAdjustmentPurple | 0 |
HueAdjustmentRed | 0 |
HueAdjustmentYellow | 0 |
HyperfocalDistance | 87.76 m |
ICCProfileName | Adobe RGB (1998) |
ImageHeight (1) | 3413 |
ImageHeight | 2915 |
ImageNumber | 0 |
ImageSize | 2971x2915 |
ImageWidth (1) | 5120 |
ImageWidth | 2971 |
Invert
ISO | 200 |
Layer Properties
Layer Styles: layer styles
Layer Via Copy
Left: 6.02 cm
Lens | 18-200mm |
LensInfo | 18-200mm f/? |
LightValue | 13.2 |
Load Selection
LuminanceAdjustmentAqua | 0 |
LuminanceAdjustmentBlue | 0 |
LuminanceAdjustmentGreen | 0 |
LuminanceAdjustmentMagenta | 0 |
LuminanceAdjustmentOrange | 0 |
LuminanceAdjustmentPurple | 0 |
LuminanceAdjustmentRed | 0 |
LuminanceAdjustmentYellow | 0 |
LuminanceSmoothing | 0 |
Make adjustment layer Using: adjustment layer
Make New: channel
Make | Canon |
master diameter: 61 pixels
Master Opacity Change
MaxApertureValue | 5.9 |
Megapixels | 8.7 |
MeteringMode | Multi-segment |
Mode: luminosity
Mode: soft light
Mode: vivid light
Model | Canon EOS 450D |
Modify Curves Layer
ModifyDate (1) | 2009:04:26 18:49:37+02:00 |
ModifyDate | 2009:04:26 18:49:37 |
Name: “all over lysere”
Name: “knoppbalerst lysere”
Name: “kronbladene lysere”
Name: “skjerping”
Name: “snøen lysere”
Opacity: 0%
Opacity: 100%
Opacity: 13%
Opacity: 28%
Opacity: 29%
Opacity: 31%
Opacity: 38%
Opacity: 42%
Opacity: 43%
Opacity: 45%
Open Macintosh HD:Users:geirellingsrud:Pictures:krokus_20090417:_MG_8438_krokus__1.psd
Orientation | Horizontal (normal) |
ParametricDarks | 0 |
ParametricHighlights | 0 |
ParametricHighlightSplit | 75 |
ParametricLights | 0 |
ParametricMidtoneSplit | 50 |
ParametricShadows | 0 |
ParametricShadowSplit | 25 |
point: 0, 0
point: 101, 119
point: 111, 114
point: 135, 144
point: 185, 203
point: 191, 207
point: 255, 255
point: 31, 254
point: 45, 223
point: 52, 218
point: 52, 66
point: 52, 67
point: 74, 208
point: 76, 241
point: 86, 255
PostCropVignetteAmount | 0 |
Preset Kind: Custom
Preset Kind: Default
ProfileDescription | Adobe RGB (1998) |
Radius: 1 pixels
Rasterize current layer
Rasterize Layer
Rating | 0 |
RawFileName | _MG_8438.CR2 |
RedHue | 0 |
RedSaturation | 0 |
Right: 30.97 cm
Saturation | 0 |
Saturation: 3.137
SaturationAdjustmentAqua | 0 |
SaturationAdjustmentBlue | 0 |
SaturationAdjustmentGreen | 0 |
SaturationAdjustmentMagenta | 0 |
SaturationAdjustmentOrange | 0 |
SaturationAdjustmentPurple | 0 |
SaturationAdjustmentRed | 0 |
SaturationAdjustmentYellow | 0 |
Scale: 416.7%
ScaleFactor35efl | 1.6 |
SceneCaptureType | Standard |
Select brush
Select current channel Without Make Visible
Select layer “all over lysere” Without Make Visible
Select layer “Background copy” Without Make Visible
Select layer “Background” Without Make Visible
Select layer “Curves 1” Without Make Visible
Select layer “Curves 3” Without Make Visible
Select layer “kronbladene lysere” Without Make Visible
Select previous history state
SerialNumber | 680121782 |
Set current adjustment layer To: curves
Set current brush To: brush
Set current layer To: layer
Set Selection To: current channel
Set Selection To: none
Shadows | 5 |
ShadowTint | 0 |
SharpenDetail | 25 |
SharpenEdgeMasking | 0 |
SharpenRadius | +1.0 |
Sharpness | 25 |
Show current layer
Show layer “Background copy”
Show layer “Curves 1”
Show layer “Curves 2”
Show layer “Curves 3” of layer “Curves 2” of layer “Curves 1” of layer “kronbladene lysere”
Show layer “kronbladene lysere”
Show layer “skjerping” of layer “knoppbalerst lysere” of layer “all over lysere” of layer “snøen lysere” of layer “kronbladene lysere”
ShutterSpeed | 1/160 |
ShutterSpeedValue | 1/160 |
Software | Adobe Photoshop CS4 Macintosh |
SplitToningBalance | 0 |
SplitToningHighlightHue | 0 |
SplitToningHighlightSaturation | 0 |
SplitToningShadowHue | 0 |
SplitToningShadowSaturation | 0 |
Target Height: 0 pixels
Target Resolution: 0 per cm
Target Width: 0 pixels
This Layer Black Min: 0
This Layer Source Black Max: 0
This Layer Source White Max: 255
This Layer Source White Min: 255
Threshold: 0
Tint | +2 |
ToneCurve | 0, 0, 32, 22, 64, 56, 128, 128, 192, 196, 255, 255 |
ToneCurveName | Medium Contrast |
Top: 4.41 cm
Type: curves
Underlying Layer Black Max: 131
Underlying Layer Black Max: 198
Underlying Layer Black Min: 131
Underlying Layer Black Min: 198
Underlying Layer Black Min: 70
Underlying Layer White Max: 255
Underlying Layer White Min: 255
Undo
Unsharp Mask
Unsharp Mask Amount: 162%
Unsharp Mask Amount: 391%
URL_List | |
Using: reveal all
Version | 5.3 |
Vertical: center
Vibrance | 0 |
VignetteAmount | 0 |
WhiteBalance (2) | As Shot |
WhiteBalance | Auto |
Width: 0.8%
With Hide
Without Layer Mask Enabled
Writer-Editor | Ge |