Felt | Verdi |
2009-04-26T16:22:56+02:00 File _MG_8492_krokus_.psd saved
2009-04-26T18:56:10+02:00 File _MG_8492_krokus_.psd opened
2009-04-26T18:56:48+02:00 File _MG_8492_krokus_.psd saved
2009-04-26T18:57:26+02:00 File _MG_8492_krokus_.jpg saved
Add Layer Mask
Adjustment: curves adjustment list
Adjustment: hue/saturation adjustment list
AlreadyApplied | True |
Angle: 0°
Aperture | 8.0 |
ApertureValue | 8.0 |
Artist | Geir Ellingsrud |
At: mask channel
AuthorsPosition | Professor |
BitsPerSample | 8 |
blend range
Blend Range List: blend range list
Blending Options
BlueHue | 0 |
BlueSaturation | 0 |
Bottom: 28.9 cm
Brightness | +90 |
Brightness: 3.137
Browse Without Maximize
Brush Tool
By-line | Geir Ellingsrud |
By-lineTitle | Professor |
CameraProfile | Adobe Standard |
Canvas Size
Canvas Size With Relative
CaptionWriter | Ge |
Channel: blue channel
Channel: composite channel
Channel: gray channel
Channel: red channel
ChromaticAberrationB | 0 |
ChromaticAberrationR | 0 |
CircleOfConfusion | 0.019 mm |
Clarity | +88 |
Color: HSB color
ColorComponents | 3 |
ColorMode | RGB |
ColorNoiseReduction | 25 |
ColorSpace | Uncalibrated |
ColorTemperature | 4350 |
Contrast | +76 |
Convert to Smart Object
ConvertToGrayscale | False |
CreateDate (1) | 2009:04:17 17:27:03.48+02:00 |
CreateDate | 2009:04:17 17:27:03 |
Creator | Geir Ellingsrud |
CreatorAddress | Ekebergveien 224c |
CreatorCity | Oslo |
CreatorCountry | Norway |
CreatorPostalCode | N-1162 |
Crop
Crop To: rectangle
Curve: point list
Curves 1 Layer
curves adjustment
CustomRendered | Normal |
DateTimeDigitized | 2009:04:17 17:27:03.48+02:00 |
DateTimeOriginal (1) | 2009:04:17 17:27:03.48+02:00 |
DateTimeOriginal | 2009:04:17 17:27:03 |
Defringe | 0 |
Delete current channel
Delete current layer
Delete Layer
Delete Layer Mask
Exchange Swatches
ExifImageHeight | 3440 |
ExifImageWidth | 4270 |
Exposure | -1.15 |
ExposureCompensation | +1/3 |
ExposureMode | Auto |
ExposureProgram | Aperture-priority AE |
ExposureTime | 1/60 |
Extension Color: color
FillLight | 21 |
Firmware | 1.0.4 |
Flash | Off, Did not fire |
FlashCompensation | 0 |
FlashFired | False |
FlashFunction | False |
FlashMode | Off |
FlashRedEyeMode | False |
FlashReturn | No return detection |
FNumber | 8.0 |
FocalLength | 200.0 mm |
FocalLength35efl | 200.0 mm (35 mm equivalent: 323.1 mm) |
Format | image/jpeg |
FOV | 6.4 deg |
GreenHue | 0 |
GreenSaturation | 0 |
Group Layers
Group Properties
HasCrop | False |
HasSettings | True |
Height: 0.8%
Hide current layer
Hide layer “bakgrunn”
Hide layer “bakgrunn” of layer “kronblader mørkere” of layer “kronblader lysere” of layer “kronblader”
Hide layer “bakgrunn” of layer “kronblader” of layer “støvbærere”
Hide layer “kronblader lysere”
Hide layer “Layer 1”
Hide layer “støvberere lysere”
HighlightRecovery | 100 |
Horizontal: center
Hue/Saturation 1 Layer
hue/saturation adjustment
Hue: 0
Hue: 264.4°
HueAdjustmentAqua | 0 |
HueAdjustmentBlue | 0 |
HueAdjustmentGreen | 0 |
HueAdjustmentMagenta | 0 |
HueAdjustmentOrange | 0 |
HueAdjustmentPurple | 0 |
HueAdjustmentRed | 0 |
HueAdjustmentYellow | 0 |
HyperfocalDistance | 268.82 m |
ICCProfileName | Adobe RGB (1998) |
ImageHeight (1) | 3413 |
ImageHeight | 3440 |
ImageNumber | 0 |
ImageSize | 4270x3440 |
ImageWidth (1) | 5120 |
ImageWidth | 4270 |
Invert
ISO | 200 |
Layer Order
Layer Properties
Layer Styles: layer styles
Layer Via Copy
Left: 0 cm
Lens | 18-200mm |
LensInfo | 18-200mm f/? |
Lightness: 0
Lightness: 35
LightValue | 10.9 |
Load Selection
LuminanceAdjustmentAqua | 0 |
LuminanceAdjustmentBlue | 0 |
LuminanceAdjustmentGreen | 0 |
LuminanceAdjustmentMagenta | 0 |
LuminanceAdjustmentOrange | 0 |
LuminanceAdjustmentPurple | 0 |
LuminanceAdjustmentRed | 0 |
LuminanceAdjustmentYellow | 0 |
LuminanceSmoothing | 0 |
Make adjustment layer Using: adjustment layer
Make Group From: current layer
Make layer
Make layer Using: layer
Make New: channel
Make | Canon |
master diameter: 101 pixels
master diameter: 141 pixels
master diameter: 145 pixels
master diameter: 288 pixels
master diameter: 360 pixels
master diameter: 45 pixels
master diameter: 463 pixels
master diameter: 764 pixels
Master Opacity Change
MaxApertureValue | 6.2 |
Megapixels | 14.7 |
MeteringMode | Multi-segment |
Mode: overlay
Model | Canon EOS 450D |
Modify Curves Layer
Modify Hue/Saturation Layer
ModifyDate (1) | 2009:04:26 18:57:26+02:00 |
ModifyDate | 2009:04:26 18:57:26 |
Move layer “kronblader mørkere” To: layer 4
Name: “bakgrunn lysere”
Name: “bakgrunn”
Name: “kronblader lysere”
Name: “kronblader mørkere”
Name: “kronblader mørker”
Name: “kronblader”
Name: “skjerping 20-200-0”
Name: “støvberere lysere”
Name: “støvbærere”
New Layer
Opacity: 0%
Opacity: 10%
Opacity: 100%
Opacity: 11%
Opacity: 14%
Opacity: 22%
Opacity: 27%
Opacity: 42%
Opacity: 45%
Opacity: 46%
Opacity: 49%
Opacity: 5%
Opacity: 65%
Opacity: 73%
Opacity: 8%
Open Macintosh HD:Users:geirellingsrud:Pictures:krokus_20090417:_MG_8492_krokus_.psd
Open Macintosh HD:Users:geirellingsrud:Pictures:krokus_20090417:i arbeid:_MG_8492_krokus_.psd
Orientation | Horizontal (normal) |
ParametricDarks | 0 |
ParametricHighlights | 0 |
ParametricHighlightSplit | 75 |
ParametricLights | 0 |
ParametricMidtoneSplit | 50 |
ParametricShadows | 0 |
ParametricShadowSplit | 25 |
Pencil
point: 0, 0
point: 105, 167
point: 134, 38
point: 154, 99
point: 255, 255
point: 51, 230
point: 55, 221
point: 69, 219
point: 77, 228
PostCropVignetteAmount | 0 |
Preset Kind: Custom
Preset Kind: Default
ProfileDescription | Adobe RGB (1998) |
Radius: 250 pixels
Rating | 0 |
RawFileName | _MG_8492.CR2 |
RedHue | 0 |
RedSaturation | 0 |
Right: 35.86 cm
Saturation | 0 |
Saturation: 19
Saturation: 33.333
Saturation: 80
SaturationAdjustmentAqua | 0 |
SaturationAdjustmentBlue | 0 |
SaturationAdjustmentGreen | 0 |
SaturationAdjustmentMagenta | 0 |
SaturationAdjustmentOrange | 0 |
SaturationAdjustmentPurple | 0 |
SaturationAdjustmentRed | 0 |
SaturationAdjustmentYellow | 0 |
Save
Scale: 416.7%
ScaleFactor35efl | 1.6 |
SceneCaptureType | Standard |
Select brush
Select color replacement tool
Select layer “Background” Without Make Visible
Select layer “bakgrunn lysere” Without Make Visible
Select layer “kronblader lysere” Without Make Visible
Select layer “kronblader mørkere” Modification: Add Continuous
Select layer “kronblader mørkere” Without Make Visible
Select layer “Layer 1” Without Make Visible
Select layer “støvberere lysere” Modification: Add Continuous
Select pencil
Select previous history state
Select RGB channel Without Make Visible
SerialNumber | 680121782 |
Set current adjustment layer To: curves
Set current adjustment layer To: hue/saturation
Set current brush To: brush
Set current layer To: layer
Set Selection To: current channel
Shadows | 5 |
ShadowTint | 0 |
SharpenDetail | 25 |
SharpenEdgeMasking | 0 |
SharpenRadius | +1.0 |
Sharpness | 25 |
Show current layer
Show layer “bakgrunn”
Show layer “bakgrunn” of layer “kronblader mørkere” of layer “kronblader lysere” of layer “kronblader”
Show layer “bakgrunn” of layer “kronblader” of layer “støvbærere”
Show layer “kronblader lysere”
Show layer “støvberere lysere”
ShutterSpeed | 1/60 |
ShutterSpeedValue | 1/60 |
Software | Adobe Photoshop CS4 Macintosh |
SplitToningBalance | 0 |
SplitToningHighlightHue | 0 |
SplitToningHighlightSaturation | 0 |
SplitToningShadowHue | 0 |
SplitToningShadowSaturation | 0 |
Target Height: 0 pixels
Target Resolution: 0 per cm
Target Width: 0 pixels
This Layer Black Min: 162
This Layer Source Black Max: 189
This Layer Source White Max: 255
This Layer Source White Min: 255
Threshold: 0
Tint | -3 |
ToneCurve | 0, 0, 32, 22, 64, 56, 128, 128, 192, 196, 255, 255 |
ToneCurveName | Medium Contrast |
Top: 0 cm
Type: curves
Type: hue/saturation
Underlying Layer Black Max: 0
Underlying Layer Black Min: 0
Underlying Layer White Max: 255
Underlying Layer White Min: 255
Undo
Unsharp Mask
Unsharp Mask Amount: 17%
URL_List | |
Using: reveal all
Version | 5.3 |
Vertical: center
Vibrance | 0 |
VignetteAmount | 0 |
WhiteBalance (2) | As Shot |
WhiteBalance | Auto |
Width: 0.8%
With Fill Neutral
With Hide
Without Adjust Selection
Without Colorize
Without Make Visible
Without New Window
Writer-Editor | Ge |