Felt | Verdi |
2009-04-17T22:11:08+02:00 File _MG_8485_krokus_.psd saved
2009-04-17T22:13:19+02:00 File _MG_8485_krokus_.psd saved
2009-04-26T11:58:31+02:00 File _MG_8485_krokus_.psd opened
2009-04-26T13:18:55+02:00 File _MG_8485_krokus_.psd saved
2009-04-26T18:52:29+02:00 File _MG_8485_krokus_.psd opened
2009-04-26T18:54:25+02:00 File _MG_8485_krokus_.psd saved
2009-04-26T18:55:27+02:00 File _MG_8485_krokus_.jpg saved
Add Layer Mask
Add Vector Mask
Adjustment: curves adjustment list
Adjustment: hue/saturation adjustment list
AlreadyApplied | True |
Angle: 0°
angle: 0°
Aperture | 6.3 |
ApertureValue | 6.3 |
Artist | Geir Ellingsrud |
At: mask channel
AuthorsPosition | Professor |
BitsPerSample | 8 |
Black & White 1 Layer
blend range
Blend Range List: blend range list
Blending Change
Blending Options
Blue: 0
blue: 121
Blue: 179.001
blue: 20
BlueHue | 0 |
BlueSaturation | 0 |
Bottom: 43.35 cm
Brightness | +38 |
Brightness/Contrast 1 Layer
Brightness: 16
Brightness: 18
Brightness: 19
Brightness: 25.882
Brightness: 3.137
Brightness: 52.941
Brightness: 8
Brush Tool
By-line | Geir Ellingsrud |
By-lineTitle | Professor |
CameraProfile | Adobe Standard |
Canvas Size
Canvas Size With Relative
CaptionWriter | Ge |
Channel: blue channel
Channel: composite channel
Channel: gray channel
Channel: green channel
Channel: red channel
ChromaticAberrationB | 0 |
ChromaticAberrationR | 0 |
CircleOfConfusion | 0.019 mm |
Clarity | +47 |
Color: HSB color
ColorComponents | 3 |
ColorMode | RGB |
ColorNoiseReduction | 25 |
ColorSpace | Uncalibrated |
ColorTemperature | 4550 |
Contrast | +54 |
Contrast: 0
Contrast: 1
Contrast: 2
Contrast: 28
Contrast: 45
Contrast: 7
Convert to Smart Object
ConvertToGrayscale | False |
CreateDate (1) | 2009:04:17 17:16:25.02+02:00 |
CreateDate | 2009:04:17 17:16:25 |
Creator | Geir Ellingsrud |
CreatorAddress | Ekebergveien 224c |
CreatorCity | Oslo |
CreatorCountry | Norway |
CreatorPostalCode | N-1162 |
Crop
Crop To: rectangle
Curve: point list
Curves 1 Layer
Curves 2 Layer
curves adjustment
CustomRendered | Normal |
cyan: 291
cyan: 60
DateTimeDigitized | 2009:04:17 17:16:25.02+02:00 |
DateTimeOriginal (1) | 2009:04:17 17:16:25.02+02:00 |
DateTimeOriginal | 2009:04:17 17:16:25 |
Defringe | 0 |
Delete current channel
Delete current layer
Delete Layer
Delete Layer Mask
Deselect
diameter: 16 pixels
Disable All Smart Filters
Disable Layer Mask
Duplicate current layer 2
Duplicate Layer
Enable All Smart Filters
Exchange Swatches
ExifImageHeight | 4842 |
ExifImageWidth | 3023 |
Exposure | -0.65 |
ExposureCompensation | 0 |
ExposureMode | Auto |
ExposureProgram | Aperture-priority AE |
ExposureTime | 1/250 |
Extension Color: color
false
Fill Opacity Change
Fill Opacity: 99%
FillLight | 20 |
Firmware | 1.0.4 |
Flash | Off, Did not fire |
FlashCompensation | 0 |
FlashFired | False |
FlashFunction | False |
FlashMode | Off |
FlashRedEyeMode | False |
FlashReturn | No return detection |
FNumber | 6.3 |
FocalLength | 63.0 mm |
FocalLength35efl | 63.0 mm (35 mm equivalent: 101.8 mm) |
Format | image/jpeg |
FOV | 20.1 deg |
Gray: 77.03
Gray: 85.1
Green: 117.066
Green: 125.603
Green: 136.23
Green: 183.763
Green: 184.72
Green: 210.401
Green: 211.001
Green: 212.603
green: 40
GreenHue | 0 |
GreenSaturation | 0 |
Group Layers
Group Properties
hardness: 100%
HasCrop | False |
HasSettings | True |
Height: 0.8%
Hide current layer
Hide filter effects of current layer
Hide layer “bakgrunn lysere og mer blå”
Hide layer “bakgrunn mørkere og blå”
Hide layer “bakgrunnen”
Hide layer “bakgrunnen” of layer “jorden” of layer “kronbladene”
Hide layer “Black & White 1”
Hide layer “Brightness/Contrast 1”
Hide layer “Curves 1”
Hide layer “Curves 2”
Hide layer “jorden”
Hide layer “kronbladene mørkere”
Hide layer “kronbladene”
Hide layer “Layer 1”
Hide layer “mørkere krinblader”
Hide layer “overlay”
Hide layer “skjerping 30-250-0”
Hide layer “skjerping 30-250-0” of layer “blader og kronblader” of layer “bakgrunnen” of layer “jorden” of layer “kronbladene” of layer “overlay” of layer “Brightness/Contrast 1” of layer “over all lyshet”
HighlightRecovery | 100 |
Horizontal: center
Hue/Saturation 1 Layer
hue/saturation adjustment
Hue: 0
Hue: 264.4°
HueAdjustmentAqua | 0 |
HueAdjustmentBlue | 0 |
HueAdjustmentGreen | 0 |
HueAdjustmentMagenta | 0 |
HueAdjustmentOrange | 0 |
HueAdjustmentPurple | 0 |
HueAdjustmentRed | 0 |
HueAdjustmentYellow | 0 |
HyperfocalDistance | 33.87 m |
ICCProfileName | Adobe RGB (1998) |
ImageHeight | 4842 |
ImageNumber | 0 |
ImageSize | 3023x4842 |
ImageWidth | 3023 |
Invert
ISO | 200 |
Label | Select |
Layer Order
Layer Properties
Layer Styles: layer styles
Layer Via Copy
Left: 0 cm
Lens | 18-200mm |
LensInfo | 18-200mm f/? |
Lightness: -19
Lightness: -7
Lightness: 0
LightValue | 12.3 |
Load Selection
LuminanceAdjustmentAqua | 0 |
LuminanceAdjustmentBlue | 0 |
LuminanceAdjustmentGreen | 0 |
LuminanceAdjustmentMagenta | 0 |
LuminanceAdjustmentOrange | 0 |
LuminanceAdjustmentPurple | 0 |
LuminanceAdjustmentRed | 0 |
LuminanceAdjustmentYellow | 0 |
LuminanceSmoothing | 0 |
magenta: 274
magenta: 80
Make adjustment layer Using: adjustment layer
Make Group From: current layer
Make layer
Make layer Using: layer
Make New: channel
Make path At: vector mask path
Make | Canon |
master diameter: 127 pixels
master diameter: 13 pixels
master diameter: 137 pixels
master diameter: 139 pixels
master diameter: 152 pixels
master diameter: 182 pixels
master diameter: 29 pixels
master diameter: 319 pixels
master diameter: 360 pixels
master diameter: 38 pixels
master diameter: 411 pixels
master diameter: 45 pixels
master diameter: 453 pixels
master diameter: 49 pixels
master diameter: 56 pixels
master diameter: 666 pixels
master diameter: 71 pixels
master diameter: 88 pixels
master diameter: 960 pixels
master diameter: 99 pixels
Master Opacity Change
MaxApertureValue | 5.2 |
Megapixels | 14.6 |
MeteringMode | Multi-segment |
Mode: color
Mode: difference
Mode: hard light
Mode: hue
Mode: luminosity
Mode: normal
Mode: overlay
Mode: saturation
Mode: soft light
Model | Canon EOS 450D |
Modify Black & White Layer
Modify Brightness/Contrast Layer
Modify Curves Layer
Modify Hue/Saturation Layer
ModifyDate (1) | 2009:04:26 18:55:27+02:00 |
ModifyDate | 2009:04:26 18:55:27 |
Move current layer To: layer 13
Move layer “overlay” To: layer 17
Name: “bakgrunn lysere og blå”
Name: “bakgrunn lysere og mer blå”
Name: “bakgrunn mørkere og blå”
Name: “bakgrunnen”
Name: “blader og kronblader”
Name: “jord lys”
Name: “jord mørk”
Name: “jorden”
Name: “kronbladene mørkere”
Name: “kronbladene”
Name: “lyserkronblader”
Name: “mørkedelen av kronbladene”
Name: “mørkere krinblader”
Name: “over all lyshet”
Name: “overlay”
Name: “skjerping 30-250-0”
Name: “støvbærer lyser og gulere”
New Layer
Opacity: 0%
Opacity: 10%
Opacity: 100%
Opacity: 13%
Opacity: 16%
Opacity: 17%
Opacity: 21%
Opacity: 27%
Opacity: 29%
Opacity: 32%
Opacity: 33%
Opacity: 34%
Opacity: 35%
Opacity: 36%
Opacity: 38%
Opacity: 42%
Opacity: 48%
Opacity: 5%
Opacity: 50%
Opacity: 51%
Opacity: 55%
Opacity: 59%
Opacity: 61%
Opacity: 67%
Opacity: 68%
Opacity: 7%
Opacity: 8%
Opacity: 82%
Open Macintosh HD:Users:geirellingsrud:Pictures:20090417:i arbeid:_MG_8485_krokus_.psd
Open Macintosh HD:Users:geirellingsrud:Pictures:krokus_20090417:_MG_8485_krokus_.psd
Orientation | Horizontal (normal) |
ParametricDarks | 0 |
ParametricHighlights | 0 |
ParametricHighlightSplit | 75 |
ParametricLights | 0 |
ParametricMidtoneSplit | 50 |
ParametricShadows | 0 |
ParametricShadowSplit | 25 |
Pencil
point: 0, 0
point: 100, 160
point: 103, 237
point: 115, 156
point: 118, 71
point: 119, 148
point: 120, 160
point: 124, 101
point: 127, 128
point: 142, 79
point: 149, 150
point: 153, 100
point: 160, 157
point: 177, 29
point: 185, 93
point: 196, 219
point: 198, 28
point: 208, 210
point: 227, 241
point: 255, 255
point: 34, 223
point: 35, 194
point: 35, 36
point: 38, 232
point: 41, 35
point: 44, 241
point: 48, 216
point: 51, 43
point: 60, 232
point: 64, 229
point: 69, 211
point: 71, 85
point: 72, 155
point: 74, 254
point: 78, 235
point: 81, 109
point: 83, 93
point: 87, 213
point: 88, 215
point: 93, 143
point: 94, 190
point: 97, 211
point: 99, 170
point: 99, 190
PostCropVignetteAmount | 0 |
Preset Kind: Custom
Preset Kind: Default
ProfileDescription | Adobe RGB (1998) |
Radius: 1.3 pixels
Radius: 152 pixels
Radius: 62.8 pixels
Rating | 4 |
RawFileName | _MG_8485.CR2 |
Red: 180.331
Red: 204.362
Red: 217.529
Red: 225
Red: 237.163
Red: 237.202
Red: 246.759
Red: 251.397
red: 40
RedHue | 0 |
Redo
RedSaturation | 0 |
Reset Swatches
Right: 25.39 cm
roundness: 100%
Saturation | 0 |
Saturation: 24
Saturation: 3.137
Saturation: 3.922
Saturation: 32
Saturation: 33.333
Saturation: 80
SaturationAdjustmentAqua | 0 |
SaturationAdjustmentBlue | 0 |
SaturationAdjustmentGreen | 0 |
SaturationAdjustmentMagenta | 0 |
SaturationAdjustmentOrange | 0 |
SaturationAdjustmentPurple | 0 |
SaturationAdjustmentRed | 0 |
SaturationAdjustmentYellow | 0 |
Save
Scale: 416.7%
ScaleFactor35efl | 1.6 |
SceneCaptureType | Standard |
Select brush
Select color replacement tool
Select dodge
Select eraser
Select history state -8
Select layer “Background copy” Without Make Visible
Select layer “Background” Without Make Visible
Select layer “bakgrunn lysere og blå” Without Make Visible
Select layer “bakgrunn lysere og mer blå” Modification: Add Continuous
Select layer “bakgrunn mørkere og blå” Without Make Visible
Select layer “bakgrunnen” Without Make Visible
Select layer “Black & White 1” Without Make Visible
Select layer “Brightness/Contrast 1” Without Make Visible
Select layer “Curves 1 copy” Without Make Visible
Select layer “Curves 1” Modification: Remove
Select layer “Curves 1” Without Make Visible
Select layer “Hue/Saturation 1” Without Make Visible
Select layer “jord mørk” Modification: Add Continuous
Select layer “jorden” Without Make Visible
Select layer “kronbladene mørkere” Without Make Visible
Select layer “kronbladene” Modification: Add Continuous
Select layer “kronbladene” Without Make Visible
Select layer “Layer 1” Without Make Visible
Select layer “lyserkronblader” Without Make Visible
Select layer “mørkere krinblader” Modification: Add Continuous
Select layer “over all lyshet” Without Make Visible
Select layer “overlay” Without Make Visible
Select layer “støvbærer lyser og gulere” Without Make Visible
Select mask channel Without Make Visible
Select pencil
Select previous history state
Select RGB channel Without Make Visible
Select spot healing brush
SerialNumber | 680121782 |
Set current adjustment layer To: black and white
Set current adjustment layer To: brightness/contrast
Set current adjustment layer To: curves
Set current adjustment layer To: hue/saturation
Set current brush To: brush
Set current brush To: computed brush
Set current layer To: layer
Set Foreground Color To: grayscale
Set Foreground Color To: RGB color
Set Selection To: current channel
Set Selection To: mask channel of layer “Curves 1”
Set Selection To: mask channel of layer “mørkere krinblader”
Set Selection To: none
Shadows | 5 |
ShadowTint | 0 |
SharpenDetail | 25 |
SharpenEdgeMasking | 0 |
SharpenRadius | +1.0 |
Sharpness | 25 |
Show current layer
Show filter effects of current layer
Show layer “bakgrunn lysere og mer blå” of layer “bakgrunn mørkere og blå” of layer “kronbladene”
Show layer “bakgrunn mørkere og blå”
Show layer “bakgrunnen”
Show layer “bakgrunnen” of layer “jorden” of layer “kronbladene”
Show layer “Black & White 1”
Show layer “Brightness/Contrast 1”
Show layer “Curves 1”
Show layer “Curves 2”
Show layer “jorden”
Show layer “kronbladene mørkere”
Show layer “kronbladene”
Show layer “mørkere krinblader”
Show layer “overlay”
Show layer “skjerping 30-250-0”
Show layer “skjerping 30-250-0” of layer “blader og kronblader” of layer “bakgrunnen” of layer “jorden” of layer “kronbladene” of layer “overlay” of layer “Brightness/Contrast 1” of layer “over all lyshet”
ShutterSpeed | 1/250 |
ShutterSpeedValue | 1/250 |
Software | Adobe Photoshop CS4 Macintosh |
spacing: 25%
SplitToningBalance | 0 |
SplitToningHighlightHue | 0 |
SplitToningHighlightSaturation | 0 |
SplitToningShadowHue | 0 |
SplitToningShadowSaturation | 0 |
Target Height: 0 pixels
Target Resolution: 0 per cm
Target Width: 0 pixels
This Layer Black Min: 0
This Layer Black Min: 143
This Layer Black Min: 162
This Layer Source Black Max: 0
This Layer Source Black Max: 168
This Layer Source Black Max: 178
This Layer Source White Max: 107
This Layer Source White Max: 157
This Layer Source White Max: 255
This Layer Source White Min: 110
This Layer Source White Min: 255
This Layer Source White Min: 84
Threshold: 0
tint color: RGB color
Tint | +2 |
ToneCurve | 0, 0, 32, 22, 64, 56, 128, 128, 192, 196, 255, 255 |
ToneCurveName | Medium Contrast |
Top: 2.67 cm
true
Type: black and white
Type: brightness/contrast
Type: curves
Type: hue/saturation
Underlying Layer Black Max: 0
Underlying Layer Black Min: 0
Underlying Layer White Max: 255
Underlying Layer White Min: 255
Undo
Unsharp Mask
Unsharp Mask Amount: 136%
Unsharp Mask Amount: 19%
Unsharp Mask Amount: 21%
Unsharp Mask Amount: 22%
URL_List | |
Using: reveal all
Using: reveal selection
Version | 5.3 |
Vertical: center
Vibrance | 0 |
VignetteAmount | 0 |
WhiteBalance (2) | As Shot |
WhiteBalance | Auto |
Width: 0.8%
With Fill Neutral
With Hide
Without Adjust Selection
Without Colorize
Without Layer Mask Enabled
Without Make Visible
Without tinting
Writer-Editor | Ge |
yellow: 60